Workbook

Sheet 1
A1: Munkahely | D1: Jelentett esetszám | G1: Jelentett beavatkozásszám | J1: Jelentett pontszám
D2: Összesen. | G2: Összesen: | J2: Összesen:
D3: 2013 | E3: 2014 | F3: trend | G3: 2013 | H3: 2014 | I3: trend | J3: 2013 | K3: 2014 | L3: trend
A4: Általános belgyógyászat | D4: ='1 (szegedi)'!D4+'1 (visegrádi)'!D4 -> 2531 | E4: ='1 (szegedi)'!E4+'1 (visegrádi)'!E4 -> 2488 | F4: =E4/D4 -> 0.98301067 | G4: ='1 (szegedi)'!G4+'1 (visegrádi)'!G4 -> 7258 | H4: ='1 (szegedi)'!H4+'1 (visegrádi)'!H4 -> 6780 | I4: =H4/G4 -> 0.93414164 | J4: ='1 (szegedi)'!J4+'1 (visegrádi)'!J4 -> 2736596 | K4: ='1 (szegedi)'!K4+'1 (visegrádi)'!K4 -> 2592966 | L4: =K4/J4 -> 0.94751509
A5: Belgyógyászat-Diabetológia | D5: ='1 (szegedi)'!D5+'1 (visegrádi)'!D5 -> 3538 | E5: ='1 (szegedi)'!E5+'1 (visegrádi)'!E5 -> 3484 | F5: =E5/D5 -> 0.98473714 | G5: ='1 (szegedi)'!G5+'1 (visegrádi)'!G5 -> 10254 | H5: ='1 (szegedi)'!H5+'1 (visegrádi)'!H5 -> 10752 | I5: =H5/G5 -> 1.0485664 | J5: ='1 (szegedi)'!J5+'1 (visegrádi)'!J5 -> 1688042 | K5: ='1 (szegedi)'!K5+'1 (visegrádi)'!K5 -> 1805231 | L5: =K5/J5 -> 1.069423
A6: Gasztroenterológia | D6: ='1 (szegedi)'!D6+'1 (visegrádi)'!D6 -> 2936 | E6: ='1 (szegedi)'!E6+'1 (visegrádi)'!E6 -> 2810 | F6: =E6/D6 -> 0.95708447 | G6: ='1 (szegedi)'!G6+'1 (visegrádi)'!G6 -> 5729 | H6: ='1 (szegedi)'!H6+'1 (visegrádi)'!H6 -> 5398 | I6: =H6/G6 -> 0.94222377 | J6: ='1 (szegedi)'!J6+'1 (visegrádi)'!J6 -> 6662080 | K6: ='1 (szegedi)'!K6+'1 (visegrádi)'!K6 -> 5824525 | L6: =K6/J6 -> 0.87428025
A7: Kardiológia | D7: ='1 (szegedi)'!D7+'1 (visegrádi)'!D7 -> 12640 | E7: ='1 (szegedi)'!E7+'1 (visegrádi)'!E7 -> 12268 | F7: =E7/D7 -> 0.97056962 | G7: ='1 (szegedi)'!G7+'1 (visegrádi)'!G7 -> 30956 | H7: ='1 (szegedi)'!H7+'1 (visegrádi)'!H7 -> 30343 | I7: =H7/G7 -> 0.9801977 | J7: ='1 (szegedi)'!J7+'1 (visegrádi)'!J7 -> 24129444 | K7: ='1 (szegedi)'!K7+'1 (visegrádi)'!K7 -> 23934422 | L7: =K7/J7 -> 0.99191768
A8: Sebészet | D8: ='1 (szegedi)'!D8+'1 (visegrádi)'!D8 -> 23212 | E8: ='1 (szegedi)'!E8+'1 (visegrádi)'!E8 -> 23661 | F8: =E8/D8 -> 1.0193434 | G8: ='1 (szegedi)'!G8+'1 (visegrádi)'!G8 -> 117327 | H8: ='1 (szegedi)'!H8+'1 (visegrádi)'!H8 -> 117004 | I8: =H8/G8 -> 0.99724701 | J8: ='1 (szegedi)'!J8+'1 (visegrádi)'!J8 -> 38298667 | K8: ='1 (szegedi)'!K8+'1 (visegrádi)'!K8 -> 38579104 | L8: =K8/J8 -> 1.0073224
A9: Traumatológia | D9: ='1 (szegedi)'!D9+'1 (visegrádi)'!D9 -> 13631 | E9: ='1 (szegedi)'!E9+'1 (visegrádi)'!E9 -> 13641 | F9: =E9/D9 -> 1.0007336 | G9: ='1 (szegedi)'!G9+'1 (visegrádi)'!G9 -> 61044 | H9: ='1 (szegedi)'!H9+'1 (visegrádi)'!H9 -> 60173 | I9: =H9/G9 -> 0.9857316 | J9: ='1 (szegedi)'!J9+'1 (visegrádi)'!J9 -> 20015763 | K9: ='1 (szegedi)'!K9+'1 (visegrádi)'!K9 -> 19997428 | L9: =K9/J9 -> 0.99908397
A10: Proktológia | D10: ='1 (szegedi)'!D10+'1 (visegrádi)'!D10 -> 2185 | E10: ='1 (szegedi)'!E10+'1 (visegrádi)'!E10 -> 2438 | F10: =E10/D10 -> 1.1157895 | G10: ='1 (szegedi)'!G10+'1 (visegrádi)'!G10 -> 10088 | H10: ='1 (szegedi)'!H10+'1 (visegrádi)'!H10 -> 11269 | I10: =H10/G10 -> 1.1170698 | J10: ='1 (szegedi)'!J10+'1 (visegrádi)'!J10 -> 3106207 | K10: ='1 (szegedi)'!K10+'1 (visegrádi)'!K10 -> 3469260 | L10: =K10/J10 -> 1.1168798
A11: Aneszteziológia | D11: ='1 (szegedi)'!D11+'1 (visegrádi)'!D11 -> 1152 | E11: ='1 (szegedi)'!E11+'1 (visegrádi)'!E11 -> 997 | F11: =E11/D11 -> 0.86545139 | G11: ='1 (szegedi)'!G11+'1 (visegrádi)'!G11 -> 2272 | H11: ='1 (szegedi)'!H11+'1 (visegrádi)'!H11 -> 1985 | I11: =H11/G11 -> 0.87367958 | J11: ='1 (szegedi)'!J11+'1 (visegrádi)'!J11 -> 1508532 | K11: ='1 (szegedi)'!K11+'1 (visegrádi)'!K11 -> 1319274 | L11: =K11/J11 -> 0.87454161
A12: Nőgyógyászat-terhesgond. | D12: ='1 (szegedi)'!D12+'1 (visegrádi)'!D12 -> 23352 | E12: ='1 (szegedi)'!E12+'1 (visegrádi)'!E12 -> 22308 | F12: =E12/D12 -> 0.95529291 | G12: ='1 (szegedi)'!G12+'1 (visegrádi)'!G12 -> 85603 | H12: ='1 (szegedi)'!H12+'1 (visegrádi)'!H12 -> 84883 | I12: =H12/G12 -> 0.99158908 | J12: ='1 (szegedi)'!J12+'1 (visegrádi)'!J12 -> 31626207 | K12: ='1 (szegedi)'!K12+'1 (visegrádi)'!K12 -> 30178931 | L12: =K12/J12 -> 0.95423808
A13: Fül-orr - gégészet | D13: ='1 (szegedi)'!D13+'1 (visegrádi)'!D13 -> 21372 | E13: ='1 (szegedi)'!E13+'1 (visegrádi)'!E13 -> 22108 | F13: =E13/D13 -> 1.0344376 | G13: ='1 (szegedi)'!G13+'1 (visegrádi)'!G13 -> 81179 | H13: ='1 (szegedi)'!H13+'1 (visegrádi)'!H13 -> 81168 | I13: =H13/G13 -> 0.9998645 | J13: ='1 (szegedi)'!J13+'1 (visegrádi)'!J13 -> 20369497 | K13: ='1 (szegedi)'!K13+'1 (visegrádi)'!K13 -> 20722891 | L13: =K13/J13 -> 1.0173492
A14: Audiológia | D14: ='1 (szegedi)'!D14+'1 (visegrádi)'!D14 -> 1604 | E14: ='1 (szegedi)'!E14+'1 (visegrádi)'!E14 -> 1607 | F14: =E14/D14 -> 1.0018703 | G14: ='1 (szegedi)'!G14+'1 (visegrádi)'!G14 -> 11130 | H14: ='1 (szegedi)'!H14+'1 (visegrádi)'!H14 -> 11541 | I14: =H14/G14 -> 1.0369272 | J14: ='1 (szegedi)'!J14+'1 (visegrádi)'!J14 -> 2457359 | K14: ='1 (szegedi)'!K14+'1 (visegrádi)'!K14 -> 2493872 | L14: =K14/J14 -> 1.0148586
A15: Szemészet | D15: ='1 (szegedi)'!D15+'1 (visegrádi)'!D15 -> 25200 | E15: ='1 (szegedi)'!E15+'1 (visegrádi)'!E15 -> 24857 | F15: =E15/D15 -> 0.98638889 | G15: ='1 (szegedi)'!G15+'1 (visegrádi)'!G15 -> 248061 | H15: ='1 (szegedi)'!H15+'1 (visegrádi)'!H15 -> 239185 | I15: =H15/G15 -> 0.96421848 | J15: ='1 (szegedi)'!J15+'1 (visegrádi)'!J15 -> 42009348 | K15: ='1 (szegedi)'!K15+'1 (visegrádi)'!K15 -> 40971733 | L15: =K15/J15 -> 0.97530038
... A28: Fogászat (szakellátás) | D28: ='1 (szegedi)'!D28+'1 (visegrádi)'!D28 -> 6218 | E28: ='1 (szegedi)'!E28+'1 (visegrádi)'!E28 -> 6308 | F28: =E28/D28 -> 1.0144741 | G28: ='1 (szegedi)'!G28+'1 (visegrádi)'!G28 -> 15720 | H28: ='1 (szegedi)'!H28+'1 (visegrádi)'!H28 -> 15095 | I28: =H28/G28 -> 0.96024173 | J28: ='1 (szegedi)'!J28+'1 (visegrádi)'!J28 -> 6145300 | K28: ='1 (szegedi)'!K28+'1 (visegrádi)'!K28 -> 6906730 | L28: =K28/J28 -> 1.1239044
A30: Összes szakrendelés | D30: =SUM(D4:D28)-D27-D28 -> 379280 | E30: =SUM(E4:E28)-E27-E28 -> 376821 | F30: =E30/D30 -> 0.99351666 | G30: =SUM(G4:G28)-G27-G28 -> 1891911 | H30: =SUM(H4:H28)-H27-H28 -> 1834461 | I30: =H30/G30 -> 0.96963388 | J30: =SUM(J4:J28)-J27-J28 -> 481972490 | K30: =SUM(K4:K28)-K27-K28 -> 482448365 | L30: =K30/J30 -> 1.0009873
A32: Összes labor | D32: ='1 (szegedi)'!D32+'1 (visegrádi)'!D32 -> 71300 | E32: ='1 (szegedi)'!E32+'1 (visegrádi)'!E32 -> 73115 | F32: =E32/D32 -> 1.0254558 | G32: ='1 (szegedi)'!G32+'1 (visegrádi)'!G32 -> 1202362 | H32: ='1 (szegedi)'!H32+'1 (visegrádi)'!H32 -> 1282724 | I32: =H32/G32 -> 1.0668368 | J32: ='1 (szegedi)'!J32+'1 (visegrádi)'!J32 -> 195536965 | K32: ='1 (szegedi)'!K32+'1 (visegrádi)'!K32 -> 210935828 | L32: =K32/J32 -> 1.0787517
A33: Összes fogászat | D33: =D27+D28 -> 6432 | E33: =E27+E28 -> 6529 | F33: =E33/D33 -> 1.0150808 | G33: =G27+G28 -> 16806 | H33: =H27+H28 -> 16212 | I33: =H33/G33 -> 0.96465548 | J33: =J27+J28 -> 6454310 | K33: =K27+K28 -> 7191255 | L33: =K33/J33 -> 1.1141787
A35: összesen: | D35: =SUM(D30:D33) -> 457012 | E35: =SUM(E30:E33) -> 456465 | F35: =E35/D35 -> 0.99880309 | G35: =SUM(G30:G33) -> 3111079 | H35: =SUM(H30:H33) -> 3133397 | I35: =H35/G35 -> 1.0071737 | J35: =SUM(J30:J33) -> 683963765 | K35: =SUM(K30:K33) -> 700575448 | L35: =K35/J35 -> 1.0242874

Sheet 1 (szegedi)
A1: Munkahely | D1: Jelentett esetszám | G1: Jelentett beavatkozásszám | J1: Jelentett pontszám
D2: Összesen. | G2: Összesen: | J2: Összesen:
D3: 2013 | E3: 2014 | F3: trend | G3: 2013 | H3: 2014 | I3: trend | J3: 2013 | K3: 2014 | L3: trend
A4: Általános belgyógyászat | D4: 2531 | E4: 2488 | F4: =E4/D4 -> 0.98301067 | G4: 7258 | H4: 6780 | I4: =H4/G4 -> 0.93414164 | J4: 2736596 | K4: 2592966 | L4: =K4/J4 -> 0.94751509
A5: Belgyógyászat-Diabetológia | D5: 3538 | E5: 3484 | F5: =E5/D5 -> 0.98473714 | G5: 10254 | H5: 10752 | I5: =H5/G5 -> 1.0485664 | J5: 1688042 | K5: 1805231 | L5: =K5/J5 -> 1.069423
A6: Gasztroenterológia | D6: 2936 | E6: 2810 | F6: =E6/D6 -> 0.95708447 | G6: 5729 | H6: 5398 | I6: =H6/G6 -> 0.94222377 | J6: 6662080 | K6: 5824525 | L6: =K6/J6 -> 0.87428025
A7: Kardiológia-EKG | D7: 12640 | E7: 12268 | F7: =E7/D7 -> 0.97056962 | G7: 30956 | H7: 30343 | I7: =H7/G7 -> 0.9801977 | J7: 24129444 | K7: 23934422 | L7: =K7/J7 -> 0.99191768
A8: Sebészet** | D8: 20923 | E8: 23661 | F8: =E8/D8 -> 1.1308608 | G8: 104871 | H8: 117004 | I8: =H8/G8 -> 1.1156945 | J8: 34314647 | K8: 38579104 | L8: =K8/J8 -> 1.1242751
A9: Traumatológia** | D9: 12504 | E9: 13641 | F9: =E9/D9 -> 1.0909309 | G9: 55636 | H9: 60173 | I9: =H9/G9 -> 1.0815479 | J9: 18362951 | K9: 19997428 | L9: =K9/J9 -> 1.0890095
A10: Proktológia | D10: 2185 | E10: 2438 | F10: =E10/D10 -> 1.1157895 | G10: 10088 | H10: 11269 | I10: =H10/G10 -> 1.1170698 | J10: 3106207 | K10: 3469260 | L10: =K10/J10 -> 1.1168798
A11: Aneszteziológia | D11: 1152 | E11: 997 | F11: =E11/D11 -> 0.86545139 | G11: 2272 | H11: 1985 | I11: =H11/G11 -> 0.87367958 | J11: 1508532 | K11: 1319274 | L11: =K11/J11 -> 0.87454161
A12: Nőgyógyászat-terhesgond. | D12: 12480 | E12: 12064 | F12: =E12/D12 -> 0.96666667 | G12: 48834 | H12: 45622 | I12: =H12/G12 -> 0.93422615 | J12: 18446898 | K12: 16856737 | L12: =K12/J12 -> 0.91379792
A13: Fül-orr - gégészet | D13: 10062 | E13: 11053 | F13: =E13/D13 -> 1.0984894 | G13: 29281 | H13: 31075 | I13: =H13/G13 -> 1.0612684 | J13: 8771980 | K13: 9350075 | L13: =K13/J13 -> 1.0659025
A14: Audiológia | D14: 1604 | E14: 1607 | F14: =E14/D14 -> 1.0018703 | G14: 11130 | H14: 11541 | I14: =H14/G14 -> 1.0369272 | J14: 2457359 | K14: 2493872 | L14: =K14/J14 -> 1.0148586
A15: Szemészet | D15: 13096 | E15: 12779 | F15: =E15/D15 -> 0.97579414 | G15: 121641 | H15: 117741 | I15: =H15/G15 -> 0.96793844 | J15: 21283894 | K15: 20740767 | L15: =K15/J15 -> 0.97448178
A16: Bőrgyógyászat* | D16: 2558 | E16: 0 | F16: =E16/D16 -> 0 | G16: 6246 | H16: 0 | I16: =H16/G16 -> 0 | J16: 2600395 | K16: 0 | L16: =K16/J16 -> 0
A17: Allergológia | D17: 0 | E17: 0 | G17: 0 | H17: 0 | J17: 0 | K17: 0
A18: Ideggyógyászat | D18: 9135 | E18: 9429 | F18: =E18/D18 -> 1.0321839 | G18: 40373 | H18: 41067 | I18: =H18/G18 -> 1.0171897 | J18: 9102306 | K18: 9421430 | L18: =K18/J18 -> 1.0350597
A19: Elmegyógyászat | D19: 1137 | E19: 1031 | F19: =E19/D19 -> 0.90677221 | G19: 2212 | H19: 1991 | I19: =H19/G19 -> 0.90009042 | J19: 1263648 | K19: 1137298 | L19: =K19/J19 -> 0.90001171
A20: Ortopédia | D20: 7099 | E20: 7627 | F20: =E20/D20 -> 1.0743767 | G20: 26120 | H20: 27400 | I20: =H20/G20 -> 1.0490046 | J20: 9833857 | K20: 10384380 | L20: =K20/J20 -> 1.0559824
A21: Urológia | D21: 10923 | E21: 11027 | F21: =E21/D21 -> 1.0095212 | G21: 45757 | H21: 46811 | I21: =H21/G21 -> 1.0230347 | J21: 14962682 | K21: 15550987 | L21: =K21/J21 -> 1.0393182
A22: Radiológia | D22: 30168 | E22: 35202 | F22: =E22/D22 -> 1.1668656 | G22: 81634 | H22: 96903 | I22: =H22/G22 -> 1.1870422 | J22: 57488897 | K22: 67922908 | L22: =K22/J22 -> 1.1814961
A23: Reumatológia | D23: 19385 | E23: 17908 | F23: =E23/D23 -> 0.92380707 | G23: 197028 | H23: 185095 | I23: =H23/G23 -> 0.939435 | J23: 28095092 | K23: 25836385 | L23: =K23/J23 -> 0.91960493
A24: ODM-Menopausa | D24: 4861 | E24: 4445 | F24: =E24/D24 -> 0.9144209 | G24: 7396 | H24: 7034 | I24: =H24/G24 -> 0.95105462 | J24: 11037880 | K24: 10363262 | L24: =K24/J24 -> 0.93888156
A25: Fizikotherapia | D25: 42091 | E25: 38292 | F25: =E25/D25 -> 0.90974318 | G25: 142764 | H25: 108360 | I25: =H25/G25 -> 0.75901488 | J25: 25503014 | K25: 21037268 | L25: =K25/J25 -> 0.8248934
A26: Gyógytorna | D26: 20228 | E26: 21884 | F26: =E26/D26 -> 1.0818667 | G26: 142812 | H26: 152921 | I26: =H26/G26 -> 1.0707854 | J26: 19781878 | K26: 21164812 | L26: =K26/J26 -> 1.0699091
A27: Fogászat (alapellátás) | E27: 0 | K27: 0
A28: Fogászat (szakellátás)
E29: 0
A30: Összes szakrendelés | D30: =SUM(D4:D28)-D27-D28 -> 243236 | E30: =SUM(E4:E28)-E27-E28 -> 246135 | F30: =E30/D30 -> 1.0119185 | G30: =SUM(G4:G28)-G27-G28 -> 1130292 | H30: =SUM(H4:H28)-H27-H28 -> 1117265 | I30: =H30/G30 -> 0.98847466 | J30: =SUM(J4:J28)-J27-J28 -> 323138279 | K30: =SUM(K4:K28)-K27-K28 -> 329782391 | L30: =K30/J30 -> 1.0205612
A32: Összes labor | D32: 71300 | E32: 73115 | F32: =E32/D32 -> 1.0254558 | G32: 1202362 | H32: 1282724 | I32: =H32/G32 -> 1.0668368 | J32: 195536965 | K32: 210935828 | L32: =K32/J32 -> 1.0787517
A33: Összes fogászat | D33: =D27+D28 -> 0 | E33: =E27+E28 -> 0 | G33: =G27+G28 -> 0 | H33: =H27+H28 -> 0 | J33: =J27+J28 -> 0 | K33: =K27+K28 -> 0
A35: összesen: | D35: =SUM(D30:D33) -> 314536 | E35: =SUM(E30:E33) -> 319250 | F35: =E35/D35 -> 1.0149872 | G35: =SUM(G30:G33) -> 2332654 | H35: =SUM(H30:H33) -> 2399989 | I35: =H35/G35 -> 1.0288663 | J35: =SUM(J30:J33) -> 518675244 | K35: =SUM(K30:K33) -> 540718219 | L35: =K35/J35 -> 1.0424986
A37: * Bőrgyógyászat szakrendelés 2013.03.01-től A Visegrádi utcai rendelőben
A38: ** Sebészet-Traumatológia szakrendelés 2013.03.01-től csak a Szegedi úti rendelőben

Sheet 1 (visegrádi)
A1: Munkahely | D1: Jelentett esetszám | G1: Jelentett beavatkozásszám | J1: Jelentett pontszám
D2: Összesen. | G2: Összesen: | J2: Összesen:
D3: 2013 | E3: 2014 | F3: trend | G3: 2013 | H3: 2014 | I3: trend | J3: 2013 | K3: 2014 | L3: trend
A4: Általános belgyógyászat
A5: Belgyógyászat-Diabetológia
A6: Gasztroenterológia
A7: Kardiológia
A8: Sebészet** | D8: 2289 | F8: =E8/D8 -> 0 | G8: 12456 | I8: =H8/G8 -> 0 | J8: 3984020 | L8: =K8/J8 -> 0
A9: Traumatológia** | D9: 1127 | F9: =E9/D9 -> 0 | G9: 5408 | I9: =H9/G9 -> 0 | J9: 1652812 | L9: =K9/J9 -> 0
A10: Proktológia | D10: 0 | G10: 0 | J10: 0
A11: Aneszteziológia | D11: 0 | G11: 0 | J11: 0
A12: Nőgyógyászat-terhesgond. | D12: 10872 | E12: 10244 | F12: =E12/D12 -> 0.94223694 | G12: 36769 | H12: 39261 | I12: =H12/G12 -> 1.0677745 | J12: 13179309 | K12: 13322194 | L12: =K12/J12 -> 1.0108416
A13: Fül-orr - gégészet | D13: 11310 | E13: 11055 | F13: =E13/D13 -> 0.97745358 | G13: 51898 | H13: 50093 | I13: =H13/G13 -> 0.96522024 | J13: 11597517 | K13: 11372816 | L13: =K13/J13 -> 0.98062508
A14: Audiológia | D14: 0 | E14: 0 | G14: 0 | H14: 0 | J14: 0 | K14: 0
A15: Szemészet | D15: 12104 | E15: 12078 | F15: =E15/D15 -> 0.99785195 | G15: 126420 | H15: 121444 | I15: =H15/G15 -> 0.96063914 | J15: 20725454 | K15: 20230966 | L15: =K15/J15 -> 0.97614103
A16: Bőrgyógyászat* | D16: 12085 | E16: 15892 | F16: =E16/D16 -> 1.3150186 | G16: 43035 | H16: 59016 | I16: =H16/G16 -> 1.3713489 | J16: 13260514 | K16: 18012438 | L16: =K16/J16 -> 1.3583514
A17: Allergológia | D17: 1496 | E17: 1537 | F17: =E17/D17 -> 1.0274064 | G17: 18216 | H17: 21645 | I17: =H17/G17 -> 1.1882411 | J17: 6104470 | K17: 7114923 | L17: =K17/J17 -> 1.1655267
A18: Ideggyógyászat | D18: 6755 | E18: 6916 | F18: =E18/D18 -> 1.0238342 | G18: 36862 | H18: 39111 | I18: =H18/G18 -> 1.0610113 | J18: 7224126 | K18: 7509840 | L18: =K18/J18 -> 1.03955
A19: Elmegyógyászat | D19: 1651 | E19: 1746 | F19: =E19/D19 -> 1.0575409 | G19: 5472 | H19: 5766 | I19: =H19/G19 -> 1.0537281 | J19: 2509909 | K19: 2618482 | L19: =K19/J19 -> 1.0432577
A20: Ortopédia | D20: 0 | E20: 0 | G20: 0 | H20: 0 | J20: 0 | K20: 0
A21: Urológia | D21: 11666 | E21: 11793 | F21: =E21/D21 -> 1.0108863 | G21: 40133 | H21: 42587 | I21: =H21/G21 -> 1.0611467 | J21: 13215697 | K21: 14481101 | L21: =K21/J21 -> 1.0957501
A22: Radiológia | D22: 1850 | E22: 0 | G22: 2832 | H22: 0 | J22: 2108777 | K22: 0
A23: Reumatológia | D23: 18582 | E23: 17819 | F23: =E23/D23 -> 0.95893876 | G23: 148753 | H23: 151049 | I23: =H23/G23 -> 1.015435 | J23: 26710909 | K23: 27401484 | L23: =K23/J23 -> 1.0258537
A24: ODM-Menopausa | D24: 0 | E24: 0 | G24: 0 | H24: 0 | J24: 0 | K24: 0
A25: Fizikotherapia | D25: 24944 | E25: 25304 | F25: =E25/D25 -> 1.0144323 | G25: 98466 | H25: 77166 | I25: =H25/G25 -> 0.78368168 | J25: 19183583 | K25: 16084068 | L25: =K25/J25 -> 0.83842878
A26: Gyógytorna | D26: 19313 | E26: 16302 | F26: =E26/D26 -> 0.84409465 | G26: 134899 | H26: 110058 | I26: =H26/G26 -> 0.81585482 | J26: 17377114 | K26: 14517662 | L26: =K26/J26 -> 0.83544724
A27: Fogászat (alapellátás) | D27: 214 | E27: 221 | F27: =E27/D27 -> 1.0327103 | G27: 1086 | H27: 1117 | I27: =H27/G27 -> 1.0285451 | J27: 309010 | K27: 284525 | L27: =K27/J27 -> 0.92076308
A28: Fogászat (szakellátás) | D28: 6218 | E28: 6308 | F28: =E28/D28 -> 1.0144741 | G28: 15720 | H28: 15095 | I28: =H28/G28 -> 0.96024173 | J28: 6145300 | K28: 6906730 | L28: =K28/J28 -> 1.1239044
A30: Összes szakrendelés | D30: =SUM(D4:D28)-D27-D28 -> 136044 | E30: =SUM(E4:E28)-E27-E28 -> 130686 | F30: =E30/D30 -> 0.96061568 | G30: =SUM(G4:G28)-G27-G28 -> 761619 | H30: =SUM(H4:H28)-H27-H28 -> 717196 | I30: =H30/G30 -> 0.94167294 | J30: =SUM(J4:J28)-J27-J28 -> 158834211 | K30: =SUM(K4:K28)-K27-K28 -> 152665974 | L30: =K30/J30 -> 0.96116556
A32: Összes labor
A33: Összes fogászat | D33: =D27+D28 -> 6432 | E33: =E27+E28 -> 6529 | F33: =E33/D33 -> 1.0150808 | G33: =G27+G28 -> 16806 | H33: =H27+H28 -> 16212 | I33: =H33/G33 -> 0.96465548 | J33: =J27+J28 -> 6454310 | K33: =K27+K28 -> 7191255 | L33: =K33/J33 -> 1.1141787
A35: összesen | D35: =SUM(D30:D33) -> 142476 | E35: =SUM(E30:E33) -> 137215 | F35: =E35/D35 -> 0.96307448 | G35: =SUM(G30:G33) -> 778425 | H35: =SUM(H30:H33) -> 733408 | I35: =H35/G35 -> 0.94216912 | J35: =SUM(J30:J33) -> 165288521 | K35: =SUM(K30:K33) -> 159857229 | L35: =K35/J35 -> 0.96714054
A37: * Bőrgyógyászat szakrendelés 2013.03.01-től A Visegrádi utcai rendelőben
A38: ** Sebészet-Traumatológia szakrendelés 2013.03.01-től csak a Szegedi úti rendelőben

Sheet 2
B1: Esetszám | E1: Beavatkozások száma | H1: Pontszám | L1: eset | N1: beav | P1: pont
B2: 2014 terv | C2: 2014 év tény | D2: % | E2: 2014 terv | F2: 2014 év tény | G2: % | H2: 2014 terv | I2: 2014 év tény | J2: % | L2: tény | M2: jel | N2: tény | O2: jel | P2: tény | Q2: jel
A3: Aneszteziológia | B3: 1040 | C3: =L3+M3 -> 996 | D3: =C3/B3 -> 0.95769231 | E3: 2080 | F3: =N3+O3 -> 1983 | G3: =F3/E3 -> 0.95336538 | H3: 1385280 | I3: =P3+Q3 -> 1313946 | J3: =I3/H3 -> 0.94850572 | L3: 938 | M3: 58 | N3: 1867 | O3: 116 | P3: 1236690 | Q3: 77256
A4: Audiológia | B4: 1435 | C4: =L4+M4 -> 1606 | D4: =C4/B4 -> 1.1191638 | E4: 9380 | F4: =N4+O4 -> 11535 | G4: =F4/E4 -> 1.2297441 | H4: 2400000 | I4: =P4+Q4 -> 2479732 | J4: =I4/H4 -> 1.0332217 | L4: 1486 | M4: 120 | N4: 10718 | O4: 817 | P4: 2299568 | Q4: 180164
A5: Általános belgyógyászat | B5: 1670 | C5: =L5+M5 -> 2486 | D5: =C5/B5 -> 1.4886228 | E5: 4000 | F5: =N5+O5 -> 6778 | G5: =F5/E5 -> 1.6945 | H5: 1715000 | I5: =P5+Q5 -> 2589216 | J5: =I5/H5 -> 1.5097469 | L5: 2329 | M5: 157 | N5: 6384 | O5: 394 | P5: 2432221 | Q5: 156995
A6: Belgyógyászat-diabetológia | B6: 3275 | C6: =L6+M6 -> 3484 | D6: =C6/B6 -> 1.0638168 | E6: 11475 | F6: =N6+O6 -> 10752 | G6: =F6/E6 -> 0.93699346 | H6: 1408250 | I6: =P6+Q6 -> 1802905 | J6: =I6/H6 -> 1.280245 | L6: 3283 | M6: 201 | N6: 10191 | O6: 561 | P6: 1710117 | Q6: 92788
A7: Fizikoterápia | B7: 45300 | C7: =L7+M7 -> 38292 | D7: =C7/B7 -> 0.84529801 | E7: 126000 | F7: =N7+O7 -> 108360 | G7: =F7/E7 -> 0.86 | H7: 25600000 | I7: =P7+Q7 -> 21019678 | J7: =I7/H7 -> 0.82108117 | L7: 35864 | M7: 2428 | N7: 103444 | O7: 4916 | P7: 19853432 | Q7: 1166246
A8: Fül-orr-gége | B8: 10140 | C8: =L8+M8 -> 11034 | D8: =C8/B8 -> 1.0881657 | E8: 30420 | F8: =N8+O8 -> 31021 | G8: =F8/E8 -> 1.0197567 | H8: 9600000 | I8: =P8+Q8 -> 9195296 | J8: =I8/H8 -> 0.95784333 | L8: 10230 | M8: 804 | N8: 28709 | O8: 2312 | P8: 8526048 | Q8: 669248
A9: Gasztroenterológia | B9: 2520 | C9: =L9+M9 -> 2809 | D9: =C9/B9 -> 1.1146825 | E9: 5040 | F9: =N9+O9 -> 5397 | G9: =F9/E9 -> 1.0708333 | H9: 5040000 | I9: =P9+Q9 -> 5822629 | J9: =I9/H9 -> 1.1552835 | L9: 2633 | M9: 176 | N9: 5046 | O9: 351 | P9: 5473334 | Q9: 349295
A10: Gyógytorna | B10: 20740 | C10: =L10+M10 -> 21880 | D10: =C10/B10 -> 1.0549662 | E10: 147464 | F10: =N10+O10 -> 152899 | G10: =F10/E10 -> 1.0368565 | H10: 20370000 | I10: =P10+Q10 -> 21148199 | J10: =I10/H10 -> 1.0382032 | L10: 20458 | M10: 1422 | N10: 142851 | O10: 10048 | P10: 19735035 | Q10: 1413164
A11: Ideggyógyászat | B11: 9600 | C11: =L11+M11 -> 10458 | D11: =C11/B11 -> 1.089375 | E11: 39500 | F11: =N11+O11 -> 43041 | G11: =F11/E11 -> 1.0896456 | H11: 13300000 | I11: =P11+Q11 -> 10521720 | J11: =I11/H11 -> 0.79110677 | L11: 9713 | M11: =667+78 -> 745 | N11: 39871 | O11: =3018+152 -> 3170 | P11: 9750924 | Q11: =679689+91107 -> 770796
A12: Kardiológia | B12: 11200 | C12: =L12+M12 -> 12258 | D12: =C12/B12 -> 1.0944643 | E12: 27200 | F12: =N12+O12 -> 30313 | G12: =F12/E12 -> 1.1144485 | H12: 22500000 | I12: =P12+Q12 -> 23540278 | J12: =I12/H12 -> 1.0462346 | L12: 11475 | M12: 783 | N12: 28367 | O12: 1946 | P12: 21955542 | Q12: 1584736
A13: ODM-Menopausa | B13: 4320 | C13: =L13+M13 -> 4445 | D13: =C13/B13 -> 1.0289352 | E13: 8440 | F13: =N13+O13 -> 7034 | G13: =F13/E13 -> 0.83341232 | H13: 15529600 | I13: =P13+Q13 -> 9770782 | J13: =I13/H13 -> 0.62917152 | L13: 4162 | M13: 283 | N13: 6590 | O13: 444 | P13: 9126202 | Q13: 644580
A14: Nőgyógyászat | B14: 12700 | C14: =L14+M14 -> 12055 | D14: =C14/B14 -> 0.9492126 | E14: 42630 | F14: =N14+O14 -> 45590 | G14: =F14/E14 -> 1.0694347 | H14: 17140000 | I14: =P14+Q14 -> 16811521 | J14: =I14/H14 -> 0.98083553 | L14: 11207 | M14: 848 | N14: 42790 | O14: 2800 | P14: 15842661 | Q14: 968860
A15: Ortopédia | B15: 7150 | C15: =L15+M15 -> 7598 | D15: =C15/B15 -> 1.0626573 | E15: 29900 | F15: =N15+O15 -> 27276 | G15: =F15/E15 -> 0.9122408 | H15: 12500000 | I15: =P15+Q15 -> 10115812 | J15: =I15/H15 -> 0.80926496 | L15: 7074 | M15: 524 | N15: 25364 | O15: 1912 | P15: 9405208 | Q15: 710604
A16: Reuma | B16: 18400 | C16: =L16+M16 -> 17905 | D16: =C16/B16 -> 0.97309783 | E16: 181000 | F16: =N16+O16 -> 185060 | G16: =F16/E16 -> 1.0224309 | H16: 22200000 | I16: =P16+Q16 -> 25764642 | J16: =I16/H16 -> 1.1605695 | L16: 16512 | M16: 1393 | N16: 171506 | O16: 13554 | P16: 23839122 | Q16: 1925520
A17: Röntgen | B17: 34100 | C17: =L17+M17 -> 35159 | D17: =C17/B17 -> 1.0310557 | E17: 76700 | F17: =N17+O17 -> 96802 | G17: =F17/E17 -> 1.262086 | H17: 60000000 | I17: =P17+Q17 -> 65885189 | J17: =I17/H17 -> 1.0980865 | L17: 32806 | M17: 2353 | N17: 91020 | O17: 5782 | P17: 61679498 | Q17: 4205691
A18: Sebészet | B18: 27800 | C18: =L18+M18 -> 26054 | D18: =C18/B18 -> 0.93719424 | E18: 154210 | F18: =N18+O18 -> 128044 | G18: =F18/E18 -> 0.83032229 | H18: 51650000 | I18: =P18+Q18 -> 41574318 | J18: =I18/H18 -> 0.80492387 | L18: 24206 | M18: =139+1709 -> 1848 | N18: 118656 | O18: =662+8726 -> 9388 | P18: 38570208 | Q18: =210873+2793237 -> 3004110
A19: Traumatológia | B19: 14400 | C19: =L19+M19 -> 13608 | D19: =C19/B19 -> 0.945 | E19: 66240 | F19: =N19+O19 -> 60012 | G19: =F19/E19 -> 0.90597826 | H19: 21336000 | I19: =P19+Q19 -> 19750477 | J19: =I19/H19 -> 0.9256879 | L19: 12682 | M19: 926 | N19: 55933 | O19: 4079 | P19: 18449023 | Q19: 1301454
A20: Szemészet | B20: 13830 | C20: =L20+M20 -> 12735 | D20: =C20/B20 -> 0.9208243 | E20: 131435 | F20: =N20+O20 -> 117587 | G20: =F20/E20 -> 0.89463994 | H20: 24202500 | I20: =P20+Q20 -> 20297774 | J20: =I20/H20 -> 0.83866435 | L20: 11802 | M20: 933 | N20: 109371 | O20: 8216 | P20: 18835115 | Q20: 1462659
A21: Urológia | B21: 10620 | C21: =L21+M21 -> 11010 | D21: =C21/B21 -> 1.0367232 | E21: 46200 | F21: =N21+O21 -> 46752 | G21: =F21/E21 -> 1.0119481 | H21: 16100000 | I21: =P21+Q21 -> 15342891 | J21: =I21/H21 -> 0.9529746 | L21: 10257 | M21: 753 | N21: 43339 | O21: 3413 | P21: 14250739 | Q21: 1092152
A22: Szegedi út összesen | B22: =SUM(B3:B21) -> 250240 | C22: =SUM(C3:C21) -> 245872 | D22: =C22/B22 -> 0.98254476 | E22: =SUM(E3:E21) -> 1139314 | F22: =SUM(F3:F21) -> 1116236 | G22: =F22/E22 -> 0.97974395 | H22: =SUM(H3:H21) -> 343976630 | I22: =SUM(I3:I21) -> 324747005 | J22: =I22/H22 -> 0.94409613 | L22: =SUM(L3:L21) -> 229117 | M22: =SUM(M3:M21) -> 16755 | N22: =SUM(N3:N21) -> 1042017 | O22: =SUM(O3:O21) -> 74219 | P22: =SUM(P3:P21) -> 302970687 | Q22: =SUM(Q3:Q21) -> 21776318
A24: Allergológia | B24: 1425 | C24: =L24+M24 -> 1536 | D24: =C24/B24 -> 1.0778947 | E24: 16310 | F24: =N24+O24 -> 21609 | G24: =F24/E24 -> 1.3248927 | H24: 5500000 | I24: =P24+Q24 -> 7103072 | J24: =I24/H24 -> 1.2914676 | L24: 1441 | M24: 95 | N24: 20380 | O24: 1229 | P24: 6694199 | Q24: 408873
A25: Bőrgyógyászat | B25: 14548 | C25: =L25+M25 -> 15865 | D25: =C25/B25 -> 1.0905279 | E25: 33211 | F25: =N25+O25 -> 58902 | G25: =F25/E25 -> 1.773569 | H25: 13995000 | I25: =P25+Q25 -> 17687113 | J25: =I25/H25 -> 1.2638166 | L25: 14948 | M25: 917 | N25: 55142 | O25: 3760 | P25: 16576618 | Q25: 1110495
A26: Fizikoterápia | B26: 26000 | C26: =L26+M26 -> 25304 | D26: =C26/B26 -> 0.97323077 | E26: 98000 | F26: =N26+O26 -> 77166 | G26: =F26/E26 -> 0.78740816 | H26: 20900000 | I26: =P26+Q26 -> 16082026 | J26: =I26/H26 -> 0.76947493 | L26: 23567 | M26: 1737 | N26: 72610 | O26: 4556 | P26: 15174402 | Q26: 907624
A27: Fül-orr-gége | B27: 10140 | C27: =L27+M27 -> 11041 | D27: =C27/B27 -> 1.088856 | E27: 30420 | F27: =N27+O27 -> 50042 | G27: =F27/E27 -> 1.6450362 | H27: 9600000 | I27: =P27+Q27 -> 11314380 | J27: =I27/H27 -> 1.1785812 | L27: 10193 | M27: 848 | N27: 46103 | O27: 3939 | P27: 10438865 | Q27: 875515
A28: Gyógytorna | B28: 20200 | C28: =L28+M28 -> 16298 | D28: =C28/B28 -> 0.80683168 | E28: 144000 | F28: =N28+O28 -> 110032 | G28: =F28/E28 -> 0.76411111 | H28: 19200000 | I28: =P28+Q28 -> 14507129 | J28: =I28/H28 -> 0.75557964 | L28: 15031 | M28: 1267 | N28: 101542 | O28: 8490 | P28: 13393326 | Q28: 1113803
A29: Ideggyógyászat | B29: 8900 | C29: =L29+M29 -> 8660 | D29: =C29/B29 -> 0.97303371 | E29: 39500 | F29: =N29+O29 -> 44870 | G29: =F29/E29 -> 1.1359494 | H29: 13300000 | I29: =P29+Q29 -> 10116127 | J29: =I29/H29 -> 0.76061105 | L29: 7978 | M29: =537+145 -> 682 | N29: 41076 | O29: =3343+451 -> 3794 | P29: 9316439 | Q29: =594223+205465 -> 799688
A30: Nőgyógyászat | B30: 11350 | C30: =L30+M30 -> 10238 | D30: =C30/B30 -> 0.90202643 | E30: 36500 | F30: =N30+O30 -> 39231 | G30: =F30/E30 -> 1.0748219 | H30: 14400000 | I30: =P30+Q30 -> 13291674 | J30: =I30/H30 -> 0.92303292 | L30: 9396 | M30: 842 | N30: 36077 | O30: 3154 | P30: 12237076 | Q30: 1054598
A31: Reuma | B31: 18100 | C31: =L31+M31 -> 17813 | D31: =C31/B31 -> 0.98414365 | E31: 99500 | F31: =N31+O31 -> 150998 | G31: =F31/E31 -> 1.5175678 | H31: 18150000 | I31: =P31+Q31 -> 30384510 | J31: =I31/H31 -> 1.6740777 | L31: 16441 | M31: 1372 | N31: 138732 | O31: 12266 | P31: 28189522 | Q31: 2194988
A32: Szemészet | B32: 12500 | C32: =L32+M32 -> 12074 | D32: =C32/B32 -> 0.96592 | E32: 125000 | F32: =N32+O32 -> 121383 | G32: =F32/E32 -> 0.971064 | H32: 21876000 | I32: =P32+Q32 -> 20121629 | J32: =I32/H32 -> 0.91980385 | L32: 11224 | M32: 850 | N32: 112777 | O32: 8606 | P32: 18709781 | Q32: 1411848
A33: Urológia | B33: 11600 | C33: =L33+M33 -> 11786 | D33: =C33/B33 -> 1.0160345 | E33: 39800 | F33: =N33+O33 -> 42553 | G33: =F33/E33 -> 1.0691709 | H33: 13600000 | I33: =P33+Q33 -> 14405266 | J33: =I33/H33 -> 1.0592107 | L33: 10707 | M33: 1079 | N33: 38697 | O33: 3856 | P33: 13093894 | Q33: 1311372
A34: Visegrádi u. összesen | B34: =SUM(B24:B33) -> 134763 | C34: =SUM(C24:C33) -> 130615 | D34: =C34/B34 -> 0.96922004 | E34: =SUM(E24:E33) -> 662241 | F34: =SUM(F24:F33) -> 716786 | G34: =F34/E34 -> 1.0823643 | H34: =SUM(H24:H33) -> 150521000 | I34: =SUM(I24:I33) -> 155012926 | J34: =I34/H34 -> 1.0298425 | L34: =SUM(L24:L33) -> 120926 | M34: =SUM(M24:M33) -> 9689 | N34: =SUM(N24:N33) -> 663136 | O34: =SUM(O24:O33) -> 53650 | P34: =SUM(P24:P33) -> 143824122 | Q34: =SUM(Q24:Q33) -> 11188804
A36: Járóbeteg összesen | B36: =SUM(B22,B34) -> 385003 | C36: =SUM(C34,C22) -> 376487 | D36: =C36/B36 -> 0.97788069 | E36: =SUM(E22,E34) -> 1801555 | F36: =SUM(F34,F22) -> 1833022 | G36: =F36/E36 -> 1.0174666 | H36: =SUM(H22,H34) -> 494497630 | I36: =SUM(I34,I22) -> 479759931 | J36: =I36/H36 -> 0.97019662 | L36: =SUM(L34,L22) -> 350043 | M36: =SUM(M34,M22) -> 26444 | N36: =SUM(N34,N22) -> 1705153 | O36: =SUM(O34,O22) -> 127869 | P36: =SUM(P34,P22) -> 446794809 | Q36: =SUM(Q34,Q22) -> 32965122
A38: Labor | B38: 68000 | C38: =L38+M38 -> 72582 | D38: =C38/B38 -> 1.0673824 | E38: 1100000 | F38: =N38+O38 -> 1271937 | G38: =F38/E38 -> 1.1563064 | H38: 184000000 | I38: =P38+Q38 -> 208783374 | J38: =I38/H38 -> 1.1346923 | L38: 66749 | M38: 5833 | N38: 1170078 | O38: 101859 | P38: 191784118 | Q38: 16999256
A40: Fogászat | B40: 6060 | C40: =L40+M40 -> 6521 | D40: =C40/B40 -> 1.0760726 | E40: 15220 | F40: =N40+O40 -> 18920 | G40: =F40/E40 -> 1.2431012 | H40: 7290000 | I40: =P40+Q40 -> 7280525 | J40: =I40/H40 -> 0.99870027 | L40: 6081 | M40: 440 | N40: 17796 | O40: 1124 | P40: 6687070 | Q40: 593455
A42: December hónapban a jelentett teljesítmény szerepel | L42: =SUM(L36,L38,L40) -> 422873 | M42: =SUM(M36,M38,M40) -> 32717 | N42: =SUM(N36,N38,N40) -> 2893027 | O42: =SUM(O36,O38,O40) -> 230852 | P42: =SUM(P36,P38,P40) -> 645265997 | Q42: =SUM(Q36,Q38,Q40) -> 50557833

Sheet 3
A1: Hónap | B1: Elvégzett műtétek száma szakmai bontásban | N1: Jelentett HBCS súly | P1: Műtétek száma
B2: sebészet | D2: ortopédia | F2: szemészet | H2: urológia | J2: nőgyógyászat | L2: fül-orr-gége
B3: 2013 | C3: 2014 | D3: 2013 | E3: 2014 | F3: 2013 | G3: 2014 | H3: 2013 | I3: 2014 | J3: 2013 | K3: 2014 | L3: 2013 | M3: 2014 | N3: 2013 | O3: 2014 | P3: 2013 | Q3: 2014
A4: Január | B4: 20 | C4: =20+1 -> 21 | D4: 25 | E4: =14 -> 14 | F4: 24 | G4: =44 -> 44 | H4: 10 | I4: =7 -> 7 | J4: 11 | K4: =25+1 -> 26 | L4: 5 | M4: =3 -> 3 | N4: 52.4415 | O4: =61.92179+0.43421 -> 62.356 | P4: =SUM(B4,D4,F4,H4,J4,L4) -> 95 | Q4: =SUM(C4,E4,G4,I4,K4,M4) -> 115
A5: Február | B5: 21 | C5: =22 -> 22 | D5: 23 | E5: =19 -> 19 | F5: 25 | G5: =16 -> 16 | H5: 9 | I5: =8 -> 8 | J5: 7 | K5: =22 -> 22 | L5: 2 | M5: =4 -> 4 | N5: 46.36875 | O5: =46.87946 -> 46.87946 | P5: =SUM(B5,D5,F5,H5,J5,L5) -> 87 | Q5: =SUM(C5,E5,G5,I5,K5,M5) -> 91
A6: Március | B6: 28 | C6: =20+2 -> 22 | D6: 26 | E6: =24+1 -> 25 | F6: 24 | G6: =38 -> 38 | H6: 9 | I6: =9+1 -> 10 | J6: 10 | K6: =14+2 -> 16 | L6: 2 | M6: =1 -> 1 | N6: 53.41665 | O6: =54.19998+0.43497+1.88611 -> 56.52106 | P6: =SUM(B6,D6,F6,H6,J6,L6) -> 99 | Q6: =SUM(C6,E6,G6,I6,K6,M6) -> 112
A7: Április | B7: 23 | C7: =22 -> 22 | D7: 26 | E7: =22 -> 22 | F7: 24 | G7: =26 -> 26 | H7: 14 | I7: =9 -> 9 | J7: 18 | K7: =21+3 -> 24 | L7: 2 | M7: =7 -> 7 | N7: 50.72712 | O7: =53.01204+0.66385+0.37986 -> 54.05575 | P7: =SUM(B7,D7,F7,H7,J7,L7) -> 107 | Q7: =SUM(C7,E7,G7,I7,K7,M7) -> 110
A8: Május | B8: 21 | C8: =22+1 -> 23 | D8: 24 | E8: =16 -> 16 | F8: 27 | G8: =31 -> 31 | H8: 14 | I8: =10 -> 10 | J8: 17 | K8: =20 -> 20 | L8: 3 | M8: =3 -> 3 | N8: 53.00493 | O8: =51.54049+0.2318 -> 51.77229 | P8: =SUM(B8,D8,F8,H8,J8,L8) -> 106 | Q8: =SUM(C8,E8,G8,I8,K8,M8) -> 103
A9: Június | B9: 21 | C9: =15+1 -> 16 | D9: 22 | E9: =18+1 -> 19 | F9: 28 | G9: =23 -> 23 | H9: 6 | I9: =11+1 -> 12 | J9: 22 | K9: =20 -> 20 | L9: 1 | N9: 47.74768 | O9: =45.23653+1.51827 -> 46.7548 | P9: =SUM(B9,D9,F9,H9,J9,L9) -> 100 | Q9: =SUM(C9,E9,G9,I9,K9,M9) -> 90
A10: Július | B10: 23 | C10: =13+2 -> 15 | D10: 19 | E10: =21+1 -> 22 | F10: 24 | G10: =28 -> 28 | H10: 7 | I10: =3+2 -> 5 | J10: 16 | K10: =13+1 -> 14 | M10: =3 -> 3 | N10: 45.517 | O10: =43.15153+3.09292 -> 46.24445 | P10: =SUM(B10,D10,F10,H10,J10,L10) -> 89 | Q10: =SUM(C10,E10,G10,I10,K10,M10) -> 87
A11: Augusztus | B11: 1 | C11: 2 | D11: 11 | E11: =6+12 -> 18 | F11: 20 | G11: 20 | H11: 4 | I11: =2 -> 2 | J11: 3 | K11: =3 -> 3 | M11: =1 -> 1 | N11: 22.83294 | O11: =21.65333+7.7042 -> 29.35753 | P11: =SUM(B11,D11,F11,H11,J11,L11) -> 39 | Q11: =SUM(C11,E11,G11,I11,K11,M11) -> 46
A12: Szeptember | B12: 25 | C12: =18 -> 18 | D12: 27 | E12: =29+1 -> 30 | F12: 32 | G12: =35 -> 35 | H12: 9 | I12: =9 -> 9 | J12: 14 | K12: =17 -> 17 | L12: 1 | M12: =1 -> 1 | N12: 58.5879 | O12: =58.05462+0.06476 -> 58.11938 | P12: =SUM(B12,D12,F12,H12,J12,L12) -> 108 | Q12: =SUM(C12,E12,G12,I12,K12,M12) -> 110
A13: Október | B13: 28 | C13: =33+2 -> 35 | D13: 25 | E13: =26+3 -> 29 | F13: 33 | G13: =29 -> 29 | H13: 11 | I13: =6 -> 6 | J13: 34 | K13: =9 -> 9 | L13: 1 | M13: =3 -> 3 | N13: 64.21631 | O13: =57.502+2.52663 -> 60.02863 | P13: =SUM(B13,D13,F13,H13,J13,L13) -> 132 | Q13: =SUM(C13,E13,G13,I13,K13,M13) -> 111
A14: November | B14: 25 | C14: =17+1 -> 18 | D14: 11 | E14: =25+1 -> 26 | F14: 28 | G14: =27 -> 27 | H14: 2 | I14: =7 -> 7 | J14: 25 | K14: =9 -> 9 | L14: 5 | M14: =2 -> 2 | N14: 45.8802 | O14: =49.41437+0.60189 -> 50.01626 | P14: =SUM(B14,D14,F14,H14,J14,L14) -> 96 | Q14: =SUM(C14,E14,G14,I14,K14,M14) -> 89
A15: December | B15: =22 -> 22 | C15: =23 -> 23 | D15: =15+2 -> 17 | E15: =14+3 -> 17 | F15: =22 -> 22 | G15: =22 -> 22 | H15: =10 -> 10 | I15: =6+1 -> 7 | J15: =17 -> 17 | K15: =14 -> 14 | M15: =1 -> 1 | N15: =41.66382+0.96233 -> 42.62615 | O15: =44.52965+2.70148 -> 47.23113 | P15: =SUM(B15,D15,F15,H15,J15,L15) -> 88 | Q15: =SUM(C15,E15,G15,I15,K15,M15) -> 84
A16: összesen | B16: =SUM(B4:B15) -> 258 | C16: =SUM(C4:C15) -> 237 | D16: =SUM(D4:D15) -> 256 | E16: =SUM(E4:E15) -> 257 | F16: =SUM(F4:F15) -> 311 | G16: =SUM(G4:G15) -> 339 | H16: =SUM(H4:H15) -> 105 | I16: =SUM(I4:I15) -> 92 | ... Q16: =SUM(Q4:Q15) -> 1148

Sheet 4
B1: 2014-ben jelenthető pontok | C1: 2014-ben jelentett pontok | F1: 2014-ben elfogadott pontok | G1: eltérés a jelentett és jelenthető pontok között
C2: tárgyhavi | D2: hibajavítás | E2: összesen | G2: tárgyhavi | H2: halmozott
A3: november | B3: 39957678 | C3: 42393496 | D3: 21564 | E3: =SUM(C3:D3) -> 42415060 | F3: 42433284 | G3: =E3-B3 -> 2457382 | H3: =G3 -> 2457382
A4: december | B4: 39957678 | C4: 32103833 | D4: 7780 | E4: =SUM(C4:D4) -> 32111613 | F4: 32345713 | G4: =E4-B4 -> -7846065 | H4: =G4+H3 -> -5388683
A5: január | B5: 41955562 | C5: 45260966 | D5: 4648 | E5: =SUM(C5:D5) -> 45265614 | F5: 45527384 | G5: =E5-B5 -> 3310052 | H5: =G5+H4 -> -2078631
A6: február | B6: 39957678 | C6: 43855457 | D6: 11171 | E6: =SUM(C6:D6) -> 43866628 | F6: 44125481 | G6: =E6-B6 -> 3908950 | H6: =G6+H5 -> 1830319
A7: március | B7: 41955562 | C7: 45477804 | D7: 40610 | E7: =SUM(C7:D7) -> 45518414 | F7: 45389298 | G7: =E7-B7 -> 3562852 | H7: =G7+H6 -> 5393171
A8: április | B8: 40957678 | C8: 44176890 | D8: 10602 | E8: =SUM(C8:D8) -> 44187492 | F8: 44222800 | G8: =E8-B8 -> 3229814 | H8: =G8+H7 -> 8622985
A9: május | B9: 41955562 | C9: 42235612 | D9: 9801 | E9: =SUM(C9:D9) -> 42245413 | F9: 42272983 | G9: =E9-B9 -> 289851 | H9: =G9+H8 -> 8912836
A10: június | B10: 36961910 | C10: 40001571 | D10: 30737 | E10: =SUM(C10:D10) -> 40032308 | F10: 40183475 | G10: =E10-B10 -> 3070398 | H10: =G10+H9 -> 11983234
A11: július | B11: 35961910 | C11: 34853992 | D11: 3871 | E11: =SUM(C11:D11) -> 34857863 | F11: 35219203 | G11: =E11-B11 -> -1104047 | H11: =G11+H10 -> 10879187
A12: augusztus | B12: 35961910 | C12: 29370167 | D12: 14206 | E12: =SUM(C12:D12) -> 29384373 | F12: 29691280 | G12: =E12-B12 -> -6577537 | H12: =G12+H11 -> 4301650
A13: szeptember | B13: 41955562 | C13: 42592216 | D13: 11209 | E13: =SUM(C13:D13) -> 42603425 | F13: 42379020 | G13: =E13-B13 -> 647863 | H13: =G13+H12 -> 4949513
A14: október | B14: 41953446 | C14: 41399565 | D14: 13002 | E14: =SUM(C14:D14) -> 41412567 | F14: 41477951 | G14: =E14-B14 -> -540879 | H14: =G14+H13 -> 4408634
A15: november | B15: 39957678 | C15: 40334323 | D15: 16639 | E15: =SUM(C15:D15) -> 40350962 | F15: 40476842 | G15: =E15-B15 -> 393284 | H15: =G15+H14 -> 4801918
A16: december | B16: 39957678 | C16: 32965122 | D16: 2116 | E16: =SUM(C16:D16) -> 32967238 | F16: 33287614 | G16: =E16-B16 -> -6990440 | H16: =G16+H15 -> -2188522
A17: összesen | B17: =SUM(B3:B16) -> 559407492 | C17: =SUM(C3:C16) -> 557021014 | D17: =SUM(D3:D16) -> 197956 | E17: =SUM(E3:E16) -> 557218970 | F17: =SUM(F3:F16) -> 559032328 | G17: =SUM(G3:G16) -> -2188522

Sheet 5
A1: Megnevezés | C1: 2013. év | F1: 2014 évi terv (adatok e Ft-ban) | I1: 2014. év | L1: 2014. év aránya a tervhez képest
C2: OEP | D2: Saját | E2: Össz. | F2: OEP | G2: Saját | H2: Össz. | I2: OEP | J2: Saját | K2: Össz. | L2: OEP | M2: Saját | N2: Össz.
A3: 1 | B3: Betegellátás bevételei összesen | C3: =SUM(C4:C18) -> 1414753 | D3: =SUM(D4:D18) -> 30464 | E3: =SUM(C3:D3) -> 1445217 | F3: =SUM(F4:F17) -> 1437640 | G3: =SUM(G4:G17) -> 45800 | H3: =SUM(F3:G3) -> 1483440 | I3: =SUM(I4:I17) -> 1438719 | J3: =SUM(J4:J17) -> 37487 | K3: =SUM(I3:J3) -> 1476206 | L3: =I3/F3 -> 1.0007505 | M3: =J3/G3 -> 0.81849345 | N3: =K3/H3 -> 0.9951235 | O3: 2013 | P3: Terv
B4: - Járóbetegellátás | C4: 724987 | D4: 5566 | E4: =SUM(C4:D4) -> 730553 | F4: 753700 | G4: 12000 | H4: =SUM(F4:G4) -> 765700 | I4: 716035 | J4: 5728 | K4: =SUM(I4:J4) -> 721763 | L4: =I4/F4 -> 0.95002654 | M4: =J4/G4 -> 0.47733333 | N4: =K4/H4 -> 0.94261852 | O4: =I4-C4 -> -8952 | P4: =I4-F4 -> -37665
B5: - Egynapos sebészet | C5: 84206 | D5: 943 | E5: =SUM(C5:D5) -> 85149 | F5: 90000 | G5: 1800 | H5: =SUM(F5:G5) -> 91800 | I5: 88540 | J5: 1478 | K5: =SUM(I5:J5) -> 90018 | L5: =I5/F5 -> 0.98377778 | M5: =J5/G5 -> 0.82111111 | N5: =K5/H5 -> 0.98058824 | O5: =I5-C5 -> 4334 | P5: =I5-F5 -> -1460
B6: - Sportorvos | D6: 38 | E6: =SUM(C6:D6) -> 38 | H6: =SUM(F6:G6) -> 0 | K6: =SUM(I6:J6) -> 0 | O6: =I6-C6 -> 0 | P6: =I6-F6 -> 0
B7: - Labor | C7: 149465 | D7: 401 | E7: =SUM(C7:D7) -> 149866 | F7: 150000 | G7: 2000 | H7: =SUM(F7:G7) -> 152000 | I7: 147934 | J7: 597 | K7: =SUM(I7:J7) -> 148531 | L7: =I7/F7 -> 0.98622667 | M7: =J7/G7 -> 0.2985 | N7: =K7/H7 -> 0.97717763 | O7: =I7-C7 -> -1531 | P7: =I7-F7 -> -2066
B8: - Ügyeleti ellátás | C8: 67805 | E8: =SUM(C8:D8) -> 67805 | F8: 68000 | H8: =SUM(F8:G8) -> 68000 | I8: 70842 | K8: =SUM(I8:J8) -> 70842 | L8: =I8/F8 -> 1.0417941 | N8: =K8/H8 -> 1.0417941 | O8: =I8-C8 -> 3037 | P8: =I8-F8 -> 2842
B9: - Fogászat | C9: 15098 | E9: =SUM(C9:D9) -> 15098 | F9: 16700 | H9: =SUM(F9:G9) -> 16700 | I9: 17842 | J9: 21 | K9: =SUM(I9:J9) -> 17863 | L9: =I9/F9 -> 1.0683832 | N9: =K9/H9 -> 1.0696407 | O9: =I9-C9 -> 2744 | P9: =I9-F9 -> 1142
B10: -Fogászat (privatizált) | C10: 4913 | E10: =SUM(C10:D10) -> 4913 | F10: 5000 | H10: =SUM(F10:G10) -> 5000 | I10: 5586 | K10: =SUM(I10:J10) -> 5586 | L10: =I10/F10 -> 1.1172 | N10: =K10/H10 -> 1.1172 | O10: =I10-C10 -> 673 | P10: =I10-F10 -> 586
B11: - Házi szakápolás | C11: 10322 | E11: =SUM(C11:D11) -> 10322 | F11: 10500 | H11: =SUM(F11:G11) -> 10500 | I11: 9263 | K11: =SUM(I11:J11) -> 9263 | L11: =I11/F11 -> 0.88219048 | N11: =K11/H11 -> 0.88219048 | O11: =I11-C11 -> -1059 | P11: =I11-F11 -> -1237
B12: - Védőnők | C12: 152885 | E12: =SUM(C12:D12) -> 152885 | F12: 152000 | H12: =SUM(F12:G12) -> 152000 | I12: 190526 | K12: =SUM(I12:J12) -> 190526 | L12: =I12/F12 -> 1.2534605 | N12: =K12/H12 -> 1.2534605 | O12: =I12-C12 -> 37641 | P12: =I12-F12 -> 38526
B13: - Iskola, ifjúsági egészségügy | C13: 34884 | E13: =SUM(C13:D13) -> 34884 | F13: 34800 | H13: =SUM(F13:G13) -> 34800 | I13: 37451 | K13: =SUM(I13:J13) -> 37451 | L13: =I13/F13 -> 1.0761782 | N13: =K13/H13 -> 1.0761782 | O13: =I13-C13 -> 2567 | P13: =I13-F13 -> 2651
B14: - Foglalkozás-egészségügy | D14: 15103 | E14: =SUM(C14:D14) -> 15103 | G14: 20000 | H14: =SUM(F14:G14) -> 20000 | J14: 19587 | K14: =SUM(I14:J14) -> 19587 | M14: =J14/G14 -> 0.97935 | N14: =K14/H14 -> 0.97935 | O14: =I14-C14 -> 0 | P14: =I14-F14 -> 0
B15: - Menedzser szűrés (szűrővizsgálat) | D15: 8413 | E15: =SUM(C15:D15) -> 8413 | G15: 10000 | H15: =SUM(F15:G15) -> 10000 | J15: 10076 | K15: =SUM(I15:J15) -> 10076 | M15: =J15/G15 -> 1.0076 | N15: =K15/H15 -> 1.0076 | O15: =I15-C15 -> 0 | P15: =I15-F15 -> 0
B16: Jogviszony ellenőrzés | C16: 18771 | E16: =SUM(C16:D16) -> 18771 | F16: 20000 | H16: =SUM(F16:G16) -> 20000 | I16: 19764 | K16: =SUM(I16:J16) -> 19764 | L16: =I16/F16 -> 0.9882 | N16: =K16/H16 -> 0.9882 | O16: =I16-C16 -> 993 | P16: =I16-F16 -> -236
B17: OEP ágazati béremelés | C17: 141194 | E17: =SUM(C17:D17) -> 141194 | F17: 136940 | H17: =SUM(F17:G17) -> 136940 | I17: 134936 | K17: =SUM(I17:J17) -> 134936 | L17: =I17/F17 -> 0.98536585 | N17: =K17/H17 -> 0.98536585 | O17: =I17-C17 -> -6258 | P17: =I17-F17 -> -2004
B18: OEP egyszeri visszamenőleges támogatás | C18: 10223 | E18: =SUM(C18:D18) -> 10223 | O18: =I18-C18 -> -10223 | P18: =I18-F18 -> 0
A19: 3 | B19: Bérleti díjak bevételei | D19: 106663 | E19: =SUM(C19:D19) -> 106663 | G19: 115000 | H19: =SUM(F19:G19) -> 115000 | J19: 106953 | K19: =SUM(I19:J19) -> 106953 | M19: =J19/G19 -> 0.93002609 | N19: =K19/H19 -> 0.93002609 | O19: =I19-C19 -> 0 | P19: =I19-F19 -> 0
A20: 4 | B20: Továbbszámlázott szolgáltatások bevételei | D20: 15721 | E20: =SUM(C20:D20) -> 15721 | G20: 16000 | H20: =SUM(F20:G20) -> 16000 | J20: 15105 | K20: =SUM(I20:J20) -> 15105 | M20: =J20/G20 -> 0.9440625 | N20: =K20/H20 -> 0.9440625 | O20: =I20-C20 -> 0 | P20: =I20-F20 -> 0
A21: 5 | B21: Egyéb bevételek (pl. pályázat, stb.) | D21: 3364 | E21: =SUM(C21:D21) -> 3364 | G21: 3500 | H21: =SUM(F21:G21) -> 3500 | J21: 1597 | K21: =SUM(I21:J21) -> 1597 | M21: =J21/G21 -> 0.45628571 | N21: =K21/H21 -> 0.45628571 | O21: =I21-C21 -> 0 | P21: =I21-F21 -> 0
A22: 7 | B22: Saját bevételek összesen | C22: =SUM(C3,C19:C21) -> 1414753 | D22: =SUM(D3,D19:D21) -> 156212 | E22: =SUM(C22:D22) -> 1570965 | F22: =SUM(F4:F17) -> 1437640 | G22: =SUM(G4:G21) -> 180300 | H22: =SUM(F22:G22) -> 1617940 | I22: =SUM(I3,I19:I21) -> 1438719 | J22: =SUM(J3,J19:J21) -> 161142 | K22: =SUM(I22:J22) -> 1599861 | L22: =I22/F22 -> 1.0007505 | M22: =J22/G22 -> 0.89374376 | N22: =K22/H22 -> 0.98882591 | O22: =I22-C22 -> 23966 | P22: =I22-F22 -> 1079
A23: 8 | B23: Önkormányzati támogatás | E23: 123500 | H23: 160000 | K23: 177115 | N23: =K23/H23 -> 1.1069688 | O23: =I23-C23 -> 0 | P23: =I23-F23 -> 0
A24: 9 | B24: Rendkívüli bevétel | E24: 54821 | H24: 35000 | K24: 95722 | N24: =K24/H24 -> 2.7349143 | O24: =I24-C24 -> 0 | P24: =I24-F24 -> 0
A25: 10 | B25: Összes bevétel | C25: =SUM(C22:C24) -> 1414753 | D25: =SUM(D22:D24) -> 156212 | E25: =SUM(E22:E24) -> 1749286 | F25: =SUM(F22:F24) -> 1437640 | G25: =SUM(G22:G24) -> 180300 | H25: =SUM(H22:H24) -> 1812940 | I25: =SUM(I22:I24) -> 1438719 | J25: =SUM(J22:J24) -> 161142 | K25: =SUM(K22:K24) -> 1872698 | L25: =I25/F25 -> 1.0007505 | M25: =J25/G25 -> 0.89374376 | N25: =K25/H25 -> 1.0329619 | O25: =I25-C25 -> 23966 | P25: =I25-F25 -> 1079

Sheet 6 (státusz)
A1: Szakfeladat | B1: Teljes munkaidő | J1: Részmunkaidő**
B2: orvos | D2: felsőfokú végzettségű | F2: szakdolgozó | H2: egyéb | J2: orvos | L2: felsőfokú végzettségű | N2: szakdolgozó | P2: egyéb
B3: 2014 terv | C3: 2014 tény | D3: =B3 -> 2014 terv | E3: =C3 -> 2014 tény | F3: =D3 -> 2014 terv | G3: =E3 -> 2014 tény | H3: =F3 -> 2014 terv | I3: =G3 -> 2014 tény | J3: =H3 -> 2014 terv | K3: =I3 -> 2014 tény | ... Q3: =O3 -> 2014 tény
A4: Igazgatás
A5: Otthoni szakápolás
A6: Járóbeteg
A7: Egynapos sebészet
A8: Fogászat (szakellátás)
A9: Védőnői szolgálat
A10: Iskola-egészségügy
A11: Összesen | B11: =SUM(B4:B10) -> 0 | C11: =SUM(C4:C10) -> 0 | D11: =SUM(D4:D10) -> 0 | E11: =SUM(E4:E10) -> 0 | F11: =SUM(F4:F10) -> 0 | G11: =SUM(G4:G10) -> 0 | H11: =SUM(H4:H10) -> 0 | I11: =SUM(I4:I10) -> 0 | ... Q11: =SUM(Q4:Q10) -> 0
A13: Szakfeladat | B13: Közreműködői szerződés** | H13: Összesen | P13: Összesen | R13: Megbízási szerződés
B14: orvos | D14: felsőfokú végzettségű | F14: szakdolgozó | H14: orvos | J14: felsőfokú végzettségű | L14: szakdolgozó | N14: egyéb
B15: =B3 -> 2014 terv | C15: =C3 -> 2014 tény | D15: =D3 -> 2014 terv | E15: =E3 -> 2014 tény | F15: =F3 -> 2014 terv | G15: =G3 -> 2014 tény | H15: =L3 -> 2014 terv | I15: =M3 -> 2014 tény | J15: =N3 -> 2014 terv | K15: =O3 -> 2014 tény | L15: =P3 -> 2014 terv | M15: =Q3 -> 2014 tény | N15: =L15 -> 2014 terv | O15: =M15 -> 2014 tény | P15: =N15 -> 2014 terv | Q15: =O15 -> 2014 tény | R15: =P15 -> 2014 terv | S15: =Q15 -> 2014 tény
A16: Igazgatás | P16: =IF(SUM(H16,J16,L16,N16)>0,SUM(H16,J16,L16,N16),"") | Q16: =IF(SUM(I16,K16,M16,O16)>0,SUM(I16,K16,M16,O16),"")
A17: Otthoni szakápolás | P17: =IF(SUM(H17,J17,L17,N17)>0,SUM(H17,J17,L17,N17),"") | Q17: =IF(SUM(I17,K17,M17,O17)>0,SUM(I17,K17,M17,O17),"")
A18: Járóbeteg | P18: =IF(SUM(H18,J18,L18,N18)>0,SUM(H18,J18,L18,N18),"") | Q18: =IF(SUM(I18,K18,M18,O18)>0,SUM(I18,K18,M18,O18),"")
A19: Egynapos sebészet | P19: =IF(SUM(H19,J19,L19,N19)>0,SUM(H19,J19,L19,N19),"") | Q19: =IF(SUM(I19,K19,M19,O19)>0,SUM(I19,K19,M19,O19),"")
A20: Fogászat (szakellátás) | P20: =IF(SUM(H20,J20,L20,N20)>0,SUM(H20,J20,L20,N20),"") | Q20: =IF(SUM(I20,K20,M20,O20)>0,SUM(I20,K20,M20,O20),"")
A21: Védőnői szolgálat | P21: =IF(SUM(H21,J21,L21,N21)>0,SUM(H21,J21,L21,N21),"") | Q21: =IF(SUM(I21,K21,M21,O21)>0,SUM(I21,K21,M21,O21),"")
A22: Iskola-egészségügy | P22: =IF(SUM(H22,J22,L22,N22)>0,SUM(H22,J22,L22,N22),"") | Q22: =IF(SUM(I22,K22,M22,O22)>0,SUM(I22,K22,M22,O22),"")
A23: Összesen | B23: =SUM(B16:B22) -> 0 | C23: =SUM(C16:C22) -> 0 | D23: =SUM(D16:D22) -> 0 | E23: =SUM(E16:E22) -> 0 | F23: =SUM(F16:F22) -> 0 | G23: =SUM(G16:G22) -> 0 | H23: =SUM(H16:H22) -> 0 | I23: =SUM(I16:I22) -> 0 | ... S23: =SUM(S16:S22) -> 0

Sheet 6 (statisztikai)
A1: Szakfeladat | B1: Teljes munkaidő | J1: Részmunkaidő
B2: orvos | D2: felsőfokú végzettségű | F2: szakdolgozó | H2: egyéb | J2: orvos | L2: felsőfokú végzettségű | N2: szakdolgozó | P2: egyéb
B3: 2014 terv | C3: 2014 tény | D3: =B3 -> 2014 terv | E3: =C3 -> 2014 tény | F3: =D3 -> 2014 terv | G3: =E3 -> 2014 tény | H3: =F3 -> 2014 terv | I3: =G3 -> 2014 tény | J3: =H3 -> 2014 terv | K3: =I3 -> 2014 tény | ... Q3: =O3 -> 2014 tény
A4: Igazgatás | D4: 8 | E4: 8 | H4: 10 | I4: 9 | Q4: 1.3
A5: Otthoni szakápolás | D5: 1 | E5: 0.5 | F5: 1 | G5: 1.2
A6: Járóbeteg | B6: 41 | C6: 39.9 | D6: 12 | E6: 10 | F6: 101 | G6: 96.3 | H6: 20 | I6: 19.7 | J6: 12 | K6: 13.9 | L6: 1.2 | M6: 0.6 | N6: 9.2 | O6: 12.3 | P6: 2.5 | Q6: 2.3
A7: Egynapos sebészet | B7: 1 | C7: 2 | D7: 1 | E7: 1 | F7: 7 | G7: 6 | I7: 1.9 | J7: 0.1 | K7: 0.1
A8: Fogászat (szakellátás) | B8: 1 | C8: 1 | F8: 2 | G8: 2
A9: Védőnői szolgálat | D9: 42 | E9: 39.4
A10: Iskola-egészségügy | B10: 5 | C10: 3.9
A11: Összesen | B11: =SUM(B4:B10) -> 48 | C11: =SUM(C4:C10) -> 46.8 | D11: =SUM(D4:D10) -> 64 | E11: =SUM(E4:E10) -> 58.9 | F11: =SUM(F4:F10) -> 111 | G11: =SUM(G4:G10) -> 105.5 | H11: =SUM(H4:H10) -> 30 | I11: =SUM(I4:I10) -> 30.6 | ... Q11: =SUM(Q4:Q10) -> 3.6
A13: Szakfeladat | B13: Közreműködői szerződés | J13: Összesen | R13: Összesen | T13: Megbízási szerződés
B14: orvos | D14: felsőfokú végzettségű | F14: szakdolgozó | H14: egyéb | J14: orvos | L14: felsőfokú végzettségű | N14: szakdolgozó | P14: egyéb
B15: =B3 -> 2014 terv | C15: =C3 -> 2014 tény | D15: =D3 -> 2014 terv | E15: =E3 -> 2014 tény | F15: =F3 -> 2014 terv | G15: =G3 -> 2014 tény | H15: =F15 -> 2014 terv | I15: =G15 -> 2014 tény | J15: =L3 -> 2014 terv | K15: =M3 -> 2014 tény | L15: =N3 -> 2014 terv | M15: =O3 -> 2014 tény | N15: =P3 -> 2014 terv | O15: =Q3 -> 2014 tény | P15: =N15 -> 2014 terv | Q15: =O15 -> 2014 tény | R15: =P15 -> 2014 terv | S15: =Q15 -> 2014 tény | T15: =R15 -> 2014 terv | U15: =S15 -> 2014 tény
A16: Igazgatás | J16: =SUM(B4,J4,B16) -> 0 | K16: =SUM(C4,K4,C16) -> 0 | L16: =SUM(D4,L4,D16) -> 8 | M16: =SUM(E4,M4,E16) -> 8 | N16: =SUM(F4,N4,F16) -> 0 | O16: =SUM(G4,O4,G16) -> 0 | P16: =SUM(H4,P4,H16) -> 10 | Q16: =SUM(I4,Q4,I16) -> 10.3 | R16: =IF(SUM(J16,L16,N16,P16)>0,SUM(J16,L16,N16,P16),"") -> 18 | S16: =IF(SUM(K16,M16,O16,Q16)>0,SUM(K16,M16,O16,Q16),"") -> 18.3 | T16: 0.4 | U16: 0.4
A17: Otthoni szakápolás | J17: =SUM(B5,J5,B17) -> 0 | K17: =SUM(C5,K5,C17) -> 0 | L17: =SUM(D5,L5,D17) -> 1 | M17: =SUM(E5,M5,E17) -> 0.5 | N17: =SUM(F5,N5,F17) -> 1 | O17: =SUM(G5,O5,G17) -> 1.2 | P17: =SUM(H5,P5,H17) -> 0 | Q17: =SUM(I5,Q5,I17) -> 0 | R17: =IF(SUM(J17,L17,N17,P17)>0,SUM(J17,L17,N17,P17),"") -> 2 | S17: =IF(SUM(K17,M17,O17,Q17)>0,SUM(K17,M17,O17,Q17),"") -> 1.7
A18: Járóbeteg | B18: 3.6 | C18: 3.4 | D18: 0.2 | E18: 0.2 | J18: =SUM(B6,J6,B18) -> 56.6 | K18: =SUM(C6,K6,C18) -> 57.2 | L18: =SUM(D6,L6,D18) -> 13.4 | M18: =SUM(E6,M6,E18) -> 10.8 | N18: =SUM(F6,N6,F18) -> 110.2 | O18: =SUM(G6,O6,G18) -> 108.6 | P18: =SUM(H6,P6,H18) -> 22.5 | Q18: =SUM(I6,Q6,I18) -> 22 | R18: =IF(SUM(J18,L18,N18,P18)>0,SUM(J18,L18,N18,P18),"") -> 202.7 | S18: =IF(SUM(K18,M18,O18,Q18)>0,SUM(K18,M18,O18,Q18),"") -> 198.6 | T18: 1.5 | U18: 1.5
A19: Egynapos sebészet | B19: 0.2 | C19: 0.2 | J19: =SUM(B7,J7,B19) -> 1.3 | K19: =SUM(C7,K7,C19) -> 2.3 | L19: =SUM(D7,L7,D19) -> 1 | M19: =SUM(E7,M7,E19) -> 1 | N19: =SUM(F7,N7,F19) -> 7 | O19: =SUM(G7,O7,G19) -> 6 | P19: =SUM(H7,P7,H19) -> 0 | Q19: =SUM(I7,Q7,I19) -> 1.9 | R19: =IF(SUM(J19,L19,N19,P19)>0,SUM(J19,L19,N19,P19),"") -> 9.3 | S19: =IF(SUM(K19,M19,O19,Q19)>0,SUM(K19,M19,O19,Q19),"") -> 11.2
A20: Fogászat (szakellátás) | B20: 1 | C20: 1 | J20: =SUM(B8,J8,B20) -> 2 | K20: =SUM(C8,K8,C20) -> 2 | L20: =SUM(D8,L8,D20) -> 0 | M20: =SUM(E8,M8,E20) -> 0 | N20: =SUM(F8,N8,F20) -> 2 | O20: =SUM(G8,O8,G20) -> 2 | P20: =SUM(H8,P8,H20) -> 0 | Q20: =SUM(I8,Q8,I20) -> 0 | R20: =IF(SUM(J20,L20,N20,P20)>0,SUM(J20,L20,N20,P20),"") -> 4 | S20: =IF(SUM(K20,M20,O20,Q20)>0,SUM(K20,M20,O20,Q20),"") -> 4
A21: Védőnői szolgálat | J21: =SUM(B9,J9,B21) -> 0 | K21: =SUM(C9,K9,C21) -> 0 | L21: =SUM(D9,L9,D21) -> 42 | M21: =SUM(E9,M9,E21) -> 39.4 | N21: =SUM(F9,N9,F21) -> 0 | O21: =SUM(G9,O9,G21) -> 0 | P21: =SUM(H9,P9,H21) -> 0 | Q21: =SUM(I9,Q9,I21) -> 0 | R21: =IF(SUM(J21,L21,N21,P21)>0,SUM(J21,L21,N21,P21),"") -> 42 | S21: =IF(SUM(K21,M21,O21,Q21)>0,SUM(K21,M21,O21,Q21),"") -> 39.4 | T21: 0.5 | U21: 0.5
A22: Iskola-egészségügy | J22: =SUM(B10,J10,B22) -> 5 | K22: =SUM(C10,K10,C22) -> 3.9 | L22: =SUM(D10,L10,D22) -> 0 | M22: =SUM(E10,M10,E22) -> 0 | N22: =SUM(F10,N10,F22) -> 0 | O22: =SUM(G10,O10,G22) -> 0 | P22: =SUM(H10,P10,H22) -> 0 | Q22: =SUM(I10,Q10,I22) -> 0 | R22: =IF(SUM(J22,L22,N22,P22)>0,SUM(J22,L22,N22,P22),"") -> 5 | S22: =IF(SUM(K22,M22,O22,Q22)>0,SUM(K22,M22,O22,Q22),"") -> 3.9
A23: Összesen | B23: =SUM(B16:B22) -> 4.8 | C23: =SUM(C16:C22) -> 4.6 | D23: =SUM(D16:D22) -> 0.2 | E23: =SUM(E16:E22) -> 0.2 | F23: =SUM(F16:F22) -> 0 | G23: =SUM(G16:G22) -> 0 | H23: =SUM(H16:H22) -> 0 | I23: =SUM(I16:I22) -> 0 | ... U23: =SUM(U16:U22) -> 2.4

Sheet 7
C1: 2013. év | F1: 2014 évi terv | I1: 2014. év | L1: 2014. év aránya a tervhez képest
C2: Teljes és Részmunkaidős | D2: További munkaviszony/ Megbízási szerződéses | E2: Összesen | F2: Teljes és Részmunkaidős | G2: További munkaviszony/ Megbízási szerződéses | H2: Összesen | I2: Teljes és Részmunkaidős | J2: További munkaviszony/ Megbízási szerződéses | K2: Összesen | L2: Teljes és Részmunkaidős | M2: További munkaviszony/ Megbízási szerződéses | N2: Összesen
A3: 1 | B3: alapbér | C3: 648791 | D3: 10541 | E3: =SUM(C3:D3) -> 659332 | F3: 679401 | G3: 8460 | H3: =SUM(F3:G3) -> 687861 | I3: 646338 | J3: =7578+80 -> 7658 | K3: =SUM(I3:J3) -> 653996 | L3: =I3/F3 -> 0.95133507 | M3: =J3/G3 -> 0.90520095 | N3: =K3/H3 -> 0.95076767
B4: bérkompenzáció közhasznú munkavállalóknak | C4: 23659 | E4: =SUM(C4:D4) -> 23659 | H4: =SUM(F4:G4) -> 0 | I4: 21539 | K4: =SUM(I4:J4) -> 21539
B5: OEP bértámogatás | C5: 63522 | E5: =SUM(C5:D5) -> 63522 | F5: 107827 | H5: =SUM(F5:G5) -> 107827 | I5: 88945 | K5: =SUM(I5:J5) -> 88945 | L5: =I5/F5 -> 0.82488616 | N5: =K5/H5 -> 0.82488616
B6: OEP ágazati béremelés 2014 | C6: 29547 | E6: =SUM(C6:D6) -> 29547 | H6: =SUM(F6:G6) -> 0 | K6: =SUM(I6:J6) -> 0
B7: Illetménykiegészítés 2013.11.01.-től (védőnő, iskolaorvos) | C7: 932 | E7: =SUM(C7:D7) -> 932 | F7: 14808 | H7: =SUM(F7:G7) -> 14808 | I7: 5744 | K7: =SUM(I7:J7) -> 5744 | L7: =I7/F7 -> 0.38789843 | N7: =K7/H7 -> 0.38789843
B8: OEP ágazati béremelés 2013.01.01.-10.31.visszamenőleges | C8: 5717 | E8: =SUM(C8:D8) -> 5717 | H8: =SUM(F8:G8) -> 0 | K8: =SUM(I8:J8) -> 0
B9: Távolléti díj (alapbér jellegű része) | C9: 252 | E9: =SUM(C9:D9) -> 252 | H9: =SUM(F9:G9) -> 0 | K9: =SUM(I9:J9) -> 0
A10: 2 | B10: bérpótlékok | C10: 31134 | E10: =SUM(C10:D10) -> 31134 | F10: 35720 | H10: =SUM(F10:G10) -> 35720 | I10: 33628 | K10: =SUM(I10:J10) -> 33628 | L10: =I10/F10 -> 0.94143337 | N10: =K10/H10 -> 0.94143337
B11: védőnői pótlék (területi, OEP) | E11: =SUM(C11:D11) -> 0 | H11: =SUM(F11:G11) -> 0 | I11: 11459 | K11: =SUM(I11:J11) -> 11459
A12: 3 | B12: túlóra, helyettesítési, készenléti, ügyeleti díj | C12: 2220 | E12: =SUM(C12:D12) -> 2220 | F12: 2856 | H12: =SUM(F12:G12) -> 2856 | I12: 2464 | K12: =SUM(I12:J12) -> 2464 | L12: =I12/F12 -> 0.8627451 | N12: =K12/H12 -> 0.8627451
A13: 4 | B13: Egynapos sebészeti jutalék | C13: 4651 | E13: =SUM(C13:D13) -> 4651 | F13: 6000 | H13: =SUM(F13:G13) -> 6000 | I13: 5215 | K13: =SUM(I13:J13) -> 5215 | L13: =I13/F13 -> 0.86916667 | N13: =K13/H13 -> 0.86916667
A14: 5 | B14: keresetkiegészítés | C14: 17270 | E14: =SUM(C14:D14) -> 17270 | F14: 20864 | H14: =SUM(F14:G14) -> 20864 | I14: 20650 | K14: =SUM(I14:J14) -> 20650 | L14: =I14/F14 -> 0.9897431 | N14: =K14/H14 -> 0.9897431
B15: OEP eseti keresetkiegészítés | C15: 11194 | E15: =SUM(C15:D15) -> 11194 | H15: =SUM(F15:G15) -> 0 | I15: 11605 | K15: =SUM(I15:J15) -> 11605
A16: 6 | B16: prémium keret | C16: 13451 | E16: =SUM(C16:D16) -> 13451 | F16: 16912 | H16: =SUM(F16:G16) -> 16912 | I16: 40316 | K16: =SUM(I16:J16) -> 40316 | L16: =I16/F16 -> 2.3838694 | N16: =K16/H16 -> 2.3838694
A17: 7 | B17: jutalom | C17: 9431 | E17: =SUM(C17:D17) -> 9431 | H17: =SUM(F17:G17) -> 0 | I17: 7529 | K17: =SUM(I17:J17) -> 7529
A18: 8 | B18: jubileumi jutalom | C18: 9831 | E18: =SUM(C18:D18) -> 9831 | F18: 9392 | H18: =SUM(F18:G18) -> 9392 | I18: 8357 | K18: =SUM(I18:J18) -> 8357 | L18: =I18/F18 -> 0.88979983 | N18: =K18/H18 -> 0.88979983
A19: 9 | B19: végkielégítés, felmentési időre juttatás | C19: 2488 | E19: =SUM(C19:D19) -> 2488 | H19: =SUM(F19:G19) -> 0 | I19: 1867 | K19: =SUM(I19:J19) -> 1867
B20: munkaviszony megszűnése miatti bér | C20: 1500 | E20: =SUM(C20:D20) -> 1500 | H20: =SUM(F20:G20) -> 0 | I20: 364 | K20: =SUM(I20:J20) -> 364
A21: 10 | B21: Közhasznú munkavállalók bérköltsége | C21: =SUM(C3:C20) -> 875590 | D21: =SUM(D3:D20) -> 10541 | E21: =SUM(E3:E20) -> 886131 | F21: =SUM(F3:F20) -> 893780 | G21: =SUM(G3:G20) -> 8460 | H21: =SUM(H3:H20) -> 902240 | I21: =SUM(I3:I20) -> 906020 | J21: =SUM(J3:J19) -> 7658 | K21: =SUM(I21:J21) -> 913678 | L21: =I21/F21 -> 1.0136946 | M21: =J21/G21 -> 0.90520095 | N21: =K21/H21 -> 1.0126773
A22: 11 | B22: cafetéria | C22: 26427 | E22: =SUM(C22:D22) -> 26427 | F22: 27360 | H22: =SUM(F22:G22) -> 27360 | I22: 25497 | K22: =SUM(I22:J22) -> 25497 | L22: =I22/F22 -> 0.93190789 | N22: =K22/H22 -> 0.93190789
B23: kultúra utalvány | C23: 2090 | E23: =SUM(C23:D23) -> 2090 | K23: =SUM(I23:J23) -> 0
A24: 12 | B24: továbbképzési hozzájárulás | C24: 1588 | E24: =SUM(C24:D24) -> 1588 | F24: 2347 | H24: =SUM(F24:G24) -> 2347 | I24: 996 | K24: =SUM(I24:J24) -> 996 | L24: =I24/F24 -> 0.42437154 | N24: =K24/H24 -> 0.42437154
A25: 13 | B25: betegszabadság | C25: 6363 | E25: =SUM(C25:D25) -> 6363 | F25: 8000 | H25: =SUM(F25:G25) -> 8000 | I25: 6502 | K25: =SUM(I25:J25) -> 6502 | L25: =I25/F25 -> 0.81275 | N25: =K25/H25 -> 0.81275
B26: távolléti díj (változó része) | C26: 37 | E26: =SUM(C26:D26) -> 37 | K26: =SUM(I26:J26) -> 0
A27: 15 | B27: közlekedési költségtérítés | C27: 4730 | E27: =SUM(C27:D27) -> 4730 | F27: 5833 | H27: =SUM(F27:G27) -> 5833 | I27: 4525 | K27: =SUM(I27:J27) -> 4525 | L27: =I27/F27 -> 0.77575861 | N27: =K27/H27 -> 0.77575861
A28: 16 | B28: választott tisztségviselők díja (FB, ügyvezető ig.) | D28: 1680 | E28: =SUM(C28:D28) -> 1680 | G28: 1680 | H28: =SUM(F28:G28) -> 1680 | J28: 1680 | K28: =SUM(I28:J28) -> 1680 | M28: =J28/G28 -> 1 | N28: =K28/H28 -> 1
A29: 17 | B29: reprezentáció, egyéb személyi jellegű kifizetés | C29: 1626 | E29: =SUM(C29:D29) -> 1626 | H29: =SUM(F29:G29) -> 0 | I29: 2189 | K29: =SUM(I29:J29) -> 2189
A30: 18 | B30: Szociális jellegű juttatások | C30: 1591 | E30: =SUM(C30:D30) -> 1591 | F30: 2000 | H30: =SUM(F30:G30) -> 2000 | I30: 1934 | K30: =SUM(I30:J30) -> 1934 | L30: =I30/F30 -> 0.967 | N30: =K30/H30 -> 0.967
A31: 19 | B31: Táppénz hozzájárulás | C31: 998 | E31: =SUM(C31:D31) -> 998 | H31: =SUM(F31:G31) -> 0 | I31: 910 | K31: =SUM(I31:J31) -> 910
A32: 20 | B32: Személyi jellegű egyéb kifizetések | C32: =SUM(C22:C31) -> 45450 | D32: =SUM(D22:D31) -> 1680 | E32: =SUM(E22:E31) -> 47130 | F32: =SUM(F22:F31) -> 45540 | G32: =SUM(G22:G31) -> 1680 | H32: =SUM(H22:H31) -> 47220 | I32: =SUM(I22:I31) -> 42553 | J32: =SUM(J22:J31) -> 1680 | K32: =SUM(I32:J32) -> 44233 | L32: =I32/F32 -> 0.93440931 | N32: =K32/H32 -> 0.93674291
A33: 21 | B33: Személyi juttatások összesen | C33: =SUM(C32,C21) -> 921040 | D33: =SUM(D32,D21) -> 12221 | E33: =SUM(E32,E21) -> 933261 | F33: =SUM(F32,F21) -> 939320 | G33: =SUM(G32,G21) -> 10140 | H33: =SUM(H32,H21) -> 949460 | I33: =SUM(I32,I21) -> 948573 | J33: =SUM(J32,J21) -> 9338 | K33: =SUM(I33:J33) -> 957911 | L33: =I33/F33 -> 1.0098507 | M33: =J33/G33 -> 0.9209073 | N33: =K33/H33 -> 1.0089008
A34: 22 | B34: Szociális hozzájárulási adó (Nyugdíjbiztosítási járulék) | C34: 219812 | E34: =SUM(C34:D34) -> 219812 | F34: 240646 | H34: =SUM(F34:G34) -> 240646 | I34: 228063 | K34: =SUM(I34:J34) -> 228063 | L34: =I34/F34 -> 0.94771158 | N34: =K34/H34 -> 0.94771158
A35: 27 | B35: Egészségügyi hozzájárulás | C35: 5265 | E35: =SUM(C35:D35) -> 5265 | I35: 5167 | K35: =SUM(I35:J35) -> 5167
A36: 28 | B36: Szakképzési hozzájárulás | C36: 2612 | E36: =SUM(C36:D36) -> 2612 | F36: 3000 | H36: =SUM(F36:G36) -> 3000 | I36: 3149 | K36: =SUM(I36:J36) -> 3149 | L36: =I36/F36 -> 1.0496667 | N36: =K36/H36 -> 1.0496667
A37: 29 | B37: Rehabilitációs hozzájárulás | C37: 4726 | E37: =SUM(C37:D37) -> 4726 | F37: 5000 | H37: =SUM(F37:G37) -> 5000 | I37: 4678 | K37: =SUM(I37:J37) -> 4678 | L37: =I37/F37 -> 0.9356 | N37: =K37/H37 -> 0.9356
A38: 30 | B38: Munkáltató által fizetett SZJA | C38: 5577 | E38: =SUM(C38:D38) -> 5577 | F38: 9709 | H38: =SUM(F38:G38) -> 9709 | I38: 5360 | K38: =SUM(I38:J38) -> 5360 | L38: =I38/F38 -> 0.55206509 | N38: =K38/H38 -> 0.55206509
A39: 31 | B39: Bérbeadás SZJA | C39: 77 | E39: =SUM(C39:D39) -> 77 | I39: 76 | K39: =SUM(I39:J39) -> 76
A40: 32 | B40: Reprezentáció | C40: 227 | E40: =SUM(C40:D40) -> 227 | I40: 289 | K40: =SUM(I40:J40) -> 289
A41: 33 | B41: Bérjárulékok összesen | C41: =SUM(C34:C40) -> 238296 | D41: =SUM(D34:D40) -> 0 | E41: =SUM(E34:E40) -> 238296 | F41: =SUM(F34:F40) -> 258355 | G41: =SUM(G34:G40) -> 0 | H41: =SUM(H34:H40) -> 258355 | I41: =SUM(I34:I40) -> 246782 | J41: =SUM(J34:J40) -> 0 | K41: =SUM(I41:J41) -> 246782 | L41: =I41/F41 -> 0.95520505 | N41: =K41/H41 -> 0.95520505
A42: 34 | B42: Személyi jellegű ráfordítás összesen | C42: =C33+C41 -> 1159336 | D42: =D33+D41 -> 12221 | E42: =E33+E41 -> 1171557 | F42: =F33+F41 -> 1197675 | G42: =G33+G41 -> 10140 | H42: =H33+H41 -> 1207815 | I42: =I33+I41 -> 1195355 | J42: =J33+J41 -> 9338 | K42: =SUM(I42:J42) -> 1204693 | L42: =I42/F42 -> 0.99806291 | M42: =J42/G42 -> 0.9209073 | N42: =K42/H42 -> 0.99741517

Sheet 8
A1: Megnevezés | C1: 2013. év | D1: 2014 évi terv | E1: 2014. év | F1: 2014. év aránya a tervhez képest
A2: 1 | B2: Egészségügyi szakmai anyagok | C2: 148237 | D2: 156000 | E2: 165338 | F2: =E2/D2 -> 1.059859
A3: 2 | B3: Gyógyszer felhasználás | C3: 10465 | D3: 13000 | E3: 10619 | F3: =E3/D3 -> 0.81684615
A4: 3 | B4: Irodaszer, nyomtatvány | C4: 8977 | D4: 10000 | E4: 8862 | F4: =E4/D4 -> 0.8862
A5: 4 | B5: Műszaki anyagok felhasználása | C5: 3231 | D5: 2000 | E5: 2448 | F5: =E5/D5 -> 1.224
A6: 5 | B6: Munkaruha, védőruha | C6: 1870 | D6: 1000 | E6: 535 | F6: =E6/D6 -> 0.535
A7: 6 | B7: Egyéb anyagköltség | C7: 2777 | D7: 3000 | E7: 2191 | F7: =E7/D7 -> 0.73033333
A8: 7 | B8: Összesen | C8: =SUM(C2:C7) -> 175557 | D8: =SUM(D2:D7) -> 185000 | E8: =SUM(E2:E7) -> 189993 | F8: =E8/D8 -> 1.0269892

Sheet 9
A1: Megnevezés | C1: 2013. év | D1: 2014 évi terv | E1: 2014. év | F1: 2014. év aránya a tervhez képest
A2: 1 | B2: Igénybe veendő egészségügyi szolgáltatások | C2: 57698 | D2: 56000 | E2: 58214 | F2: =E2/D2 -> 1.0395357
A3: 2 | B3: Kommunikációs eszközök működtetése | C3: 9766 | D3: 9000 | E3: 9101 | F3: =E3/D3 -> 1.0112222
A4: 3 | B4: Informatikai szolgáltatások, rendszerkövetés, bérszámfejtés,könyvelés | C4: 23484 | D4: 22000 | E4: 23568 | F4: =E4/D4 -> 1.0712727
A5: 4 | B5: Műszaki, karbantartási, takarítási szolgáltatások | C5: =127469-48498 -> 78971 | D5: 47000 | E5: 56011 | F5: =E5/D5 -> 1.1917234
B6: ebből - veszélyes hulladék kezelése | C6: 5474 | D6: 4320 | E6: 4699 | F6: =E6/D6 -> 1.0877315
B7: - takarítás | C7: 19781 | D7: 15800 | E7: 17029 | F7: =E7/D7 -> 1.0777848
B8: - szemétszállítás | C8: 3832 | D8: 2352 | E8: 1956 | F8: =E8/D8 -> 0.83163265
B9: - bérleti díj (Karikás u.-i háziorvosi rendelő) | C9: 8760 | D9: 8340 | E9: 9013 | F9: =E9/D9 -> 1.0806954
B10: Szegedi út, Visegrádi u. Társasház közös költsége | C10: 48498 | D10: 97000 | E10: 96996 | F10: =E10/D10 -> 0.99995876
A11: 5 | B11: Háziorvosi felnőtt és gyermekügyelet működtetése | C11: 67106 | D11: 65000 | E11: 68759 | F11: =E11/D11 -> 1.0578308
A12: 6 | B12: Közüzemi szolgáltatások igénybevétele (áram, gáz, távhő, víz-csatorna) | C12: 52060 | D12: 28000 | E12: 18693 | F12: =E12/D12 -> 0.66760714
A13: 7 | B13: Postai szolgáltatások | C13: 922 | D13: 1000 | E13: 840 | F13: =E13/D13 -> 0.84
A14: 8 | B14: Szakkönyv, folyóirat előfizetés | C14: 1070 | D14: 1000 | E14: 1006 | F14: =E14/D14 -> 1.006
A15: 9 | B15: Tanfolyamok, továbbképzések költségei | C15: 513 | D15: 700 | E15: 754 | F15: =E15/D15 -> 1.0771429
A16: 10 | B16: Számlázott szellemi tevékenységek (ügyvéd, könyvvizsgáló, stb.) | C16: 6392 | D16: 7800 | E16: 5901 | F16: =E16/D16 -> 0.75653846
A17: 11 | B17: Rendezvények költségei
A18: 12 | B18: Egyéb igénybevett szakmai szolgáltatás (pályázat, tender, hirdetés) | C18: 8633 | D18: 6500 | E18: 16651 | F18: =E18/D18 -> 2.5616923
B19: védőnői bérlet | C19: 2005 | E19: 4641
A20: 13 | B20: Egyéb szolgáltatások költségei (gépjármű műszaki, banki ktg, hatósági díj, vagyon és orvos felelőségbiztosítás) | C20: 9947 | D20: 5000 | E20: 10256 | F20: =E20/D20 -> 2.0512
A21: 14 | B21: Igénybe vett szolgáltatások értéke | C21: =SUM(C10:C20,C2:C5) -> 367065 | D21: =SUM(D10:D20,D2:D5) -> 346000 | E21: =SUM(E10:E20,E2:E5) -> 371391 | F21: =E21/D21 -> 1.0733844
A22: 15 | B22: Eladott (közvetített) szolgáltatások értéke | C22: 7567 | D22: 8000 | E22: 7930 | F22: =E22/D22 -> 0.99125
A23: 16 | B23: Összesen | C23: =SUM(C21:C22) -> 374632 | D23: =SUM(D21:D22) -> 354000 | E23: =SUM(E21:E22) -> 379321 | F23: =E23/D23 -> 1.0715282

Sheet 10
A1: Megnevezés | C1: 2013. év | D1: 2014 évi terv | E1: 2014. év | F1: 2014. év aránya a tervhez képest
A2: 1 | B2: költségek (ráfordítások) ellentételezése (hgy) | C2: 2359 | D2: 2600 | E2: 2356 | F2: =E2/D2 -> 0.90615385
A3: 2 | B3: Költségvetéssel elszámolt adók illetékek | C3: 1718 | D3: 2000 | E3: 1600 | F3: =E3/D3 -> 0.8
A4: 3 | B4: Tárgyi eszköz értékesítés nettó kivezetés | C4: 146 | D4: 500 | F4: =E4/D4 -> 0
A5: 4 | B5: egyéb ki nem emelt ráfordítások | C5: 35588 | D5: 7000 | E5: 7708 | F5: =E5/D5 -> 1.1011429
B6: Összesen | C6: =SUM(C2:C5) -> 39811 | D6: =SUM(D2:D5) -> 12100 | E6: =SUM(E2:E5) -> 11664 | F6: =E6/D6 -> 0.96396694

Sheet 11. beruházás összesen
D2: 11. sz. melléklet
A5: 2014.01.01 - 2014.12.31.
B6: gép-,müszer | C6: bútor | D6: ügyvitel-,számt. | E6: gépkocsi | F6: vagyonért.jog | G6: épület | H6: összesen
A8: Járóbeteg | B8: 22657288 | C8: 25613045 | D8: 3745661 | F8: 3054286 | H8: =SUM(B8:G8) -> 55070280
A9: Védőnői Szolg. | B9: 457158 | H9: =SUM(B9:G9) -> 457158
A10: Fogászati ell. | B10: 1541723 | H10: 1541723
A11: központi irányitás | B11: 159900 | D11: 522445 | F11: 209169 | H11: =SUM(B11:G11) -> 891514
A12: közérzetjavító
A14: összesen | B14: =SUM(B8:B12) -> 24816069 | C14: =SUM(C7:C13) -> 25613045 | D14: =SUM(D8:D12) -> 4268106 | E14: 0 | F14: =SUM(F8:F12) -> 3263455 | G14: =SUM(G8:G13) -> 0 | H14: =SUM(B14:G14) -> 57960675

Sheet 11. beruházás részletes
D2: 11./a melléklet
A3: BERUHÁZÁS 2014.01.01. - 2014.12.31.
C4: Megnevezés | D4: Érték Ft
B5: JÁRÓBETEG
A6: vagyonért.jog
C7: SOFTWER ANTIVIRUS 1 ÉVES LICENS | D7: 404241
C8: szoftver Windows 20 db | D8: 739800
C9: szoftver Office 20 db | D9: 1220000
C10: beteg előjegyzési modul fejlesztése | D10: 482600
C11: kommunikációs kábel-program | D11: 19050
B12: Szegedi út Fül-orr-gége | C12: szoftver audiométerhez | D12: 188595 | E12: =SUM(D7:D12) -> 3054286
A14: gép,-müszer
B15: Szegedi út Fizikó | C15: MOSÓ-SZÁRÍTÓGÉP | D15: 140000
B16: Szegedi út Egynapos Seb | C16: MULTIFUNKCIÓS MOTOR 2013 befejezetlen | D16: 2011871
C17: SAGGITÁLIS FŰRÉSZFEJ 2013 befejezetlen | D17: 1180148
C18: ALTATÓGÉPHEZ BYPASS SZELEP | D18: 50248
C19: KÉZIFEJ | D19: 121920
C20: HUMBY KÉS | D20: 151129
B21: Szegedi út orvos igazgató | C21: DERMATOSCÓP | D21: 64005
B22: Szegedi út Szemészet | C22: PERIMÉTER ASZTALLAL | D22: 4225915
B23: Szegedi út Laboratórium | C23: IMMUNOLÓGIAI AUTOMATA | D23: 1384300
B24: Szegedi út ODM | C24: ODM-hez XRAY SOURCE 391A168 | D24: 3700780
C25: PS PANEL | D25: 140716
B26: Szegedi út Kardiológia | C26: HOLTER 4 DB | D26: 1376680
B27: Szegedi út Fül-orr | C27: TYMPANOMÉTERHEZ NYOMTATÓ | D27: 135382
B28: Szegedi út RTG | C28: EMELŐMOTOR felvételi munkahelyhez | D28: 312001
C29: TANGENTOR KÁD (Önkorm:átadás) | D29: 3615973
C30: HŰTŐSZEKRÉNY 41 DB | D30: 2654300
C31: MIKROHULLÁMÚ SÜTŐ 2 DB | D31: 114300
C32: MOSÓ-STÁRÍTÓGÉP 2 DB | D32: 477520
C33: HULLADÉKGYŰJTŐ KÜLTÉRI | D33: 76200
C34: NAPELLENZŐ 2 DB | D34: 723900 | E34: =SUM(D15:D34) -> 22657288
A36: bútor | B36: Visegrádi u
C37: BÚTOR (Önkorm: átadás) | D37: 24477102
C38: MÜSZERKOCSI FIÓKOS 2 DB | D38: 209550
C39: RUHATÁRI FOGASÁLLVÁNY 3 DB | D39: 398145
C40: SZEKRÉNY SOR | D40: 425450
B41: Visegrádi u Urológia | C41: MÜSZERASZTAL 2 DB | D41: 102798 | E41: =SUM(D37:D41) -> 25613045
A43: ügyvitel,-számt. | C43: SZÁMÍTÓGÉP 20 DB | D43: 1680000
C44: MONITOR 20 DB | D44: 460000
C45: NYOMTATÓ 20 DB | D45: 1231900
B46: informatika 625 | C46: SZÜNETMENTES | D46: 85090
B47: Szegedi út Egynapos Seb | C47: MONITOR | D47: 288671 | E47: =SUM(D43:D47) -> 3745661
C49: Járóbeteg összesen: | D49: =SUM(D6:D48) -> 55070280
B52: Központi írányítás
A53: vagyon ért.jog | C53: WINDOWS 8,1 HU 2 DB | D53: 80899
C54: OFFICE 2013 HUN 2 DB | D54: 128270 | E54: =SUM(D53:D54) -> 209169
A56: gép,-műszer | C56: MÉRLEG RAKTÁRI | D56: 80000
C57: FŰNYIRÓ | D57: 79900 | E57: =SUM(D56:D57) -> 159900
A59: ügyvit.számt | C59: NOTEBOOK 2 DB | D59: 431292
C60: ADAPTER NOTEBOOK | D60: 10000
C61: NYOMTATÓ | D61: 81153 | E61: =SUM(D59:D61) -> 522445
C63: Központi irányítás összesen: | D63: =SUM(D53:D61) -> 891514
B66: Védőnői Szolgálat
A67: gép,-műszer
B68: Révész u | C68: KERINGTETŐ SZIVATTYÚ | D68: 97028
B69: Nővér u | C69: VIZELETVIZSGÁLÓ KÉSZÜLÉK | D69: 113030
B70: Nővér u | C70: ING pályázat DOPPLER, SZÜRŐAUDIOMÉTER | D70: 247100 | E70: =SUM(D68:D70) -> 457158
C72: Védőnői szolgálat összesen | D72: =SUM(D68:D70) -> 457158
B75: Fogászati ellátás
A76: gép,-műszer
B77: Visegrádi u | C77: KOMPRESSZOR | D77: 1541723 | E77: =SUM(D77) -> 1541723
C80: Fogászati ellátás összesen: | D80: =SUM(D77:D79) -> 1541723
B82: MINDÖSSZESEN: | D82: 57960675 | E82: =SUM(D82) -> 57960675
C83: Mindösszesen | E83: =SUM(E4:E80) -> 57960675

Sheet Eszközök
E2: 13./a melléklet
A3: XIII. ker. Egészségügyi Szolgálat Közhasznú Nonprofit Kft.
A4: MÉRLEG "A" változat ESZKÖZÖK
D5: 2013
C6: Megnevezés / E Ft | D6: 2013.12.31 Záró | E6: 2014.12.31 Záró
A7: 1 | B7: A | C7: BEFEKTETETT ESZKÖZÖK | D7: =SUM(D8,D16,D24) -> 391948 | E7: =SUM(E8,E16,E24) -> 349095
A8: 2 | B8: I. | C8: IMMATERIÁLIS JAVAK | D8: =SUM(D9:D15) -> 20275 | E8: =SUM(E9:E15) -> 14498
A9: =+A8+1 -> 3 | B9: I.1 | C9: Alapítás-átszervezés aktivált értéke
A10: =+A9+1 -> 4 | B10: I.2 | C10: Kísérleti fejlesztés aktivált értéke
A11: =+A10+1 -> 5 | B11: I.3 | C11: Vagyoni értékű jogok | D11: 20275 | E11: 14498
A12: =+A11+1 -> 6 | B12: I.4 | C12: Szellemi termékek
A13: =+A12+1 -> 7 | B13: I.5 | C13: Üzleti vagy cégérték
A14: =+A13+1 -> 8 | B14: I.6 | C14: Immateriális javakra adott előlegek
A15: =+A14+1 -> 9 | B15: I.7 | C15: Immateriális javak értékhelyesbítése
A16: =+A15+1 -> 10 | B16: II. | C16: TÁRGYI ESZKÖZÖK | D16: =SUM(D17:D23) -> 371673 | E16: =SUM(E17:E23) -> 334597
A17: =+A16+1 -> 11 | B17: II.1 | C17: Ingatlanok és kapcsolódó vagyoni értékű jogok | D17: 47414 | E17: 46404
A18: =+A17+1 -> 12 | B18: II.2 | C18: Műszaki berendezések, gépek, járművek
A19: =+A18+1 -> 13 | B19: II.3 | C19: Egyéb berendezések, felszerelések, járművek | D19: 321067 | E19: 280111
A20: =+A19+1 -> 14 | B20: II.4 | C20: Tenyészállatok
A21: =+A20+1 -> 15 | B21: II.5 | C21: Beruházások | D21: 3192 | E21: 8082
A22: =+A21+1 -> 16 | B22: II.6 | C22: Beruházásokra adott előleg
A23: =+A22+1 -> 17 | B23: II.7 | C23: Tárgyi eszközök értékhelyesbítése
A24: =+A23+1 -> 18 | B24: III. | C24: BEFEKTETETT PÉNZÜGYI ESZKÖZÖK. | D24: =SUM(D25:D32) -> 0 | E24: =SUM(E25:E32) -> 0
A25: =+A24+1 -> 19 | B25: III.1 | C25: Tartós részesedések kapcsolt vállalkozásban
A26: =+A25+1 -> 20 | B26: III.2 | C26: Tartósan adott kölcsön kapcsolt vállalkozásban
A27: =+A26+1 -> 21 | B27: III.3 | C27: Egyéb tartós részesedés
A28: =+A27+1 -> 22 | B28: III.4 | C28: Tartósan adott kölcsön egyéb részesedési viszonyban álló vállalkozásban
A29: =+A28+1 -> 23 | B29: III.5 | C29: Egyéb tartósan adott kölcsön
A30: =+A29+1 -> 24 | B30: III.6 | C30: Tartós hitelviszonyt megtestesítő értékpapír
A31: =+A30+1 -> 25 | B31: III.7 | C31: Befektetett pénzügyi eszközök értékhelyesbítése
A32: =+A31+1 -> 26 | B32: III.8 | C32: Befektetett pénzügyi eszközök értékelési különbözete
A33: =+A32+1 -> 27 | B33: B | C33: FORGÓESZKÖZÖK | D33: =SUM(D34,D41,D55) -> 37727 | E33: =SUM(E34,E41,E55) -> 37557
A34: =+A33+1 -> 28 | B34: I | C34: KÉSZLETEK | D34: =SUM(D35) -> 16679 | E34: =SUM(E35) -> 14847
A35: =+A34+1 -> 29 | B35: I.1 | C35: Anyagok | D35: 16679 | E35: 14847
A36: =+A35+1 -> 30 | B36: I.2 | C36: Befejezetlen termelés és félkész termék
A37: =+A36+1 -> 31 | B37: I.3 | C37: Növendék-, hízó- és egyéb állatok
A38: =+A37+1 -> 32 | B38: I.4 | C38: Késztermékek
A39: =+A38+1 -> 33 | B39: I.5 | C39: Áruk
A40: =+A39+1 -> 34 | B40: I.6 | C40: Készletre adott előlegek
A41: =+A40+1 -> 35 | B41: II. | C41: KÖVETELÉSEK | D41: =SUM(D42:D48) -> 6988 | E41: =SUM(E42:E48) -> 5376
A42: =+A41+1 -> 36 | B42: II.1 | C42: Követelések áruszállításból és szolgáltatásból | D42: 5489 | E42: 3426
A43: =+A42+1 -> 37 | B43: II.2 | C43: Követelések kapcsolt vállalkozással szemben
A44: =+A43+1 -> 38 | B44: II.3 | C44: Követelések egyéb részesedési viszonyban lévő vállalkozással szemben
A45: =+A44+1 -> 39 | B45: II.4 | C45: Váltókövetelések
A46: =+A45+1 -> 40 | B46: II.5 | C46: Egyéb követelések | D46: 1499 | E46: 1950
A47: =+A46+1 -> 41 | B47: II.6 | C47: Követelések értékelési különbözete
A48: =+A47+1 -> 42 | B48: II.7 | C48: Származékos ügyletek pozitív értékelési különbözete
A49: =+A48+1 -> 43 | B49: III. | C49: ÉRTÉKPAPÍROK
A50: =+A49+1 -> 44 | B50: III.1 | C50: Részesedés kapcsolt vállalkozásban
A51: =+A50+1 -> 45 | B51: III.2 | C51: Egyéb részesedés
A52: =+A51+1 -> 46 | B52: III.3 | C52: Saját részvények és részesedések
A53: =+A52+1 -> 47 | B53: III.4 | C53: Forgatási célú hitelviszonyt megtestesítő értékpapírok
A54: =+A53+1 -> 48 | B54: III.5 | C54: Értékpapírok értékelési különbözete
A55: =+A54+1 -> 49 | B55: IV. | C55: PÉNZESZKÖZÖK | D55: =SUM(D56:D57) -> 14060 | E55: =SUM(E56:E57) -> 17334
A56: =+A55+1 -> 50 | B56: IV.1 | C56: Pénztár, csekkek | D56: 69 | E56: 70
A57: =+A56+1 -> 51 | B57: IV.2 | C57: Bankbetétek | D57: 13991 | E57: 17264
A58: =+A57+1 -> 52 | B58: C | C58: AKTÍV IDŐBELI ELHATÁROLÁSOK | D58: =SUM(D59:D60) -> 170472 | E58: =SUM(E59:E60) -> 169360
A59: =+A58+1 -> 53 | B59: C.1 | C59: Bevételek aktív időbeli elhatárolása | D59: 167067 | E59: 167675
A60: =+A59+1 -> 54 | B60: C.2 | C60: Költségek, ráfordítások aktív időbeli elhatárolása | D60: 3405 | E60: 1685
A61: =+A60+1 -> 55 | B61: C.3 | C61: Halasztott ráfordítások
A62: =+A61+1 -> 56 | C62: ESZKÖZÖK ÖSSZESEN: | D62: =SUM(D7,D33,D58) -> 600147 | E62: =SUM(E7,E33,E58) -> 556012

Sheet Források
E2: 13./b melléklet
A3: XIII. ker. Egészségügyi Szolgálat Közhasznú Nonprofit Kft.
A4: MÉRLEG "A" változat FORRÁSOK
D5: 2013
C6: Megnevezés / E Ft | D6: 2013.12.31 Záró | E6: 2014.12.31 Záró
A7: 57 | B7: D. | C7: SAJÁT TŐKE | D7: =SUM(D8:D17) -> 242602 | E7: =SUM(E8:E17) -> 201224
A8: =+A7+1 -> 58 | B8: I. | C8: JEGYZETT TŐKE | D8: 407600 | E8: 407600
A9: =+A8+1 -> 59 | C9: ebből visszavásárolt tulajdoni részesedés névértéken
A10: =+A9+1 -> 60 | B10: II. | C10: JEGYZETT, DE MÉG BE NEM FIZ. TŐKE
A11: =+A10+1 -> 61 | B11: III. | C11: TŐKETARTALÉK | D11: 122752 | E11: 122752
A12: =+A11+1 -> 62 | B12: IV. | C12: EREDMÉNYTARTALÉK | D12: -190767 | E12: -287750
A13: =+A12+1 -> 63 | B13: V. | C13: LEKÖTÖTT TARTALÉK
A14: =+A13+1 -> 64 | B14: VI. | C14: ÉRTÉKELÉSI TARTALÉK
A15: =+A14+1 -> 65 | B15: VI.1 | C15: Értékhelyesbítés értékelési tartaléka
A16: =+A15+1 -> 66 | B16: VI.2 | C16: Valós értékelés értékelési tartaléka
A17: =+A16+1 -> 67 | B17: VII. | C17: MÉRLEG SZERINTI EREDMÉNY | D17: -96983 | E17: -41378
A18: =+A17+1 -> 68 | B18: E. | C18: CÉLTARTALÉKOK
A19: =+A18+1 -> 69 | B19: E.1 | C19: Céltartalék a várható kötelezettségekre
A20: =+A19+1 -> 70 | B20: E.2 | C20: Céltartalék a jövőbeni költségekre
A21: =+A20+1 -> 71 | B21: E.3 | C21: Egyéb céltartalék
A22: =+A21+1 -> 72 | B22: F. | C22: KÖTELEZETTSÉGEK | D22: =SUM(D23,D27,D36) -> 72410 | E22: =SUM(E23,E27,E36) -> 85107
A23: =+A22+1 -> 73 | B23: I. | C23: HÁTRASOROLT KÖTELEZETTSÉGEK
A24: =+A23+1 -> 74 | B24: I.1 | C24: Hátrasorolt kötelezettségek kapcsolt vállalkozással szemben
A25: =+A24+1 -> 75 | B25: I.2 | C25: Hátrasorolt kötelezettségek egyéb részesedési viszonyban lévő vállalkozással szemben
A26: =+A25+1 -> 76 | B26: I.3 | C26: Hátrasorolt kötelezettségek egyéb gazdálkodóval szemben
A27: =+A26+1 -> 77 | B27: II. | C27: HOSSZÚ LEJÁRATÚ KÖTELEZETTSÉGEK
A28: =+A27+1 -> 78 | B28: II.1 | C28: Hosszú lejáratra kapott kölcsönök
A29: =+A28+1 -> 79 | B29: II.2 | C29: Átváltoztatható kötvény
A30: =+A29+1 -> 80 | B30: II.3 | C30: Tartozások kötvénykibocsátásból
A31: =+A30+1 -> 81 | B31: II.4 | C31: Beruházási és fejlesztési hitelek
A32: =+A31+1 -> 82 | B32: II.5 | C32: Egyéb hosszú lejáratú hitelek
A33: =+A32+1 -> 83 | B33: II.6 | C33: Tartós kötelezettségek kapcsolt vállalkozással szemben
A34: =+A33+1 -> 84 | B34: II.7 | C34: Tartós kötelezettségek egyéb részesedési viszonyban lévő vállalkozással szemben
A35: =+A34+1 -> 85 | B35: II.8 | C35: Egyéb hosszú lejáratú kötelezettségek
A36: =+A35+1 -> 86 | B36: III. | C36: RÖVID LEJÁRATÚ KÖTELEZETTSÉGEK | D36: =SUM(D37:D48) -> 72410 | E36: =SUM(E37:E48) -> 85107
A37: =+A36+1 -> 87 | B37: III.1 | C37: Rövid lejáratú kölcsönök
A38: =+A37+1 -> 88 | C38: ebből az átváltoztatható kötvények
A39: =+A38+1 -> 89 | B39: III.2 | C39: Rövid lejáratú hitelek | D39: 42 | E39: 0
A40: =+A39+1 -> 90 | B40: III.3 | C40: Vevőtől kapott előlegek
A41: =+A40+1 -> 91 | B41: III.4 | C41: Kötelezettségek áruszállításból és szolgáltatásból | D41: 24093 | E41: 37327
C42: Kötelezettségek anyavállalattal szemben
A43: =+A41+1 -> 92 | B43: III.5 | C43: Váltótartozások
A44: =+A43+1 -> 93 | B44: III.6 | C44: Rövid lejáratú kötelezettségek kapcsolt vállalkozással szemben
A45: =+A44+1 -> 94 | B45: III.7 | C45: Rövid lejáratú kötelezettségek egyéb részesedési viszonyban lévő vállalkozással szemben
A46: =+A45+1 -> 95 | B46: III.8 | C46: Egyéb rövid lejáratú kötelezettségek | D46: 48275 | E46: 47780
A47: =+A46+1 -> 96 | B47: III.9 | C47: Kötelezettségek értékelési különbözete
A48: =+A47+1 -> 97 | B48: III.10 | C48: Származékos ügyletek negatív értékelési különbözete
A49: =+A48+1 -> 98 | B49: G. | C49: PASSZÍV IDŐBELI ELHATÁROLÁSOK | D49: =SUM(D50:D52) -> 285135 | E49: =SUM(E50:E52) -> 269681
A50: =+A49+1 -> 99 | B50: G.1 | C50: Bevételek passzív időbeli elhatárolása | D50: 20299 | E50: 438
A51: =+A50+1 -> 100 | B51: G.2 | C51: Költségek, ráfordítások passzív időbeli elhatárolása | D51: 9249 | E51: 24827
A52: =+A51+1 -> 101 | B52: G.3 | C52: Halasztott bevételek | D52: 255587 | E52: 244416
A53: =+A52+1 -> 102 | C53: FORRÁSOK (PASSZÍVÁK ) ÖSSZESEN: | D53: =SUM(D7,D18,D22,D49) -> 600147 | E53: =SUM(E7,E18,E22,E49) -> 556012

Sheet Eredmény
E2: 12. sz. melléklet
A3: XIII. ker. Egészségügyi Szolgálat Közhasznú Nonprofit Kft.
A4: EREDMÉNYKIMUTATÁS ÖSSZKÖLTSÉG "A"
C6: Megnevezés / E Ft | D6: 2013.12.31 Záró | E6: 2014.12.31 Záró
A7: 1 | B7: 1 | C7: Belföldi értékesítés nettó árbevétele | D7: 1567601 | E7: 1598264
C8: OEP elszámolás | D8: 1414753 | E8: 1438719
C9: saját tevékenység | D9: =D7-D8 -> 152848 | E9: =E7-E8 -> 159545
A10: =+A7+1 -> 2 | B10: 2 | C10: Export értékesítés nettó árbevétele
A11: =+A10+1 -> 3 | B11: I. | C11: ÉRTÉKESÍTÉS NETTÓ ÁRBEVÉTELE | D11: =SUM(D7,D10) -> 1567601 | E11: =SUM(E7,E10) -> 1598264
A12: =+A11+1 -> 4 | B12: 3 | C12: Saját termelésű készletek állományváltozása
A13: =+A12+1 -> 5 | B13: 4 | C13: Saját előállítású eszközök aktívált értéke
A14: =+A13+1 -> 6 | B14: II. | C14: AKTÍVÁLT SAJÁT TELJESÍTMÉNYEK ÉRTÉKE
A15: =+A14+1 -> 7 | B15: III. | C15: EGYÉB BEVÉTELEK | D15: =SUM(D16:D17) -> 125433 | E15: =SUM(E16:E17) -> 178553
C16: Önkormányzati működési támogatás | D16: 123500 | E16: 177115
C17: Egyéb bevétel | D17: 1933 | E17: =178553-E16 -> 1438
A18: =+A15+1 -> 8 | C18: ebből visszaírt értékvesztés
A19: =+A18+1 -> 9 | B19: 5 | C19: Anyagköltség | D19: 175557 | E19: 189993
A20: =+A19+1 -> 10 | B20: 6 | C20: Igénybe vett szolgáltatások | D20: 357118 | E20: 361135
A21: =+A20+1 -> 11 | B21: 7 | C21: Egyéb szolgáltatások értéke | D21: 9947 | E21: 10256
A22: =+A21+1 -> 12 | B22: 8 | C22: Eladott áruk beszerzési értéke
A23: =+A22+1 -> 13 | B23: 9 | C23: Eladott (közvetített) szolgáltatások értéke | D23: 7567 | E23: 7930
A24: =+A23+1 -> 14 | B24: IV. | C24: ANYAGJELLEGŰ RÁFORDÍTÁSOK | D24: =SUM(D19:D23) -> 550189 | E24: =SUM(E19:E23) -> 569314
A25: =+A24+1 -> 15 | B25: 10 | C25: Bérköltség | D25: 886131 | E25: 913678
A26: =+A25+1 -> 16 | B26: 11 | C26: Személyi jellegű egyéb kifizetések | D26: 47130 | E26: 44233
A27: =+A26+1 -> 17 | B27: 12 | C27: Bérjárulékok | D27: 238296 | E27: 246782
A28: =+A27+1 -> 18 | B28: V. | C28: SZEMÉLYI JELLEGŰ RÁFORDÍTÁSOK | D28: =SUM(D25:D27) -> 1171557 | E28: =SUM(E25:E27) -> 1204693
A29: =+A28+1 -> 19 | B29: VI. | C29: ÉRTÉKCSÖKKENÉSI LEÍRÁS | D29: 84712 | E29: 128405
A30: =+A29+1 -> 20 | B30: VII. | C30: EGYÉB RÁFORDÍTÁSOK | D30: 16240 | E30: 11664
A31: =+A30+1 -> 21 | C31: ebből értékvesztés
A32: =+A31+1 -> 22 | B32: A | C32: ÜZEMI TEVÉKENYSÉG EREDMÉNYE | D32: =D11+D15-D24-D28-D29-D30 -> -129664 | E32: =E11+E15-E24-E28-E29-E30 -> -137259
A33: =+A32+1 -> 23 | B33: 13 | C33: Kapott osztalék és részesedés
A34: =+A33+1 -> 24 | C34: ebből kapcsolt vállalkozástól kapott
A35: =+A34+1 -> 25 | B35: 14 | C35: Részesedés értékesítésének árfolyamnyeresége
A36: =+A35+1 -> 26 | C36: ebből kapcsolt vállalkozástól kapott
A37: =+A36+1 -> 27 | B37: 15 | C37: Befektetett pénzügyi eszközök kamatai, árfolyamnyeresége
A38: =+A37+1 -> 28 | C38: ebből kapcsolt vállalkozástól kapott
A39: =+A38+1 -> 29 | B39: 16 | C39: Egyéb kapott kamatok és kamatjellegű bevételek | D39: 1431 | E39: 159
A40: =+A39+1 -> 30 | C40: ebből kapcsolt vállalkozástól kapott
A41: =+A40+1 -> 31 | B41: 17 | C41: Pénzügyi műveletek egyéb bevételei
A42: =+A41+1 -> 32 | C42: ebből: értékelési különbözet
A43: =+A42+1 -> 33 | B43: IX. | C43: PÉNZÜGYI MŰVELETEK BEVÉTELEI | D43: =SUM(D33,D35,D37,D39,D41) -> 1431 | E43: =SUM(E33,E35,E37,E39,E41) -> 159
A44: =+A43+1 -> 34 | B44: 18 | C44: Befektetett pénzügyi eszközök árfolyamvesztesége
A45: =+A44+1 -> 35 | C45: ebből kapcsolt vállalkozásnak adott
A46: =+A45+1 -> 36 | B46: 19 | C46: Fizetendő kamatok és kamatjellegű ráfordítások
A47: =+A46+1 -> 37 | C47: ebből kapcsolt vállalkozásnak adott
A48: =+A47+1 -> 38 | B48: 20 | C48: Részesedések, értékpapírok, bankbetétek értékvesztése
A49: =+A48+1 -> 39 | B49: 21 | C49: Pénzügyi műveletek egyéb ráfordításai
A50: =+A49+1 -> 40 | C50: ebből: értékelési különbözet
A51: =+A50+1 -> 41 | B51: X. | C51: PÉNZÜGYI MŰVELETEK RÁFORDÍTÁSAI | D51: =SUM(D44,D46,D48,D49) -> 0 | E51: =SUM(E44,E46,E48,E49) -> 0
A52: =+A51+1 -> 42 | B52: B | C52: Pénzügyi műveletek eredménye | D52: =D43-D51 -> 1431 | E52: =E43-E51 -> 159
A53: =+A52+1 -> 43 | B53: C | C53: Szokásos vállalkozási eredmény | D53: =SUM(D32+D52) -> -128233 | E53: =SUM(E32+E52) -> -137100
A54: =+A53+1 -> 44 | B54: XI. | C54: RENDKÍVÜLI BEVÉTELEK | D54: 54821 | E54: 95722
A55: =+A54+1 -> 45 | B55: XII. | C55: RENDKÍVÜLI RÁFORDÍTÁSOK | D55: 23571
A56: =+A55+1 -> 46 | B56: D | C56: RENDKÍVÜLI EREDMÉNY | D56: =D54-D55 -> 31250 | E56: =E54-E55 -> 95722
A57: =+A56+1 -> 47 | B57: E | C57: ADÓZÁS ELŐTTI EREDMÉNY | D57: =D53+D56 -> -96983 | E57: =E53+E56 -> -41378
A58: =+A57+1 -> 48 | B58: XIII. | C58: ADÓFIZETÉSI KÖTELEZETTSÉG
A59: =+A58+1 -> 49 | B59: F | C59: ADÓZOTT EREDMÉNY | D59: =D57-D58 -> -96983 | E59: =E57-E58 -> -41378
A60: =+A59+1 -> 50 | B60: 22 | C60: Eredménytartalék igénybevétele osztalékra
A61: =+A60+1 -> 51 | B61: 23 | C61: Fizetett (jóváhagyott) osztalék és részesedés
A62: =+A61+1 -> 52 | B62: G | C62: MÉRLEG SZERINTI EREDMÉNY | D62: =D59+D60+D61 -> -96983 | E62: =E59+E60+E61 -> -41378

Sheet Szegedi társasház
G2: 14. sz. melléklet
A3: Budapest, XIII. kerület Szegedi út 17.sz.Egészségház Társasház
A7: 2014. év
A12: BEVÉTEL eFt
E13: Éves terv | F13: Éves tény | G13: %
A14: Közös költség | E14: 54232 | F14: =SUM(54228,3950)-2100 -> 56078 | G14: =F14/E14 -> 1.0340389
A18: KIADÁS eFt
E19: Éves terv | F19: Éves tény | G19: %
A20: Közüzemi szolgáltatás | E20: 30761 | F20: 30865 | G20: =F20/E20 -> 1.0033809
A21: Takarítás | E21: 2280 | F21: 2060 | G21: =F21/E21 -> 0.90350877
A22: Őrzés-védelem | E22: 10200 | F22: 9864 | G22: =F22/E22 -> 0.96705882
A23: Ingatlan karbantartás | E23: 4756 | F23: 5366 | G23: =F23/E23 -> 1.128259
A24: Lift karbantartás | E24: 2020 | F24: 4343 | G24: =F24/E24 -> 2.15
A25: Szemétszállítás | E25: 2160 | F25: 2119 | G25: =F25/E25 -> 0.98101852
A26: Tranzakciós-bankköltség | E26: 250 | F26: 303 | G26: =F26/E26 -> 1.212
A27: Vagyonbiztosítás | E27: 1350 | F27: 820 | G27: =F27/E27 -> 0.60740741
A28: Jogi tanácsadás-könyvvizsgálat | E28: 305 | F28: 305 | G28: =F28/E28 -> 1
A29: Közös képviseleti díj | E29: 150 | F29: 0 | G29: =F29/E29 -> 0
A30: Összesen: | E30: =SUM(E20:E29) -> 54232 | F30: =SUM(F20:F29) -> 56045 | G30: =F30/E30 -> 1.0334304
E33: Bevétel - Kiadás : | F33: 33

Sheet Visegrádi társasház
G2: 15.sz.melléklet
A3: Budapest, XIII. kerület Visegrádi u. 47/C- Alig u. 9.sz. Egészségház Társasház
A7: 2014. év
A12: BEVÉTEL eFt
E13: Éves terv | F13: Éves tény | G13: %
A14: Közös költség | E14: 42768 | F14: =SUM(42768,474)-3564 -> 39678 | G14: =F14/E14 -> 0.92774972
A15: Biztosító | E15: 0 | F15: 1094
A18: KIADÁS eFt
E19: Éves terv | F19: Éves tény | G19: %
A20: Közüzemi szolgáltatás | E20: 22211 | F20: 21041 | G20: =F20/E20 -> 0.9473234
A21: Takarítás | E21: 3660 | F21: 3323 | G21: =F21/E21 -> 0.9079235
A22: Őrzés-védelem | E22: 13060 | F22: 12515 | G22: =F22/E22 -> 0.95826953
A23: Ingatlan karbantartás | E23: 832 | F23: 1722 | G23: =F23/E23 -> 2.0697115
A24: Lift karbantartás | E24: 350 | F24: 201 | G24: =F24/E24 -> 0.57428571
A25: Szemétszállítás | E25: 1200 | F25: 1177 | G25: =F25/E25 -> 0.98083333
A26: Tranzakciós-bankköltség | E26: 200 | F26: 239 | G26: =F26/E26 -> 1.195
A27: Vagyonbiztosítás | E27: 800 | F27: 247 | G27: =F27/E27 -> 0.30875
A28: Jogi tanácsadás-könyvvizsgálat | E28: 305 | F28: 305 | G28: =F28/E28 -> 1
A29: Közös képviseleti díj | E29: 150 | F29: 0 | G29: =F29/E29 -> 0
A30: Összesen: | E30: =SUM(E20:E29) -> 42768 | F30: =SUM(F20:F29) -> 40770 | G30: =F30/E30 -> 0.95328283
E33: Bevétel - Kiadás : | F33: 2

Sheet Munka5

Sheet Munka3
