Workbook

Sheet 1
A1: Munkahely | D1: Jelentett esetszám | G1: Jelentett beavatkozásszám | J1: Jelentett pontszám
D2: Összesen. | G2: Összesen: | J2: Összesen:
D3: 2014 | E3: 2015 | F3: trend | G3: 2014 | H3: 2015 | I3: trend | J3: 2014 | K3: 2015 | L3: trend
A4: Általános belgyógyászat | D4: ='1 (szegedi)'!D4+'1 (visegrádi)'!D4 -> 2488 | E4: ='1 (szegedi)'!E4+'1 (visegrádi)'!E4 -> 2302 | F4: =E4/D4 -> 0.92524116 | G4: ='1 (szegedi)'!G4+'1 (visegrádi)'!G4 -> 6780 | H4: ='1 (szegedi)'!H4+'1 (visegrádi)'!H4 -> 6213 | I4: =H4/G4 -> 0.91637168 | J4: ='1 (szegedi)'!J4+'1 (visegrádi)'!J4 -> 2592966 | K4: ='1 (szegedi)'!K4+'1 (visegrádi)'!K4 -> 2387194 | L4: =K4/J4 -> 0.92064223
A5: Belgyógyászat-Diabetológia | D5: ='1 (szegedi)'!D5+'1 (visegrádi)'!D5 -> 3484 | E5: ='1 (szegedi)'!E5+'1 (visegrádi)'!E5 -> 3544 | F5: =E5/D5 -> 1.0172216 | G5: ='1 (szegedi)'!G5+'1 (visegrádi)'!G5 -> 10752 | H5: ='1 (szegedi)'!H5+'1 (visegrádi)'!H5 -> 9759 | I5: =H5/G5 -> 0.90764509 | J5: ='1 (szegedi)'!J5+'1 (visegrádi)'!J5 -> 1805231 | K5: ='1 (szegedi)'!K5+'1 (visegrádi)'!K5 -> 1614474 | L5: =K5/J5 -> 0.89433097
A6: Gasztroenterológia | D6: ='1 (szegedi)'!D6+'1 (visegrádi)'!D6 -> 2810 | E6: ='1 (szegedi)'!E6+'1 (visegrádi)'!E6 -> 2830 | F6: =E6/D6 -> 1.0071174 | G6: ='1 (szegedi)'!G6+'1 (visegrádi)'!G6 -> 5398 | H6: ='1 (szegedi)'!H6+'1 (visegrádi)'!H6 -> 5391 | I6: =H6/G6 -> 0.99870322 | J6: ='1 (szegedi)'!J6+'1 (visegrádi)'!J6 -> 5824525 | K6: ='1 (szegedi)'!K6+'1 (visegrádi)'!K6 -> 5959166 | L6: =K6/J6 -> 1.0231162
A7: Kardiológia | D7: ='1 (szegedi)'!D7+'1 (visegrádi)'!D7 -> 12268 | E7: ='1 (szegedi)'!E7+'1 (visegrádi)'!E7 -> 11871 | F7: =E7/D7 -> 0.96763939 | G7: ='1 (szegedi)'!G7+'1 (visegrádi)'!G7 -> 30343 | H7: ='1 (szegedi)'!H7+'1 (visegrádi)'!H7 -> 29849 | I7: =H7/G7 -> 0.98371947 | J7: ='1 (szegedi)'!J7+'1 (visegrádi)'!J7 -> 23934422 | K7: ='1 (szegedi)'!K7+'1 (visegrádi)'!K7 -> 23822426 | L7: =K7/J7 -> 0.99532071
A8: Sebészet | D8: ='1 (szegedi)'!D8+'1 (visegrádi)'!D8 -> 23661 | E8: ='1 (szegedi)'!E8+'1 (visegrádi)'!E8 -> 23786 | F8: =E8/D8 -> 1.005283 | G8: ='1 (szegedi)'!G8+'1 (visegrádi)'!G8 -> 117004 | H8: ='1 (szegedi)'!H8+'1 (visegrádi)'!H8 -> 114916 | I8: =H8/G8 -> 0.98215446 | J8: ='1 (szegedi)'!J8+'1 (visegrádi)'!J8 -> 38579104 | K8: ='1 (szegedi)'!K8+'1 (visegrádi)'!K8 -> 37941280 | L8: =K8/J8 -> 0.98346711
A9: Traumatológia | D9: ='1 (szegedi)'!D9+'1 (visegrádi)'!D9 -> 13641 | E9: ='1 (szegedi)'!E9+'1 (visegrádi)'!E9 -> 12819 | F9: =E9/D9 -> 0.93974049 | G9: ='1 (szegedi)'!G9+'1 (visegrádi)'!G9 -> 60173 | H9: ='1 (szegedi)'!H9+'1 (visegrádi)'!H9 -> 55754 | I9: =H9/G9 -> 0.92656175 | J9: ='1 (szegedi)'!J9+'1 (visegrádi)'!J9 -> 19997428 | K9: ='1 (szegedi)'!K9+'1 (visegrádi)'!K9 -> 18519499 | L9: =K9/J9 -> 0.92609405
A10: Proktológia | D10: ='1 (szegedi)'!D10+'1 (visegrádi)'!D10 -> 2438 | E10: ='1 (szegedi)'!E10+'1 (visegrádi)'!E10 -> 2490 | F10: =E10/D10 -> 1.021329 | G10: ='1 (szegedi)'!G10+'1 (visegrádi)'!G10 -> 11269 | H10: ='1 (szegedi)'!H10+'1 (visegrádi)'!H10 -> 11710 | I10: =H10/G10 -> 1.0391339 | J10: ='1 (szegedi)'!J10+'1 (visegrádi)'!J10 -> 3469260 | K10: ='1 (szegedi)'!K10+'1 (visegrádi)'!K10 -> 3570932 | L10: =K10/J10 -> 1.0293065
A11: Aneszteziológia | D11: ='1 (szegedi)'!D11+'1 (visegrádi)'!D11 -> 997 | E11: ='1 (szegedi)'!E11+'1 (visegrádi)'!E11 -> 1106 | F11: =E11/D11 -> 1.109328 | G11: ='1 (szegedi)'!G11+'1 (visegrádi)'!G11 -> 1985 | H11: ='1 (szegedi)'!H11+'1 (visegrádi)'!H11 -> 2192 | I11: =H11/G11 -> 1.1042821 | J11: ='1 (szegedi)'!J11+'1 (visegrádi)'!J11 -> 1319274 | K11: ='1 (szegedi)'!K11+'1 (visegrádi)'!K11 -> 1457736 | L11: =K11/J11 -> 1.1049532
A12: Nőgyógyászat-terhesgond. | D12: ='1 (szegedi)'!D12+'1 (visegrádi)'!D12 -> 22308 | E12: ='1 (szegedi)'!E12+'1 (visegrádi)'!E12 -> 23250 | F12: =E12/D12 -> 1.042227 | G12: ='1 (szegedi)'!G12+'1 (visegrádi)'!G12 -> 84883 | H12: ='1 (szegedi)'!H12+'1 (visegrádi)'!H12 -> 84834 | I12: =H12/G12 -> 0.99942273 | J12: ='1 (szegedi)'!J12+'1 (visegrádi)'!J12 -> 30178931 | K12: ='1 (szegedi)'!K12+'1 (visegrádi)'!K12 -> 28849687 | L12: =K12/J12 -> 0.95595457
A13: Fül-orr - gégészet | D13: ='1 (szegedi)'!D13+'1 (visegrádi)'!D13 -> 22108 | E13: ='1 (szegedi)'!E13+'1 (visegrádi)'!E13 -> 22319 | F13: =E13/D13 -> 1.0095441 | G13: ='1 (szegedi)'!G13+'1 (visegrádi)'!G13 -> 81168 | H13: ='1 (szegedi)'!H13+'1 (visegrádi)'!H13 -> 86619 | I13: =H13/G13 -> 1.067157 | J13: ='1 (szegedi)'!J13+'1 (visegrádi)'!J13 -> 20722891 | K13: ='1 (szegedi)'!K13+'1 (visegrádi)'!K13 -> 21758909 | L13: =K13/J13 -> 1.0499939
A14: Audiológia | D14: ='1 (szegedi)'!D14+'1 (visegrádi)'!D14 -> 1607 | E14: ='1 (szegedi)'!E14+'1 (visegrádi)'!E14 -> 1697 | F14: =E14/D14 -> 1.056005 | G14: ='1 (szegedi)'!G14+'1 (visegrádi)'!G14 -> 11541 | H14: ='1 (szegedi)'!H14+'1 (visegrádi)'!H14 -> 11581 | I14: =H14/G14 -> 1.0034659 | J14: ='1 (szegedi)'!J14+'1 (visegrádi)'!J14 -> 2493872 | K14: ='1 (szegedi)'!K14+'1 (visegrádi)'!K14 -> 2592616 | L14: =K14/J14 -> 1.0395947
A15: Szemészet | D15: ='1 (szegedi)'!D15+'1 (visegrádi)'!D15 -> 24857 | E15: ='1 (szegedi)'!E15+'1 (visegrádi)'!E15 -> 25047 | F15: =E15/D15 -> 1.0076437 | G15: ='1 (szegedi)'!G15+'1 (visegrádi)'!G15 -> 239185 | H15: ='1 (szegedi)'!H15+'1 (visegrádi)'!H15 -> 248818 | I15: =H15/G15 -> 1.0402743 | J15: ='1 (szegedi)'!J15+'1 (visegrádi)'!J15 -> 40971733 | K15: ='1 (szegedi)'!K15+'1 (visegrádi)'!K15 -> 42182624 | L15: =K15/J15 -> 1.0295543
... A28: Fogászat (szakellátás) | D28: ='1 (szegedi)'!D28+'1 (visegrádi)'!D28 -> 6308 | E28: ='1 (szegedi)'!E28+'1 (visegrádi)'!E28 -> 7080 | F28: =E28/D28 -> 1.1223843 | G28: ='1 (szegedi)'!G28+'1 (visegrádi)'!G28 -> 15095 | H28: ='1 (szegedi)'!H28+'1 (visegrádi)'!H28 -> 16850 | I28: =H28/G28 -> 1.1162637 | J28: ='1 (szegedi)'!J28+'1 (visegrádi)'!J28 -> 6906730 | K28: ='1 (szegedi)'!K28+'1 (visegrádi)'!K28 -> 7323490 | L28: =K28/J28 -> 1.0603411
A30: Összes szakrendelés | D30: =SUM(D4:D28)-D27-D28 -> 376821 | E30: =SUM(E4:E28)-E27-E28 -> 377994 | F30: =E30/D30 -> 1.0031129 | G30: =SUM(G4:G28)-G27-G28 -> 1834461 | H30: =SUM(H4:H28)-H27-H28 -> 1825173 | I30: =H30/G30 -> 0.99493693 | J30: =SUM(J4:J28)-J27-J28 -> 482448365 | K30: =SUM(K4:K28)-K27-K28 -> 478663688 | L30: =K30/J30 -> 0.99215527
A32: Összes labor | D32: ='1 (szegedi)'!D32+'1 (visegrádi)'!D32 -> 73115 | E32: ='1 (szegedi)'!E32+'1 (visegrádi)'!E32 -> 74165 | F32: =E32/D32 -> 1.0143609 | G32: ='1 (szegedi)'!G32+'1 (visegrádi)'!G32 -> 1282724 | H32: ='1 (szegedi)'!H32+'1 (visegrádi)'!H32 -> 1353762 | I32: =H32/G32 -> 1.0553806 | J32: ='1 (szegedi)'!J32+'1 (visegrádi)'!J32 -> 210935828 | K32: ='1 (szegedi)'!K32+'1 (visegrádi)'!K32 -> 227180761 | L32: =K32/J32 -> 1.0770136
A33: Összes fogászat | D33: =D27+D28 -> 6529 | E33: =E27+E28 -> 7238 | F33: =E33/D33 -> 1.1085924 | G33: =G27+G28 -> 16212 | H33: =H27+H28 -> 17597 | I33: =H33/G33 -> 1.0854305 | J33: =J27+J28 -> 7191255 | K33: =K27+K28 -> 7519405 | L33: =K33/J33 -> 1.0456318
A35: összesen: | D35: =SUM(D30:D33) -> 456465 | E35: =SUM(E30:E33) -> 459397 | F35: =E35/D35 -> 1.0064233 | G35: =SUM(G30:G33) -> 3133397 | H35: =SUM(H30:H33) -> 3196532 | I35: =H35/G35 -> 1.0201491 | J35: =SUM(J30:J33) -> 700575448 | K35: =SUM(K30:K33) -> 713363854 | L35: =K35/J35 -> 1.0182541

Sheet 1 (szegedi)
A1: Munkahely | D1: Jelentett esetszám | G1: Jelentett beavatkozásszám | J1: Jelentett pontszám
D2: Összesen. | G2: Összesen: | J2: Összesen:
D3: 2014 | E3: 2015 | F3: trend | G3: 2014 | H3: 2015 | I3: trend | J3: 2014 | K3: 2015 | L3: trend
A4: Általános belgyógyászat | D4: 2488 | E4: 2302 | F4: =E4/D4 -> 0.92524116 | G4: 6780 | H4: 6213 | I4: =H4/G4 -> 0.91637168 | J4: 2592966 | K4: 2387194 | L4: =K4/J4 -> 0.92064223
A5: Belgyógyászat-Diabetológia | D5: 3484 | E5: 3544 | F5: =E5/D5 -> 1.0172216 | G5: 10752 | H5: 9759 | I5: =H5/G5 -> 0.90764509 | J5: 1805231 | K5: 1614474 | L5: =K5/J5 -> 0.89433097
A6: Gasztroenterológia | D6: 2810 | E6: 2830 | F6: =E6/D6 -> 1.0071174 | G6: 5398 | H6: 5391 | I6: =H6/G6 -> 0.99870322 | J6: 5824525 | K6: 5959166 | L6: =K6/J6 -> 1.0231162
A7: Kardiológia-EKG | D7: 12268 | E7: 11871 | F7: =E7/D7 -> 0.96763939 | G7: 30343 | H7: 29849 | I7: =H7/G7 -> 0.98371947 | J7: 23934422 | K7: 23822426 | L7: =K7/J7 -> 0.99532071
A8: Sebészet | D8: 23661 | E8: 23786 | F8: =E8/D8 -> 1.005283 | G8: 117004 | H8: 114916 | I8: =H8/G8 -> 0.98215446 | J8: 38579104 | K8: 37941280 | L8: =K8/J8 -> 0.98346711
A9: Traumatológia | D9: 13641 | E9: 12819 | F9: =E9/D9 -> 0.93974049 | G9: 60173 | H9: 55754 | I9: =H9/G9 -> 0.92656175 | J9: 19997428 | K9: 18519499 | L9: =K9/J9 -> 0.92609405
A10: Proktológia | D10: 2438 | E10: 2490 | F10: =E10/D10 -> 1.021329 | G10: 11269 | H10: 11710 | I10: =H10/G10 -> 1.0391339 | J10: 3469260 | K10: 3570932 | L10: =K10/J10 -> 1.0293065
A11: Aneszteziológia | D11: 997 | E11: 1106 | F11: =E11/D11 -> 1.109328 | G11: 1985 | H11: 2192 | I11: =H11/G11 -> 1.1042821 | J11: 1319274 | K11: 1457736 | L11: =K11/J11 -> 1.1049532
A12: Nőgyógyászat-terhesgond. | D12: 12064 | E12: 12628 | F12: =E12/D12 -> 1.0467507 | G12: 45622 | H12: 43536 | I12: =H12/G12 -> 0.95427645 | J12: 16856737 | K12: 15204708 | L12: =K12/J12 -> 0.90199592
A13: Fül-orr - gégészet | D13: 11053 | E13: 10765 | F13: =E13/D13 -> 0.97394373 | G13: 31075 | H13: 34732 | I13: =H13/G13 -> 1.117683 | J13: 9350075 | K13: 9667829 | L13: =K13/J13 -> 1.0339841
A14: Audiológia | D14: 1607 | E14: 1697 | F14: =E14/D14 -> 1.056005 | G14: 11541 | H14: 11581 | I14: =H14/G14 -> 1.0034659 | J14: 2493872 | K14: 2592616 | L14: =K14/J14 -> 1.0395947
A15: Szemészet | D15: 12779 | E15: 13014 | F15: =E15/D15 -> 1.0183895 | G15: 117741 | H15: 118892 | I15: =H15/G15 -> 1.0097757 | J15: 20740767 | K15: 21188810 | L15: =K15/J15 -> 1.021602
A16: Bőrgyógyászat | D16: 0 | E16: 0 | G16: 0 | H16: 0 | J16: 0 | K16: 0
A17: Allergológia | D17: 0 | E17: 0 | G17: 0 | H17: 0 | J17: 0 | K17: 0
A18: Ideggyógyászat | D18: 9429 | E18: 8711 | F18: =E18/D18 -> 0.92385195 | G18: 41067 | H18: 39974 | I18: =H18/G18 -> 0.97338496 | J18: 9421430 | K18: 8881167 | L18: =K18/J18 -> 0.94265595
A19: Elmegyógyászat | D19: 1031 | E19: 1189 | F19: =E19/D19 -> 1.1532493 | G19: 1991 | H19: 2358 | I19: =H19/G19 -> 1.1843295 | J19: 1137298 | K19: 1432184 | L19: =K19/J19 -> 1.2592865
A20: Ortopédia | D20: 7627 | E20: 7974 | F20: =E20/D20 -> 1.0454963 | G20: 27400 | H20: 28868 | I20: =H20/G20 -> 1.0535766 | J20: 10384380 | K20: 10788649 | L20: =K20/J20 -> 1.0389305
A21: Urológia | D21: 11027 | E21: 10300 | F21: =E21/D21 -> 0.93407092 | G21: 46811 | H21: 49844 | I21: =H21/G21 -> 1.0647925 | J21: 15550987 | K21: 16019547 | L21: =K21/J21 -> 1.0301306
A22: Radiológia | D22: 35202 | E22: 35974 | F22: =E22/D22 -> 1.0219306 | G22: 96903 | H22: 94954 | I22: =H22/G22 -> 0.9798871 | J22: 67922908 | K22: 66987870 | L22: =K22/J22 -> 0.98623383
A23: Reumatológia | D23: 17908 | E23: 16361 | F23: =E23/D23 -> 0.91361403 | G23: 185095 | H23: 178403 | I23: =H23/G23 -> 0.96384559 | J23: 25836385 | K23: 25347218 | L23: =K23/J23 -> 0.98106674
A24: ODM-Menopausa | D24: 4445 | E24: 4094 | F24: =E24/D24 -> 0.92103487 | G24: 7034 | H24: 6064 | I24: =H24/G24 -> 0.86209838 | J24: 10363262 | K24: 8156744 | L24: =K24/J24 -> 0.78708268
A25: Fizikotherapia | D25: 38292 | E25: 37662 | F25: =E25/D25 -> 0.98354748 | G25: 108360 | H25: 74955 | I25: =H25/G25 -> 0.69172204 | J25: 21037268 | K25: 16723965 | L25: =K25/J25 -> 0.79496848
A26: Gyógytorna | D26: 21884 | E26: 21205 | F26: =E26/D26 -> 0.96897277 | G26: 152921 | H26: 151785 | I26: =H26/G26 -> 0.99257133 | J26: 21164812 | K26: 21599184 | L26: =K26/J26 -> 1.0205233
A27: Fogászat (alapellátás) | E27: 0 | J27: 0 | K27: 0
A28: Fogászat (szakellátás)
E29: 0
A30: Összes szakrendelés | D30: =SUM(D4:D28)-D27-D28 -> 246135 | E30: =SUM(E4:E28)-E27-E28 -> 242322 | F30: =E30/D30 -> 0.9845085 | G30: =SUM(G4:G28)-G27-G28 -> 1117265 | H30: =SUM(H4:H28)-H27-H28 -> 1071730 | I30: =H30/G30 -> 0.95924423 | J30: =SUM(J4:J28)-J27-J28 -> 329782391 | K30: =SUM(K4:K28)-K27-K28 -> 319863198 | L30: =K30/J30 -> 0.96992201
A32: Összes labor | D32: 73115 | E32: 74165 | F32: =E32/D32 -> 1.0143609 | G32: 1282724 | H32: 1353762 | I32: =H32/G32 -> 1.0553806 | J32: 210935828 | K32: 227180761 | L32: =K32/J32 -> 1.0770136
A33: Összes fogászat | D33: =D27+D28 -> 0 | E33: =E27+E28 -> 0 | G33: =G27+G28 -> 0 | H33: =H27+H28 -> 0 | J33: =J27+J28 -> 0 | K33: =K27+K28 -> 0
A35: összesen: | D35: =SUM(D30:D33) -> 319250 | E35: =SUM(E30:E33) -> 316487 | F35: =E35/D35 -> 0.99134534 | G35: =SUM(G30:G33) -> 2399989 | H35: =SUM(H30:H33) -> 2425492 | I35: =H35/G35 -> 1.0106263 | J35: =SUM(J30:J33) -> 540718219 | K35: =SUM(K30:K33) -> 547043959 | L35: =K35/J35 -> 1.0116988

Sheet 1 (visegrádi)
A1: Munkahely | D1: Jelentett esetszám | G1: Jelentett beavatkozásszám | J1: Jelentett pontszám
D2: Összesen. | G2: Összesen: | J2: Összesen:
D3: 2014 | E3: 2015 | F3: trend | G3: 2014 | H3: 2015 | I3: trend | J3: 2014 | K3: 2015 | L3: trend
A4: Általános belgyógyászat
A5: Belgyógyászat-Diabetológia
A6: Gasztroenterológia
A7: Kardiológia
A8: Sebészet
A9: Traumatológia
A10: Proktológia
A11: Aneszteziológia
A12: Nőgyógyászat-terhesgond. | D12: 10244 | E12: 10622 | F12: =E12/D12 -> 1.0368996 | G12: 39261 | H12: 41298 | I12: =H12/G12 -> 1.0518835 | J12: 13322194 | K12: 13644979 | L12: =K12/J12 -> 1.0242291
A13: Fül-orr - gégészet | D13: 11055 | E13: 11554 | F13: =E13/D13 -> 1.0451379 | G13: 50093 | H13: 51887 | I13: =H13/G13 -> 1.0358134 | J13: 11372816 | K13: 12091080 | L13: =K13/J13 -> 1.0631562
A14: Audiológia | D14: 0 | E14: 0 | G14: 0 | H14: 0 | J14: 0 | K14: 0
A15: Szemészet | D15: 12078 | E15: 12033 | F15: =E15/D15 -> 0.99627422 | G15: 121444 | H15: 129926 | I15: =H15/G15 -> 1.0698429 | J15: 20230966 | K15: 20993814 | L15: =K15/J15 -> 1.0377069
A16: Bőrgyógyászat | D16: 15892 | E16: 15515 | F16: =E16/D16 -> 0.97627737 | G16: 59016 | H16: 73844 | I16: =H16/G16 -> 1.2512539 | J16: 18012438 | K16: 19200017 | L16: =K16/J16 -> 1.0659311
A17: Allergológia | D17: 1537 | E17: 1535 | F17: =E17/D17 -> 0.99869876 | G17: 21645 | H17: 20651 | I17: =H17/G17 -> 0.95407715 | J17: 7114923 | K17: 6857179 | L17: =K17/J17 -> 0.96377417
A18: Ideggyógyászat | D18: 6916 | E18: 7149 | F18: =E18/D18 -> 1.03369 | G18: 39111 | H18: 48165 | I18: =H18/G18 -> 1.231495 | J18: 7509840 | K18: 11721897 | L18: =K18/J18 -> 1.5608717
A19: Elmegyógyászat | D19: 1746 | E19: 1790 | F19: =E19/D19 -> 1.0252005 | G19: 5766 | H19: 5840 | I19: =H19/G19 -> 1.0128339 | J19: 2618482 | K19: 2641237 | L19: =K19/J19 -> 1.0086901
A20: Ortopédia | D20: 0 | E20: 0 | G20: 0 | H20: 0 | J20: 0 | K20: 0
A21: Urológia | D21: 11793 | E21: 12159 | F21: =E21/D21 -> 1.0310354 | G21: 42587 | H21: 40989 | I21: =H21/G21 -> 0.96247681 | J21: 14481101 | K21: 14241083 | L21: =K21/J21 -> 0.98342543
A22: Radiológia | D22: 0 | E22: 0 | G22: 0 | H22: 0 | J22: 0 | K22: 0
A23: Reumatológia | D23: 17819 | E23: 17723 | F23: =E23/D23 -> 0.99461249 | G23: 151049 | H23: 152568 | I23: =H23/G23 -> 1.0100563 | J23: 27401484 | K23: 27524453 | L23: =K23/J23 -> 1.0044877
A24: ODM-Menopausa | D24: 0 | E24: 0 | G24: 0 | H24: 0 | J24: 0 | K24: 0
A25: Fizikotherapia | D25: 25304 | E25: 27475 | F25: =E25/D25 -> 1.0857967 | G25: 77166 | H25: 67037 | I25: =H25/G25 -> 0.86873753 | J25: 16084068 | K25: 14072360 | L25: =K25/J25 -> 0.87492542
A26: Gyógytorna | D26: 16302 | E26: 18117 | F26: =E26/D26 -> 1.111336 | G26: 110058 | H26: 121238 | I26: =H26/G26 -> 1.1015828 | J26: 14517662 | K26: 15812391 | L26: =K26/J26 -> 1.089183
A27: Fogászat (alapellátás) | D27: 221 | E27: 158 | F27: =E27/D27 -> 0.71493213 | G27: 1117 | H27: 747 | I27: =H27/G27 -> 0.6687556 | J27: 284525 | K27: 195915 | L27: =K27/J27 -> 0.68856867
A28: Fogászat (szakellátás) | D28: 6308 | E28: 7080 | F28: =E28/D28 -> 1.1223843 | G28: 15095 | H28: 16850 | I28: =H28/G28 -> 1.1162637 | J28: 6906730 | K28: 7323490 | L28: =K28/J28 -> 1.0603411
A30: Összes szakrendelés | D30: =SUM(D4:D28)-D27-D28 -> 130686 | E30: =SUM(E4:E28)-E27-E28 -> 135672 | F30: =E30/D30 -> 1.0381525 | G30: =SUM(G4:G28)-G27-G28 -> 717196 | H30: =SUM(H4:H28)-H27-H28 -> 753443 | I30: =H30/G30 -> 1.0505399 | J30: =SUM(J4:J28)-J27-J28 -> 152665974 | K30: =SUM(K4:K28)-K27-K28 -> 158800490 | L30: =K30/J30 -> 1.0401826
A32: Összes labor
A33: Összes fogászat | D33: =D27+D28 -> 6529 | E33: =E27+E28 -> 7238 | F33: =E33/D33 -> 1.1085924 | G33: =G27+G28 -> 16212 | H33: =H27+H28 -> 17597 | I33: =H33/G33 -> 1.0854305 | J33: =J27+J28 -> 7191255 | K33: =K27+K28 -> 7519405 | L33: =K33/J33 -> 1.0456318
A35: összesen | D35: =SUM(D30:D33) -> 137215 | E35: =SUM(E30:E33) -> 142910 | F35: =E35/D35 -> 1.0415042 | G35: =SUM(G30:G33) -> 733408 | H35: =SUM(H30:H33) -> 771040 | I35: =H35/G35 -> 1.0513111 | J35: =SUM(J30:J33) -> 159857229 | K35: =SUM(K30:K33) -> 166319895 | L35: =K35/J35 -> 1.0404277

Sheet 2
B1: Esetszám | E1: Beavatkozások száma | H1: Pontszám
B2: 2015 terv | C2: 2015 év tény | D2: % | E2: 2015 terv | F2: 2015 év tény | G2: % | H2: 2015 terv | I2: 2015 év tény | J2: %
A3: Aneszteziológia | B3: 1025 | C3: 1105 | D3: =C3/B3 -> 1.0780488 | E3: 2050 | F3: 2190 | G3: =F3/E3 -> 1.0682927 | H3: 1365300 | I3: 1450308 | J3: =I3/H3 -> 1.0622632
A4: Audiológia | B4: 1485 | C4: 1695 | D4: =C4/B4 -> 1.1414141 | E4: 10603 | F4: 11565 | G4: =F4/E4 -> 1.090729 | H4: 2400000 | I4: 2573370 | J4: =I4/H4 -> 1.0722375
A5: Általános belgyógyászat | B5: 2590 | C5: 2301 | D5: =C5/B5 -> 0.88841699 | E5: 7020 | F5: 6212 | G5: =F5/E5 -> 0.88490028 | H5: 2552000 | I5: 2385694 | J5: =I5/H5 -> 0.93483307
A6: Belgyógyászat-diabetológia | B6: 3560 | C6: 3543 | D6: =C6/B6 -> 0.99522472 | E6: 13200 | F6: 9758 | G6: =F6/E6 -> 0.73924242 | H6: 1960000 | I6: 1612812 | J6: =I6/H6 -> 0.82286327
A7: Fizikoterápia | B7: 46300 | C7: 37638 | D7: =C7/B7 -> 0.81291577 | E7: 136000 | F7: 74907 | G7: =F7/E7 -> 0.55078676 | H7: 25000000 | I7: 16701723 | J7: =I7/H7 -> 0.66806892
A8: Fül-orr-gége | B8: 10320 | C8: 10744 | D8: =C8/B8 -> 1.0410853 | E8: 30960 | F8: 34676 | G8: =F8/E8 -> 1.1200258 | H8: 9600000 | I8: 9497940 | J8: =I8/H8 -> 0.98936875
A9: Gasztroenterológia | B9: 2700 | C9: 2827 | D9: =C9/B9 -> 1.047037 | E9: 5400 | F9: 5388 | G9: =F9/E9 -> 0.99777778 | H9: 6360000 | I9: 5951067 | J9: =I9/H9 -> 0.93570236
A10: Gyógytorna | B10: 21500 | C10: 21188 | D10: =C10/B10 -> 0.98548837 | E10: 153600 | F10: 151715 | G10: =F10/E10 -> 0.98772786 | H10: 20987000 | I10: 21553536 | J10: =I10/H10 -> 1.0269946
A11: Ideggyógyászat | B11: 9850 | C11: 9896 | D11: =C11/B11 -> 1.0046701 | E11: 40200 | F11: 42308 | G11: =F11/E11 -> 1.0524378 | H11: 13500000 | I11: 10269397 | J11: =I11/H11 -> 0.76069607
A12: Kardiológia | B12: 11200 | C12: 11856 | D12: =C12/B12 -> 1.0585714 | E12: 27200 | F12: 29807 | G12: =F12/E12 -> 1.0958456 | H12: 22500000 | I12: 23689460 | J12: =I12/H12 -> 1.0528649
A13: ODM-Menopausa | B13: 4350 | C13: 4092 | D13: =C13/B13 -> 0.94068966 | E13: 7680 | F13: 6060 | G13: =F13/E13 -> 0.7890625 | H13: 14701000 | I13: 8097864 | J13: =I13/H13 -> 0.55083763
A14: Nőgyógyászat | B14: 12300 | C14: 12600 | D14: =C14/B14 -> 1.0243902 | E14: 37700 | F14: 43437 | G14: =F14/E14 -> 1.1521751 | H14: 17200000 | I14: 15119274 | J14: =I14/H14 -> 0.87902756
... A21: Urológia | B21: 11050 | C21: 10287 | D21: =C21/B21 -> 0.93095023 | E21: 45400 | F21: 49785 | G21: =F21/E21 -> 1.0965859 | H21: 15900000 | I21: 15825308 | J21: =I21/H21 -> 0.99530239
A22: Szegedi út összesen | B22: =SUM(B3:B21) -> 252860 | C22: =SUM(C3:C21) -> 241973 | D22: =C22/B22 -> 0.95694455 | E22: =SUM(E3:E21) -> 1136453 | F22: =SUM(F3:F21) -> 1070349 | G22: =F22/E22 -> 0.94183305 | H22: =SUM(H3:H21) -> 349165800 | I22: =SUM(I3:I21) -> 314896161 | J22: =I22/H22 -> 0.90185282
A24: Allergológia | B24: 1425 | C24: 1533 | D24: =C24/B24 -> 1.0757895 | E24: 16810 | F24: 20589 | G24: =F24/E24 -> 1.2248067 | H24: 6100000 | I24: 6836002 | J24: =I24/H24 -> 1.1206561
A25: Bőrgyógyászat | B25: 14800 | C25: 15501 | D25: =C25/B25 -> 1.0473649 | E25: 51490 | F25: 73758 | G25: =F25/E25 -> 1.4324723 | H25: 19900000 | I25: 18919043 | J25: =I25/H25 -> 0.95070568
A26: Fizikoterápia | B26: 23600 | C26: 27475 | D26: =C26/B26 -> 1.1641949 | E26: 84600 | F26: 67037 | G26: =F26/E26 -> 0.79239953 | H26: 20050000 | I26: 14067733 | J26: =I26/H26 -> 0.70163257
A27: Fül-orr-gége | B27: 10320 | C27: 11542 | D27: =C27/B27 -> 1.1184109 | E27: 30960 | F27: 51844 | G27: =F27/E27 -> 1.6745478 | H27: 9600000 | I27: 12035158 | J27: =I27/H27 -> 1.2536623
A28: Gyógytorna | B28: 20200 | C28: 18114 | D28: =C28/B28 -> 0.89673267 | E28: 144000 | F28: 121202 | G28: =F28/E28 -> 0.84168056 | H28: 17400000 | I28: 15801198 | J28: =I28/H28 -> 0.90811483
A29: Ideggyógyászat | B29: 9050 | C29: 8938 | D29: =C29/B29 -> 0.98762431 | E29: 39800 | F29: 53998 | G29: =F29/E29 -> 1.3567337 | H29: 12700000 | I29: 14339250 | J29: =I29/H29 -> 1.1290748
A30: Nőgyógyászat | B30: 10600 | C30: 10615 | D30: =C30/B30 -> 1.0014151 | E30: 37300 | F30: 41268 | G30: =F30/E30 -> 1.1063807 | H30: 13500000 | I30: 13615346 | J30: =I30/H30 -> 1.0085441
A31: Reuma | B31: 18700 | C31: 17720 | D31: =C31/B31 -> 0.94759358 | E31: 149500 | F31: 152552 | G31: =F31/E31 -> 1.0204147 | H31: 27300000 | I31: 27504659 | J31: =I31/H31 -> 1.0074967
A32: Szemészet | B32: 12450 | C32: 12019 | D32: =C32/B32 -> 0.96538153 | E32: 122010 | F32: 129832 | G32: =F32/E32 -> 1.0641095 | H32: 21785000 | I32: 20861832 | J32: =I32/H32 -> 0.95762369
A33: Urológia | B33: 11220 | C33: 12142 | D33: =C33/B33 -> 1.0821747 | E33: 40600 | F33: 40938 | G33: =F33/E33 -> 1.0083251 | H33: 14200000 | I33: 14158244 | J33: =I33/H33 -> 0.99705944
A34: Visegrádi u. összesen | B34: =SUM(B24:B33) -> 132365 | C34: =SUM(C24:C33) -> 135599 | D34: =C34/B34 -> 1.0244324 | E34: =SUM(E24:E33) -> 717070 | F34: =SUM(F24:F33) -> 753018 | G34: =F34/E34 -> 1.0501318 | H34: =SUM(H24:H33) -> 162535000 | I34: =SUM(I24:I33) -> 158138465 | J34: =I34/H34 -> 0.97295023
A36: Járóbeteg összesen | B36: =SUM(B22,B34) -> 385225 | C36: =SUM(C34,C22) -> 377572 | D36: =C36/B36 -> 0.98013369 | E36: =SUM(E22,E34) -> 1853523 | F36: =SUM(F34,F22) -> 1823367 | G36: =F36/E36 -> 0.98373044 | H36: =SUM(H22,H34) -> 511700800 | I36: =SUM(I34,I22) -> 473034626 | J36: =I36/H36 -> 0.92443597
A38: Labor | B38: 68000 | C38: 73489 | D38: =C38/B38 -> 1.0807206 | E38: 1130000 | F38: 1340376 | G38: =F38/E38 -> 1.1861735 | H38: 200000000 | I38: 224371205 | J38: =I38/H38 -> 1.121856
A40: Fogászat | B40: 6245 | C40: 7226 | D40: =C40/B40 -> 1.1570857 | E40: 17780 | F40: 17564 | G40: =F40/E40 -> 0.98785152 | H40: 8060000 | I40: 7529520 | J40: =I40/H40 -> 0.93418362

Sheet 3
A1: Hónap | B1: Elvégzett műtétek száma szakmai bontásban | N1: Jelentett HBCS súly | P1: Műtétek száma
B2: sebészet | D2: ortopédia | F2: szemészet | H2: urológia | J2: nőgyógyászat | L2: fül-orr-gége
B3: 2014 | C3: 2015 | D3: 2014 | E3: 2015 | F3: 2014 | G3: 2015 | H3: 2014 | I3: 2015 | J3: 2014 | K3: 2015 | L3: 2014 | M3: 2015 | N3: 2014 | O3: 2015 | P3: 2014 | Q3: 2015
A4: Január | B4: 21 | C4: =19 -> 19 | D4: 14 | E4: =23 -> 23 | F4: 44 | G4: =29 -> 29 | H4: =7 -> 7 | I4: =9+1 -> 10 | J4: 26 | K4: =7+1 -> 8 | L4: 3 | M4: =1 -> 1 | N4: 62.356 | O4: =44.63821+0.27851*2+0.39263 -> 45.58786 | P4: =SUM(B4,D4,F4,H4,J4,L4) -> 115 | Q4: =SUM(C4,E4,G4,I4,K4,M4) -> 90
A5: Február | B5: 22 | C5: =22+1 -> 23 | D5: 19 | E5: =26 -> 26 | F5: 16 | G5: =24 -> 24 | H5: =8 -> 8 | I5: =6+1 -> 7 | J5: 22 | K5: =11 -> 11 | L5: 4 | M5: =3 -> 3 | N5: 46.87946 | O5: =48.35071 -> 48.35071 | P5: =SUM(B5,D5,F5,H5,J5,L5) -> 91 | Q5: =SUM(C5,E5,G5,I5,K5,M5) -> 94
A6: Március | B6: 22 | C6: =27 -> 27 | D6: 25 | E6: =26+3 -> 29 | F6: 38 | G6: =29 -> 29 | H6: =9+1 -> 10 | I6: =6 -> 6 | J6: 16 | K6: =16 -> 16 | L6: 1 | M6: =1 -> 1 | N6: 56.52106 | O6: =50.57233+2.15927 -> 52.7316 | P6: =SUM(B6,D6,F6,H6,J6,L6) -> 112 | Q6: =SUM(C6,E6,G6,I6,K6,M6) -> 108
A7: Április | B7: 22 | C7: =23+2 -> 25 | D7: 22 | E7: =23+5 -> 28 | F7: 26 | G7: =29 -> 29 | H7: =9 -> 9 | I7: =7 -> 7 | J7: 24 | K7: =17 -> 17 | L7: 7 | M7: =3 -> 3 | N7: 54.05575 | O7: =48.95829+3.81514 -> 52.77343 | P7: =SUM(B7,D7,F7,H7,J7,L7) -> 110 | Q7: =SUM(C7,E7,G7,I7,K7,M7) -> 109
A8: Május | B8: 23 | C8: =27+3 -> 30 | D8: 16 | E8: =20+3 -> 23 | F8: 31 | G8: =27 -> 27 | H8: =10 -> 10 | I8: =6 -> 6 | J8: 20 | K8: =10 -> 10 | L8: 3 | M8: =1 -> 1 | N8: 51.77229 | O8: =48.0554+3.29607 -> 51.35147 | P8: =SUM(B8,D8,F8,H8,J8,L8) -> 103 | Q8: =SUM(C8,E8,G8,I8,K8,M8) -> 97
A9: Június | B9: 16 | C9: =4+1+1+2+1+1+1+4+2+2 -> 19 | D9: 19 | E9: =12+4+3+2+3+1 -> 25 | F9: 23 | G9: =10+19+3+3 -> 35 | H9: 12 | I9: =1+1+1 -> 3 | J9: 20 | K9: =3+2+10 -> 15 | M9: =2 -> 2 | N9: 46.7548 | O9: =43.13521+6.16879 -> 49.304 | P9: =SUM(B9,D9,F9,H9,J9,L9) -> 90 | Q9: =SUM(C9,E9,G9,I9,K9,M9) -> 99
A10: Július | B10: 15 | C10: =4+1+5+2+3+1+2+2 -> 20 | D10: 22 | E10: =7+6+2+1+2+2+1+2 -> 23 | F10: 28 | G10: =10+18+2 -> 30 | H10: 5 | I10: =2+1+1+1 -> 5 | J10: 14 | K10: =4+3+1+1+2 -> 11 | L10: 3 | N10: 46.24445 | O10: =47.97632 -> 47.97632 | P10: =SUM(B10,D10,F10,H10,J10,L10) -> 87 | Q10: =SUM(C10,E10,G10,I10,K10,M10) -> 89
A11: Augusztus | B11: 2 | C11: =1+1+1+3+1+2 -> 9 | D11: 18 | E11: =5+1+7+11+2 -> 26 | F11: 20 | G11: =17 -> 17 | H11: 2 | I11: =2+1+1 -> 4 | J11: 3 | K11: =1+2 -> 3 | L11: 1 | N11: 29.35753 | O11: =35.5592 -> 35.5592 | P11: =SUM(B11,D11,F11,H11,J11,L11) -> 46 | Q11: =SUM(C11,E11,G11,I11,K11,M11) -> 59
A12: Szeptember | B12: 18 | C12: =3+1+4+1+2+2+2+5+2+2+1 -> 25 | D12: 30 | E12: =3+10+5+10+9 -> 37 | F12: 35 | G12: =20+1 -> 21 | H12: 9 | I12: =1+1+3+3 -> 8 | J12: 17 | K12: =4+2+2+9+2 -> 19 | L12: 1 | M12: =1+2 -> 3 | N12: 58.11938 | O12: 57.00788 | P12: =SUM(B12,D12,F12,H12,J12,L12) -> 110 | Q12: =SUM(C12,E12,G12,I12,K12,M12) -> 113
A13: Október | B13: 35 | C13: =10+2+2+6+1+5+3+1+6+2+3 -> 41 | D13: 29 | E13: =1+11+9+3+4+2 -> 30 | F13: 29 | G13: =8+18+4 -> 30 | H13: 6 | I13: =1+3+1 -> 5 | J13: 9 | K13: =6+2+1+3+2 -> 14 | L13: 3 | M13: =1+3 -> 4 | N13: 60.02863 | O13: =60.07898+2.22247 -> 62.30145 | P13: =SUM(B13,D13,F13,H13,J13,L13) -> 111 | Q13: =SUM(C13,E13,G13,I13,K13,M13) -> 124
A14: November | B14: 18 | C14: =4+1+1+4+4+4+2+6+2+1+1+2 -> 32 | D14: 26 | E14: =10+7+8+1 -> 26 | F14: 27 | G14: =4+22+3 -> 29 | H14: 7 | I14: =2+3 -> 5 | J14: 9 | K14: =6+1+3+4+1 -> 15 | L14: 2 | M14: =1+2 -> 3 | N14: 50.01626 | O14: =53.36136+1.17133 -> 54.53269 | P14: =SUM(B14,D14,F14,H14,J14,L14) -> 89 | Q14: =SUM(C14,E14,G14,I14,K14,M14) -> 110
A15: December | B15: =23 -> 23 | C15: =2+2+2+4+2+1+3 -> 16 | D15: =14+1+3 -> 18 | E15: =1+2+5+6+2+1 -> 17 | F15: =22 -> 22 | G15: =4+19+1 -> 24 | H15: =6+1 -> 7 | I15: =2+1+3+1 -> 7 | J15: =14 -> 14 | K15: =2+2+2+5+1 -> 12 | L15: =1 -> 1 | M15: =1 -> 1 | N15: =44.52965+2.70148 -> 47.23113 | O15: =38.80321+1.7611 -> 40.56431 | P15: =SUM(B15,D15,F15,H15,J15,L15) -> 85 | Q15: =SUM(C15,E15,G15,I15,K15,M15) -> 77
A16: összesen | B16: =SUM(B4:B15) -> 237 | C16: =SUM(C4:C15) -> 286 | D16: =SUM(D4:D15) -> 258 | E16: =SUM(E4:E15) -> 313 | F16: =SUM(F4:F15) -> 339 | G16: =SUM(G4:G15) -> 324 | H16: =SUM(H4:H15) -> 92 | I16: =SUM(I4:I15) -> 73 | ... Q16: =SUM(Q4:Q15) -> 1169
P17: =B17+D17+F17+H17+J17+L17 -> 0 | Q17: =C17+E17+G17+I17+K17+M17 -> 0

Sheet 4
B1: 2015-ben jelenthető pontok | C1: 2015-ben jelentett pontok | F1: 2015-ben elfogadott pontok | G1: eltérés a jelentett és jelenthető pontok között
C2: tárgyhavi | D2: hibajavítás | E2: összesen | G2: tárgyhavi | H2: halmozott
A3: november | B3: 39957678 | C3: 40334323 | D3: 16639 | E3: =SUM(C3:D3) -> 40350962 | F3: 40476842 | G3: =E3-B3 -> 393284 | H3: =G3 -> 393284
A4: december | B4: 39957678 | C4: 32965122 | D4: 2116 | E4: =SUM(C4:D4) -> 32967238 | F4: 33287614 | G4: =E4-B4 -> -6990440 | H4: =G4+H3 -> -6597156
A5: január | B5: 39957678 | C5: 41316314 | D5: 14420 | E5: =SUM(C5:D5) -> 41330734 | F5: 41735880 | G5: =E5-B5 -> 1373056 | H5: =G5+H4 -> -5224100
A6: február | B6: 39957678 | C6: 41098087 | D6: 10680 | E6: =SUM(C6:D6) -> 41108767 | F6: 41429557 | G6: =E6-B6 -> 1151089 | H6: =G6+H5 -> -4073011
A7: március | B7: 43953446 | C7: 45763857 | D7: 10732 | E7: =SUM(C7:D7) -> 45774589 | F7: 45848802 | G7: =E7-B7 -> 1821143 | H7: =G7+H6 -> -2251868
A8: április | B8: 41953446 | C8: 42071210 | D8: 11608 | E8: =SUM(C8:D8) -> 42082818 | F8: 42166145 | G8: =E8-B8 -> 129372 | H8: =G8+H7 -> -2122496
A9: május | B9: 39957678 | C9: 38591626 | D9: 9493 | E9: =SUM(C9:D9) -> 38601119 | F9: 38763815 | G9: =E9-B9 -> -1356559 | H9: =G9+H8 -> -3479055
A10: június | B10: 36966142 | C10: 43238246 | D10: 6417 | E10: =SUM(C10:D10) -> 43244663 | F10: 43515188 | G10: =E10-B10 -> 6278521 | H10: =G10+H9 -> 2799466
A11: július | B11: 35961910 | C11: 34019685 | D11: 17576 | E11: =SUM(C11:D11) -> 34037261 | F11: 34374900 | G11: =E11-B11 -> -1924649 | H11: =G11+H10 -> 874817
A12: augusztus | B12: 35961910 | C12: 28985360 | D12: 4723 | E12: =SUM(C12:D12) -> 28990083 | F12: 29325107 | G12: =E12-B12 -> -6971827 | H12: =G12+H11 -> -6097010
A13: szeptember | B13: 42953446 | C13: 44200417 | D13: 21164 | E13: =SUM(C13:D13) -> 44221581 | F13: 44099410 | G13: =E13-B13 -> 1268135 | H13: =G13+H12 -> -4828875
A14: október | B14: 41953446 | C14: 41259529 | D14: 10179 | E14: =SUM(C14:D14) -> 41269708 | F14: 41309739 | G14: =E14-B14 -> -683738 | H14: =G14+H13 -> -5512613
A15: november | B15: 43953446 | C15: 43713178 | D15: 21440 | E15: =SUM(C15:D15) -> 43734618 | F15: 43734469 | G15: =E15-B15 -> -218828 | H15: =G15+H14 -> -5731441
A16: december | B16: 35961910 | C16: 34406179 | D16: 9215 | E16: =SUM(C16:D16) -> 34415394 | F16: =34496797+6958 -> 34503755 | G16: =E16-B16 -> -1546516 | H16: =G16+H15 -> -7277957
A17: összesen | B17: =SUM(B3:B16) -> 559407492 | C17: =SUM(C3:C16) -> 551963133 | D17: =SUM(D3:D16) -> 166402 | E17: =SUM(E3:E16) -> 552129535 | F17: =SUM(F3:F16) -> 554571223 | G17: =SUM(G3:G16) -> -7277957

Sheet 5
A1: Megnevezés | C1: 2014. év | F1: 2015 évi terv (adatok e Ft-ban) | I1: 2015. év | L1: 2015. év aránya a tervhez képest
C2: OEP | D2: Saját | E2: Össz. | F2: OEP | G2: Saját | H2: Össz. | I2: OEP | J2: Saját | K2: Össz. | L2: OEP | M2: Saját | N2: Össz.
A3: 1 | B3: Betegellátás bevételei összesen | C3: =SUM(C4:C19) -> 1438719 | D3: =SUM(D4:D19) -> 37487 | E3: =SUM(C3:D3) -> 1476206 | F3: =SUM(F4:F19) -> 1464098 | G3: =SUM(G4:G19) -> 41500 | H3: =SUM(F3:G3) -> 1505598 | I3: =SUM(I4:I19) -> 1460847 | J3: =SUM(J4:J19) -> 30094 | K3: =SUM(I3:J3) -> 1490941 | L3: =I3/F3 -> 0.99777952 | M3: =J3/G3 -> 0.72515663 | N3: =K3/H3 -> 0.990265
B4: - Járóbetegellátás | C4: 716035 | D4: 5728 | E4: =SUM(C4:D4) -> 721763 | F4: 736098 | G4: 8000 | H4: =SUM(F4:G4) -> 744098 | I4: 724262 | J4: 5037 | K4: =SUM(I4:J4) -> 729299 | L4: =I4/F4 -> 0.98392062 | M4: =J4/G4 -> 0.629625 | N4: =K4/H4 -> 0.98011149
B5: - Egynapos sebészet | C5: 88540 | D5: 1478 | E5: =SUM(C5:D5) -> 90018 | F5: 90000 | G5: 1500 | H5: =SUM(F5:G5) -> 91500 | I5: 87085 | J5: 1151 | K5: =SUM(I5:J5) -> 88236 | L5: =I5/F5 -> 0.96761111 | M5: =J5/G5 -> 0.76733333 | N5: =K5/H5 -> 0.96432787
B6: - Sportorvos | E6: =SUM(C6:D6) -> 0 | H6: =SUM(F6:G6) -> 0 | J6: 25 | K6: =SUM(I6:J6) -> 25
B7: - Labor | C7: 147934 | D7: 597 | E7: =SUM(C7:D7) -> 148531 | F7: 150000 | G7: 2000 | H7: =SUM(F7:G7) -> 152000 | I7: 151303 | J7: 528 | K7: =SUM(I7:J7) -> 151831 | L7: =I7/F7 -> 1.0086867 | M7: =J7/G7 -> 0.264 | N7: =K7/H7 -> 0.99888816
B8: - Ügyeleti ellátás | C8: 70842 | E8: =SUM(C8:D8) -> 70842 | F8: 70000 | H8: =SUM(F8:G8) -> 70000 | I8: 71586 | K8: =SUM(I8:J8) -> 71586 | L8: =I8/F8 -> 1.0226571 | N8: =K8/H8 -> 1.0226571
B9: - Fogászat | C9: 17842 | D9: 21 | E9: =SUM(C9:D9) -> 17863 | F9: 18500 | H9: =SUM(F9:G9) -> 18500 | I9: 18056 | J9: 3 | K9: =SUM(I9:J9) -> 18059 | L9: =I9/F9 -> 0.976 | N9: =K9/H9 -> 0.97616216
B10: -Fogászat (privatizált) | C10: 5586 | E10: =SUM(C10:D10) -> 5586 | F10: 5500 | H10: =SUM(F10:G10) -> 5500 | I10: 5223 | K10: =SUM(I10:J10) -> 5223 | L10: =I10/F10 -> 0.94963636 | N10: =K10/H10 -> 0.94963636
B11: - Házi gyermekorvos | E11: =SUM(C11:D11) -> 0 | I11: 4590 | K11: =SUM(I11:J11) -> 4590
B12: - Házi szakápolás | C12: 9263 | E12: =SUM(C12:D12) -> 9263 | F12: 10000 | H12: =SUM(F12:G12) -> 10000 | I12: 9129 | K12: =SUM(I12:J12) -> 9129 | L12: =I12/F12 -> 0.9129 | N12: =K12/H12 -> 0.9129
B13: - Védőnők | C13: 190526 | E13: =SUM(C13:D13) -> 190526 | F13: 190000 | H13: =SUM(F13:G13) -> 190000 | I13: 195897 | K13: =SUM(I13:J13) -> 195897 | L13: =I13/F13 -> 1.0310368 | N13: =K13/H13 -> 1.0310368
B14: - Iskola, ifjúsági egészségügy | C14: 37451 | E14: =SUM(C14:D14) -> 37451 | F14: 36000 | H14: =SUM(F14:G14) -> 36000 | I14: 36787 | K14: =SUM(I14:J14) -> 36787 | L14: =I14/F14 -> 1.0218611 | N14: =K14/H14 -> 1.0218611
B15: - Foglalkozás-egészségügy | D15: 19587 | E15: =SUM(C15:D15) -> 19587 | G15: 19000 | H15: =SUM(F15:G15) -> 19000 | J15: 15762 | K15: =SUM(I15:J15) -> 15762 | M15: =J15/G15 -> 0.82957895 | N15: =K15/H15 -> 0.82957895
B16: - Menedzser szűrés (szűrővizsgálat) | D16: 10076 | E16: =SUM(C16:D16) -> 10076 | G16: 11000 | H16: =SUM(F16:G16) -> 11000 | J16: 7588 | K16: =SUM(I16:J16) -> 7588 | M16: =J16/G16 -> 0.68981818 | N16: =K16/H16 -> 0.68981818
B17: Jogviszony ellenőrzés | C17: 19764 | E17: =SUM(C17:D17) -> 19764 | F17: 20000 | H17: =SUM(F17:G17) -> 20000 | I17: 20228 | K17: =SUM(I17:J17) -> 20228 | L17: =I17/F17 -> 1.0114 | N17: =K17/H17 -> 1.0114
B18: OEP bértámogatás | C18: 134936 | E18: =SUM(C18:D18) -> 134936 | F18: 138000 | H18: =SUM(F18:G18) -> 138000 | I18: 135266 | K18: =SUM(I18:J18) -> 135266 | N18: =K18/H18 -> 0.98018841
B19: OEP EÜ dolgozók bérkiegészítése | I19: 1435
A20: 3 | B20: Bérleti díjak bevételei | D20: 106953 | E20: =SUM(C20:D20) -> 106953 | G20: 111000 | H20: =SUM(F20:G20) -> 111000 | J20: 102889 | K20: =SUM(I20:J20) -> 102889 | M20: =J20/G20 -> 0.92692793 | N20: =K20/H20 -> 0.92692793
A21: 4 | B21: Továbbszámlázott szolgáltatások bevételei | D21: 15105 | E21: =SUM(C21:D21) -> 15105 | G21: 16000 | H21: =SUM(F21:G21) -> 16000 | J21: 12821 | K21: =SUM(I21:J21) -> 12821 | M21: =J21/G21 -> 0.8013125 | N21: =K21/H21 -> 0.8013125
A22: 5 | B22: Egyéb bevételek (pl. pályázat, stb.) | D22: 1597 | E22: =SUM(C22:D22) -> 1597 | G22: 1500 | H22: =SUM(F22:G22) -> 1500 | J22: 4726 | K22: =SUM(I22:J22) -> 4726 | M22: =J22/G22 -> 3.1506667 | N22: =K22/H22 -> 3.1506667
A23: 7 | B23: Saját bevételek összesen | C23: =SUM(C4:C18) -> 1438719 | D23: =SUM(D4:D22) -> 161142 | E23: =SUM(C23:D23) -> 1599861 | F23: =SUM(F4:F18) -> 1464098 | G23: =SUM(G4:G22) -> 170000 | H23: =SUM(F23:G23) -> 1634098 | I23: =SUM(I3,I20:I22) -> 1460847 | J23: =SUM(J3,J20:J22) -> 150530 | K23: =SUM(I23:J23) -> 1611377 | L23: =I23/F23 -> 0.99777952 | M23: =J23/G23 -> 0.88547059 | N23: =K23/H23 -> 0.98609569
A24: 8 | B24: Önkormányzati támogatás | E24: 177115 | H24: 160000 | K24: 164000 | N24: =K24/H24 -> 1.025
A25: 9 | B25: Rendkívüli bevétel | E25: 95722 | H25: 74000 | K25: 92549 | N25: =K25/H25 -> 1.2506622
A26: 10 | B26: Összes bevétel | C26: =SUM(C23:C25) -> 1438719 | D26: =SUM(D23:D25) -> 161142 | E26: =SUM(E23:E25) -> 1872698 | F26: =SUM(F23:F25) -> 1464098 | G26: =SUM(G23:G25) -> 170000 | H26: =SUM(H23:H25) -> 1868098 | I26: =SUM(I23:I25) -> 1460847 | J26: =SUM(J23:J25) -> 150530 | K26: =SUM(K23:K25) -> 1867926 | L26: =I26/F26 -> 0.99777952 | M26: =J26/G26 -> 0.88547059 | N26: =K26/H26 -> 0.99990793

Sheet 6 (állományi)
A1: Szakfeladat | B1: Teljes munkaidő | J1: Részmunkaidő
B2: orvos | D2: felsőfokú végzettségű | F2: szakdolgozó | H2: egyéb | J2: orvos | L2: felsőfokú végzettségű | N2: szakdolgozó | P2: egyéb
B3: 2015 terv | C3: 2015 tény | D3: =B3 -> 2015 terv | E3: =C3 -> 2015 tény | F3: =D3 -> 2015 terv | G3: =E3 -> 2015 tény | H3: =F3 -> 2015 terv | I3: =G3 -> 2015 tény | J3: =H3 -> 2015 terv | K3: =I3 -> 2015 tény | ... Q3: =O3 -> 2015 tény
A4: Igazgatás | D4: 8 | E4: 8 | H4: 9 | I4: 9 | P4: 1.5 | Q4: 1.25
A5: Otthoni szakápolás | D5: 1 | E5: 1.77 | F5: 1 | G5: 1
A6: Járóbeteg | B6: 40 | C6: 40.54 | D6: 11 | E6: 11.33 | F6: 101 | G6: 100.15 | H6: 20 | I6: 20 | J6: 12.1 | K6: 17.49 | L6: 0.7 | M6: 1 | N6: 9.2 | O6: 14.82 | P6: 2.4 | Q6: 3
A7: Egynapos sebészet | B7: 2 | C7: 2 | D7: 1 | E7: 1 | F7: 6 | G7: 6 | H7: 2 | I7: 1.92 | J7: 0.1 | K7: 0.5
A8: Fogászat (szakellátás) | B8: 1 | C8: 1 | F8: 2 | G8: 2
A9: Védőnői szolgálat | D9: 46 | E9: 44.58
A10: Iskola-egészségügy | B10: 5 | C10: 4
A11: Összesen | B11: =SUM(B4:B10) -> 48 | C11: =SUM(C4:C10) -> 47.54 | D11: =SUM(D4:D10) -> 67 | E11: =SUM(E4:E10) -> 66.68 | F11: =SUM(F4:F10) -> 110 | G11: =SUM(G4:G10) -> 109.15 | H11: =SUM(H4:H10) -> 31 | I11: =SUM(I4:I10) -> 30.92 | ... Q11: =SUM(Q4:Q10) -> 4.25
A13: Szakfeladat | B13: Közreműködői szerződés | J13: Összesen | R13: Összesen | T13: Megbízási szerződés
B14: orvos | D14: felsőfokú végzettségű | F14: szakdolgozó | H14: egyéb | J14: orvos | L14: felsőfokú végzettségű | N14: szakdolgozó | P14: egyéb
B15: =B3 -> 2015 terv | C15: =C3 -> 2015 tény | D15: =D3 -> 2015 terv | E15: =E3 -> 2015 tény | F15: =F3 -> 2015 terv | G15: =G3 -> 2015 tény | H15: =F15 -> 2015 terv | I15: =G15 -> 2015 tény | J15: =L3 -> 2015 terv | K15: =M3 -> 2015 tény | L15: =N3 -> 2015 terv | M15: =O3 -> 2015 tény | N15: =P3 -> 2015 terv | O15: =Q3 -> 2015 tény | P15: =N15 -> 2015 terv | Q15: =O15 -> 2015 tény | R15: =P15 -> 2015 terv | S15: =Q15 -> 2015 tény | T15: =R15 -> 2015 terv | U15: =S15 -> 2015 tény
A16: Igazgatás | J16: =SUM(B4,J4,B16) -> 0 | K16: =SUM(C4,K4,C16) -> 0 | L16: =SUM(D4,L4,D16) -> 8 | M16: =SUM(E4,M4,E16) -> 8 | N16: =SUM(F4,N4,F16) -> 0 | O16: =SUM(G4,O4,G16) -> 0 | P16: =SUM(H4,P4,H16) -> 10.5 | Q16: =SUM(I4,Q4,I16) -> 10.25 | R16: =IF(SUM(J16,L16,N16,P16)>0,SUM(J16,L16,N16,P16),"") -> 18.5 | S16: =IF(SUM(K16,M16,O16,Q16)>0,SUM(K16,M16,O16,Q16),"") -> 18.25 | T16: 0.5 | U16: 0.5
A17: Otthoni szakápolás | J17: =SUM(B5,J5,B17) -> 0 | K17: =SUM(C5,K5,C17) -> 0 | L17: =SUM(D5,L5,D17) -> 1 | M17: =SUM(E5,M5,E17) -> 1.77 | N17: =SUM(F5,N5,F17) -> 1 | O17: =SUM(G5,O5,G17) -> 1 | P17: =SUM(H5,P5,H17) -> 0 | Q17: =SUM(I5,Q5,I17) -> 0 | R17: =IF(SUM(J17,L17,N17,P17)>0,SUM(J17,L17,N17,P17),"") -> 2 | S17: =IF(SUM(K17,M17,O17,Q17)>0,SUM(K17,M17,O17,Q17),"") -> 2.77
A18: Járóbeteg | B18: 3.6 | C18: 2.37 | D18: 0.2 | E18: 0.2 | J18: =SUM(B6,J6,B18) -> 55.7 | K18: =SUM(C6,K6,C18) -> 60.4 | L18: =SUM(D6,L6,D18) -> 11.9 | M18: =SUM(E6,M6,E18) -> 12.53 | N18: =SUM(F6,N6,F18) -> 110.2 | O18: =SUM(G6,O6,G18) -> 114.97 | P18: =SUM(H6,P6,H18) -> 22.4 | Q18: =SUM(I6,Q6,I18) -> 23 | R18: =IF(SUM(J18,L18,N18,P18)>0,SUM(J18,L18,N18,P18),"") -> 200.2 | S18: =IF(SUM(K18,M18,O18,Q18)>0,SUM(K18,M18,O18,Q18),"") -> 210.9 | T18: 1.5 | U18: 1.5
A19: Egynapos sebészet | B19: 0.2 | C19: 0.2 | J19: =SUM(B7,J7,B19) -> 2.3 | K19: =SUM(C7,K7,C19) -> 2.7 | L19: =SUM(D7,L7,D19) -> 1 | M19: =SUM(E7,M7,E19) -> 1 | N19: =SUM(F7,N7,F19) -> 6 | O19: =SUM(G7,O7,G19) -> 6 | P19: =SUM(H7,P7,H19) -> 2 | Q19: =SUM(I7,Q7,I19) -> 1.92 | R19: =IF(SUM(J19,L19,N19,P19)>0,SUM(J19,L19,N19,P19),"") -> 11.3 | S19: =IF(SUM(K19,M19,O19,Q19)>0,SUM(K19,M19,O19,Q19),"") -> 11.62
A20: Fogászat (szakellátás) | B20: 1 | C20: 1 | J20: =SUM(B8,J8,B20) -> 2 | K20: =SUM(C8,K8,C20) -> 2 | L20: =SUM(D8,L8,D20) -> 0 | M20: =SUM(E8,M8,E20) -> 0 | N20: =SUM(F8,N8,F20) -> 2 | O20: =SUM(G8,O8,G20) -> 2 | P20: =SUM(H8,P8,H20) -> 0 | Q20: =SUM(I8,Q8,I20) -> 0 | R20: =IF(SUM(J20,L20,N20,P20)>0,SUM(J20,L20,N20,P20),"") -> 4 | S20: =IF(SUM(K20,M20,O20,Q20)>0,SUM(K20,M20,O20,Q20),"") -> 4
A21: Védőnői szolgálat | J21: =SUM(B9,J9,B21) -> 0 | K21: =SUM(C9,K9,C21) -> 0 | L21: =SUM(D9,L9,D21) -> 46 | M21: =SUM(E9,M9,E21) -> 44.58 | N21: =SUM(F9,N9,F21) -> 0 | O21: =SUM(G9,O9,G21) -> 0 | P21: =SUM(H9,P9,H21) -> 0 | Q21: =SUM(I9,Q9,I21) -> 0 | R21: =IF(SUM(J21,L21,N21,P21)>0,SUM(J21,L21,N21,P21),"") -> 46 | S21: =IF(SUM(K21,M21,O21,Q21)>0,SUM(K21,M21,O21,Q21),"") -> 44.58 | T21: 0.4 | U21: 0.4
A22: Iskola-egészségügy | J22: =SUM(B10,J10,B22) -> 5 | K22: =SUM(C10,K10,C22) -> 4 | L22: =SUM(D10,L10,D22) -> 0 | M22: =SUM(E10,M10,E22) -> 0 | N22: =SUM(F10,N10,F22) -> 0 | O22: =SUM(G10,O10,G22) -> 0 | P22: =SUM(H10,P10,H22) -> 0 | Q22: =SUM(I10,Q10,I22) -> 0 | R22: =IF(SUM(J22,L22,N22,P22)>0,SUM(J22,L22,N22,P22),"") -> 5 | S22: =IF(SUM(K22,M22,O22,Q22)>0,SUM(K22,M22,O22,Q22),"") -> 4
A23: Összesen | B23: =SUM(B16:B22) -> 4.8 | C23: =SUM(C16:C22) -> 3.57 | D23: =SUM(D16:D22) -> 0.2 | E23: =SUM(E16:E22) -> 0.2 | F23: =SUM(F16:F22) -> 0 | G23: =SUM(G16:G22) -> 0 | H23: =SUM(H16:H22) -> 0 | I23: =SUM(I16:I22) -> 0 | ... U23: =SUM(U16:U22) -> 2.4

Sheet 6 (statisztikai)
A1: Szakfeladat | B1: Teljes munkaidő | J1: Részmunkaidő
B2: orvos | D2: felsőfokú végzettségű | F2: szakdolgozó | H2: egyéb | J2: orvos | L2: felsőfokú végzettségű | N2: szakdolgozó | P2: egyéb
B3: 2015 terv | C3: 2015 tény | D3: =B3 -> 2015 terv | E3: =C3 -> 2015 tény | F3: =D3 -> 2015 terv | G3: =E3 -> 2015 tény | H3: =F3 -> 2015 terv | I3: =G3 -> 2015 tény | J3: =H3 -> 2015 terv | K3: =I3 -> 2015 tény | ... Q3: =O3 -> 2015 tény
A4: Igazgatás | D4: 8 | E4: 8 | H4: 9 | I4: 9 | P4: 1.5 | Q4: 1.25
A5: Otthoni szakápolás | D5: 1 | E5: 0.92 | F5: 1 | G5: 1
A6: Járóbeteg | B6: 40 | C6: 39.32 | D6: 11 | E6: 8.62 | F6: 101 | G6: 96.89 | H6: 20 | I6: 20.28 | J6: 12.1 | K6: 17.49 | L6: 0.7 | M6: 1 | N6: 9.2 | O6: 14.82 | P6: 2.4 | Q6: 3
A7: Egynapos sebészet | B7: 2 | C7: 2.47 | D7: 1 | E7: 1 | F7: 6 | G7: 6 | H7: 2 | I7: 1.86 | J7: 0.1 | K7: 0.5
A8: Fogászat (szakellátás) | B8: 1 | C8: 1 | F8: 2 | G8: 2
A9: Védőnői szolgálat | D9: 46 | E9: 40.81
A10: Iskola-egészségügy | B10: 5 | C10: 4
A11: Összesen | B11: =SUM(B4:B10) -> 48 | C11: =SUM(C4:C10) -> 46.79 | D11: =SUM(D4:D10) -> 67 | E11: =SUM(E4:E10) -> 59.35 | F11: =SUM(F4:F10) -> 110 | G11: =SUM(G4:G10) -> 105.89 | H11: =SUM(H4:H10) -> 31 | I11: =SUM(I4:I10) -> 31.14 | ... Q11: =SUM(Q4:Q10) -> 4.25
A13: Szakfeladat | B13: Közreműködői szerződés | J13: Összesen | R13: Összesen | T13: Megbízási szerződés
B14: orvos | D14: felsőfokú végzettségű | F14: szakdolgozó | H14: egyéb | J14: orvos | L14: felsőfokú végzettségű | N14: szakdolgozó | P14: egyéb
B15: =B3 -> 2015 terv | C15: =C3 -> 2015 tény | D15: =D3 -> 2015 terv | E15: =E3 -> 2015 tény | F15: =F3 -> 2015 terv | G15: =G3 -> 2015 tény | H15: =F15 -> 2015 terv | I15: =G15 -> 2015 tény | J15: =L3 -> 2015 terv | K15: =M3 -> 2015 tény | L15: =N3 -> 2015 terv | M15: =O3 -> 2015 tény | N15: =P3 -> 2015 terv | O15: =Q3 -> 2015 tény | P15: =N15 -> 2015 terv | Q15: =O15 -> 2015 tény | R15: =P15 -> 2015 terv | S15: =Q15 -> 2015 tény | T15: =R15 -> 2015 terv | U15: =S15 -> 2015 tény
A16: Igazgatás | J16: =SUM(B4,J4,B16) -> 0 | K16: =SUM(C4,K4,C16) -> 0 | L16: =SUM(D4,L4,D16) -> 8 | M16: =SUM(E4,M4,E16) -> 8 | N16: =SUM(F4,N4,F16) -> 0 | O16: =SUM(G4,O4,G16) -> 0 | P16: =SUM(H4,P4,H16) -> 10.5 | Q16: =SUM(I4,Q4,I16) -> 10.25 | R16: =IF(SUM(J16,L16,N16,P16)>0,SUM(J16,L16,N16,P16),"") -> 18.5 | S16: =IF(SUM(K16,M16,O16,Q16)>0,SUM(K16,M16,O16,Q16),"") -> 18.25 | T16: 0.5 | U16: 0.5
A17: Otthoni szakápolás | J17: =SUM(B5,J5,B17) -> 0 | K17: =SUM(C5,K5,C17) -> 0 | L17: =SUM(D5,L5,D17) -> 1 | M17: =SUM(E5,M5,E17) -> 0.92 | N17: =SUM(F5,N5,F17) -> 1 | O17: =SUM(G5,O5,G17) -> 1 | P17: =SUM(H5,P5,H17) -> 0 | Q17: =SUM(I5,Q5,I17) -> 0 | R17: =IF(SUM(J17,L17,N17,P17)>0,SUM(J17,L17,N17,P17),"") -> 2 | S17: =IF(SUM(K17,M17,O17,Q17)>0,SUM(K17,M17,O17,Q17),"") -> 1.92
A18: Járóbeteg | B18: 3.6 | C18: 2.37 | D18: 0.2 | E18: 0.2 | J18: =SUM(B6,J6,B18) -> 55.7 | K18: =SUM(C6,K6,C18) -> 59.18 | L18: =SUM(D6,L6,D18) -> 11.9 | M18: =SUM(E6,M6,E18) -> 9.82 | N18: =SUM(F6,N6,F18) -> 110.2 | O18: =SUM(G6,O6,G18) -> 111.71 | P18: =SUM(H6,P6,H18) -> 22.4 | Q18: =SUM(I6,Q6,I18) -> 23.28 | R18: =IF(SUM(J18,L18,N18,P18)>0,SUM(J18,L18,N18,P18),"") -> 200.2 | S18: =IF(SUM(K18,M18,O18,Q18)>0,SUM(K18,M18,O18,Q18),"") -> 203.99 | T18: 1.5 | U18: 1.5
A19: Egynapos sebészet | B19: 0.2 | C19: 0.2 | J19: =SUM(B7,J7,B19) -> 2.3 | K19: =SUM(C7,K7,C19) -> 3.17 | L19: =SUM(D7,L7,D19) -> 1 | M19: =SUM(E7,M7,E19) -> 1 | N19: =SUM(F7,N7,F19) -> 6 | O19: =SUM(G7,O7,G19) -> 6 | P19: =SUM(H7,P7,H19) -> 2 | Q19: =SUM(I7,Q7,I19) -> 1.86 | R19: =IF(SUM(J19,L19,N19,P19)>0,SUM(J19,L19,N19,P19),"") -> 11.3 | S19: =IF(SUM(K19,M19,O19,Q19)>0,SUM(K19,M19,O19,Q19),"") -> 12.03
A20: Fogászat (szakellátás) | B20: 1 | C20: 1 | J20: =SUM(B8,J8,B20) -> 2 | K20: =SUM(C8,K8,C20) -> 2 | L20: =SUM(D8,L8,D20) -> 0 | M20: =SUM(E8,M8,E20) -> 0 | N20: =SUM(F8,N8,F20) -> 2 | O20: =SUM(G8,O8,G20) -> 2 | P20: =SUM(H8,P8,H20) -> 0 | Q20: =SUM(I8,Q8,I20) -> 0 | R20: =IF(SUM(J20,L20,N20,P20)>0,SUM(J20,L20,N20,P20),"") -> 4 | S20: =IF(SUM(K20,M20,O20,Q20)>0,SUM(K20,M20,O20,Q20),"") -> 4
A21: Védőnői szolgálat | J21: =SUM(B9,J9,B21) -> 0 | K21: =SUM(C9,K9,C21) -> 0 | L21: =SUM(D9,L9,D21) -> 46 | M21: =SUM(E9,M9,E21) -> 40.81 | N21: =SUM(F9,N9,F21) -> 0 | O21: =SUM(G9,O9,G21) -> 0 | P21: =SUM(H9,P9,H21) -> 0 | Q21: =SUM(I9,Q9,I21) -> 0 | R21: =IF(SUM(J21,L21,N21,P21)>0,SUM(J21,L21,N21,P21),"") -> 46 | S21: =IF(SUM(K21,M21,O21,Q21)>0,SUM(K21,M21,O21,Q21),"") -> 40.81 | T21: 0.4 | U21: 0.4
A22: Iskola-egészségügy | J22: =SUM(B10,J10,B22) -> 5 | K22: =SUM(C10,K10,C22) -> 4 | L22: =SUM(D10,L10,D22) -> 0 | M22: =SUM(E10,M10,E22) -> 0 | N22: =SUM(F10,N10,F22) -> 0 | O22: =SUM(G10,O10,G22) -> 0 | P22: =SUM(H10,P10,H22) -> 0 | Q22: =SUM(I10,Q10,I22) -> 0 | R22: =IF(SUM(J22,L22,N22,P22)>0,SUM(J22,L22,N22,P22),"") -> 5 | S22: =IF(SUM(K22,M22,O22,Q22)>0,SUM(K22,M22,O22,Q22),"") -> 4
A23: Összesen | B23: =SUM(B16:B22) -> 4.8 | C23: =SUM(C16:C22) -> 3.57 | D23: =SUM(D16:D22) -> 0.2 | E23: =SUM(E16:E22) -> 0.2 | F23: =SUM(F16:F22) -> 0 | G23: =SUM(G16:G22) -> 0 | H23: =SUM(H16:H22) -> 0 | I23: =SUM(I16:I22) -> 0 | ... U23: =SUM(U16:U22) -> 2.4

Sheet 7
C1: 2014. év | F1: 2015 évi terv | I1: 2015. év | L1: 2015. év aránya a tervhez képest
C2: Teljes és Részmunkaidős | D2: További munkaviszony/ Megbízási szerződéses | E2: Összesen | F2: Teljes és Részmunkaidős | G2: További munkaviszony/ Megbízási szerződéses | H2: Összesen | I2: Teljes és Részmunkaidős | J2: További munkaviszony/ Megbízási szerződéses | K2: Összesen | L2: Teljes és Részmunkaidős | M2: További munkaviszony/ Megbízási szerződéses | N2: Összesen
A3: 1 | B3: alapbér | C3: 646338 | D3: 7658 | E3: =SUM(C3:D3) -> 653996 | F3: 679843 | G3: 3984 | H3: =SUM(F3:G3) -> 683827 | I3: 652594 | J3: 6931 | K3: =SUM(I3:J3) -> 659525 | L3: =I3/F3 -> 0.95991869 | M3: =J3/G3 -> 1.7397088 | N3: =K3/H3 -> 0.96446177
B4: bérkompenzáció közhasznú munkavállalóknak | C4: 21539 | E4: =SUM(C4:D4) -> 21539 | H4: =SUM(F4:G4) -> 0 | I4: 20045 | K4: =SUM(I4:J4) -> 20045
B5: OEP bértámogatás | C5: 88945 | E5: =SUM(C5:D5) -> 88945 | F5: 111095 | H5: =SUM(F5:G5) -> 111095 | I5: 92491 | K5: =SUM(I5:J5) -> 92491 | L5: =I5/F5 -> 0.83253972 | N5: =K5/H5 -> 0.83253972
B6: Illetménykiegészítés 2013.11.01.-től (védőnő, iskolaorvos) | C6: 5744 | E6: =SUM(C6:D6) -> 5744 | F6: 36986 | H6: =SUM(F6:G6) -> 36986 | I6: 5876 | K6: =SUM(I6:J6) -> 5876 | L6: =I6/F6 -> 0.15887092 | N6: =K6/H6 -> 0.15887092
A7: 2 | B7: bérpótlékok | C7: 33628 | E7: =SUM(C7:D7) -> 33628 | F7: 32515 | H7: =SUM(F7:G7) -> 32515 | I7: 34071 | K7: =SUM(I7:J7) -> 34071 | L7: =I7/F7 -> 1.0478548 | N7: =K7/H7 -> 1.0478548
B8: Területi pótlék (védőnő) | C8: 11459 | E8: =SUM(C8:D8) -> 11459 | I8: 12861 | K8: =SUM(I8:J8) -> 12861
A9: 3 | B9: túlóra, helyettesítési, készenléti, ügyeleti díj | C9: 2464 | E9: =SUM(C9:D9) -> 2464 | F9: 2500 | H9: =SUM(F9:G9) -> 2500 | I9: 2212 | K9: =SUM(I9:J9) -> 2212 | L9: =I9/F9 -> 0.8848 | N9: =K9/H9 -> 0.8848
A10: 4 | B10: Egynapos sebészeti jutalék | C10: 5215 | E10: =SUM(C10:D10) -> 5215 | F10: 4800 | H10: =SUM(F10:G10) -> 4800 | I10: 5555 | K10: =SUM(I10:J10) -> 5555 | L10: =I10/F10 -> 1.1572917 | N10: =K10/H10 -> 1.1572917
B11: EÜ. Dolgozók OEP bérkiegészítés | I11: 1035 | K11: =SUM(I11:J11) -> 1035
A12: 5 | B12: keresetkiegészítés | C12: 20650 | E12: =SUM(C12:D12) -> 20650 | F12: 26396 | H12: =SUM(F12:G12) -> 26396 | I12: 20814 | K12: =SUM(I12:J12) -> 20814 | L12: =I12/F12 -> 0.78852856 | N12: =K12/H12 -> 0.78852856
B13: OEP eseti keresetkiegésztés | C13: 11605 | E13: =SUM(C13:D13) -> 11605 | H13: =SUM(F13:G13) -> 0 | I13: 10849 | K13: =SUM(I13:J13) -> 10849
A14: 6 | B14: prémium keret | C14: 40316 | E14: =SUM(C14:D14) -> 40316 | F14: 16748 | H14: =SUM(F14:G14) -> 16748 | I14: 24918 | K14: =SUM(I14:J14) -> 24918 | L14: =I14/F14 -> 1.4878194 | N14: =K14/H14 -> 1.4878194
A15: 7 | B15: jutalom | C15: 7529 | E15: =SUM(C15:D15) -> 7529 | H15: =SUM(F15:G15) -> 0 | I15: 6893 | K15: =SUM(I15:J15) -> 6893
A16: 8 | B16: jubileumi jutalom | C16: 8357 | E16: =SUM(C16:D16) -> 8357 | F16: 4315 | H16: =SUM(F16:G16) -> 4315 | I16: 4315 | K16: =SUM(I16:J16) -> 4315 | L16: =I16/F16 -> 1 | N16: =K16/H16 -> 1
A17: 9 | B17: végkielégítés, felmentési időre juttatás | C17: 1867 | E17: =SUM(C17:D17) -> 1867 | H17: =SUM(F17:G17) -> 0 | I17: 422 | K17: =SUM(I17:J17) -> 422
B18: munkaviszony megszűnése miatti bér | C18: 364 | E18: =SUM(C18:D18) -> 364 | H18: =SUM(F18:G18) -> 0 | K18: =SUM(I18:J18) -> 0 | N18: =SUM(L18:M18) -> 0
A19: 10 | B19: Közhasznú munkavállalók bérköltsége | C19: =SUM(C3:C18) -> 906020 | D19: =SUM(D3:D18) -> 7658 | E19: =SUM(E3:E18) -> 913678 | F19: =SUM(F3:F18) -> 915198 | G19: =SUM(G3:G18) -> 3984 | H19: =SUM(H3:H18) -> 919182 | I19: =SUM(I3:I18) -> 894951 | J19: =SUM(J3:J18) -> 6931 | K19: =SUM(K3:K18) -> 901882 | L19: =I19/F19 -> 0.97787692 | M19: =J19/G19 -> 1.7397088 | N19: =K19/H19 -> 0.98117892
A20: 11 | B20: cafetéria | C20: 25497 | E20: =SUM(C20:D20) -> 25497 | F20: 27956 | H20: =SUM(F20:G20) -> 27956 | I20: 25928 | K20: =SUM(I20:J20) -> 25928 | L20: =I20/F20 -> 0.92745743 | N20: =K20/H20 -> 0.92745743
B21: kultúra utalvány | E21: =SUM(C21:D21) -> 0 | K21: =SUM(I21:J21) -> 0
A22: 12 | B22: továbbképzési hozzájárulás | C22: 996 | E22: =SUM(C22:D22) -> 996 | F22: 1923 | H22: =SUM(F22:G22) -> 1923 | I22: 953 | K22: =SUM(I22:J22) -> 953 | L22: =I22/F22 -> 0.49557982 | N22: =K22/H22 -> 0.49557982
A23: 13 | B23: betegszabadság | C23: 6502 | E23: =SUM(C23:D23) -> 6502 | F23: 8000 | H23: =SUM(F23:G23) -> 8000 | I23: 7615 | K23: =SUM(I23:J23) -> 7615 | L23: =I23/F23 -> 0.951875 | N23: =K23/H23 -> 0.951875
A24: 14 | B24: ruházati költségtérítés | E24: =SUM(C24:D24) -> 0 | H24: =SUM(F24:G24) -> 0 | K24: =SUM(I24:J24) -> 0
A25: 15 | B25: közlekedési költségtérítés | C25: 4525 | E25: =SUM(C25:D25) -> 4525 | F25: 4600 | H25: =SUM(F25:G25) -> 4600 | I25: 4746 | K25: =SUM(I25:J25) -> 4746 | L25: =I25/F25 -> 1.0317391 | N25: =K25/H25 -> 1.0317391
A26: 16 | B26: választott tisztségviselők díja (FB, ügyvezető ig.) | D26: 1680 | E26: =SUM(C26:D26) -> 1680 | F26: 0 | G26: 1680 | H26: =SUM(F26:G26) -> 1680 | J26: 1890 | K26: =SUM(I26:J26) -> 1890 | M26: =J26/G26 -> 1.125 | N26: =K26/H26 -> 1.125
A27: 17 | B27: reprezentáció, egyéb személyi jellegű kifizetés | C27: 2189 | E27: =SUM(C27:D27) -> 2189 | H27: =SUM(F27:G27) -> 0 | I27: 1878 | K27: =SUM(I27:J27) -> 1878
A28: 18 | B28: Szociális jellegű juttatások | C28: 1934 | E28: =SUM(C28:D28) -> 1934 | F28: 2000 | H28: =SUM(F28:G28) -> 2000 | I28: 1802 | K28: =SUM(I28:J28) -> 1802 | L28: =I28/F28 -> 0.901 | N28: =K28/H28 -> 0.901
A29: 19 | B29: Táppénz hozzájárulás | C29: 910 | E29: =SUM(C29:D29) -> 910 | H29: =SUM(F29:G29) -> 0 | I29: 913 | K29: =SUM(I29:J29) -> 913
A30: 20 | B30: Személyi jellegű egyéb kifizetések | C30: =SUM(C20:C29) -> 42553 | D30: =SUM(D20:D29) -> 1680 | E30: =SUM(E20:E29) -> 44233 | F30: =SUM(F20:F29) -> 44479 | G30: =SUM(G20:G29) -> 1680 | H30: =SUM(H20:H29) -> 46159 | I30: =SUM(I20:I29) -> 43835 | J30: =SUM(J20:J29) -> 1890 | K30: =SUM(K20:K29) -> 45725 | L30: =I30/F30 -> 0.98552126 | N30: =K30/H30 -> 0.99059772
A31: 21 | B31: Személyi juttatások összesen | C31: =SUM(C30,C19) -> 948573 | D31: =SUM(D30,D19) -> 9338 | E31: =SUM(E30,E19) -> 957911 | F31: =SUM(F30,F19) -> 959677 | G31: =SUM(G30,G19) -> 5664 | H31: =SUM(H30,H19) -> 965341 | I31: =SUM(I30,I19) -> 938786 | J31: =SUM(J30,J19) -> 8821 | K31: =SUM(K30,K19) -> 947607 | L31: =I31/F31 -> 0.97823122 | M31: =J31/G31 -> 1.5573799 | N31: =K31/H31 -> 0.98162929
A32: 22 | B32: Szociális hozzájárulási adó (Nyugdíjbiztosítási járulék) | C32: 228063 | E32: =SUM(C32:D32) -> 228063 | F32: 235442 | H32: =SUM(F32:G32) -> 235442 | I32: 222675 | K32: =SUM(I32:J32) -> 222675 | L32: =I32/F32 -> 0.94577433 | N32: =K32/H32 -> 0.94577433
B33: Egészségügyi hozzájárulás | C33: 5167 | E33: =SUM(C33:D33) -> 5167 | F33: 6000 | H33: =SUM(F33:G33) -> 6000 | I33: 5166 | K33: =SUM(I33:J33) -> 5166 | L33: =I33/F33 -> 0.861 | N33: =K33/H33 -> 0.861
B34: Egyszerűsített foglalkoztatásból eredő közteher | E34: =SUM(C34:D34) -> 0 | J34: 10 | K34: =SUM(I34:J34) -> 10
A35: 28 | B35: Szakképzési hozzájárulás | C35: 3149 | E35: =SUM(C35:D35) -> 3149 | F35: 3000 | H35: =SUM(F35:G35) -> 3000 | I35: 2969 | K35: =SUM(I35:J35) -> 2969 | L35: =I35/F35 -> 0.98966667 | N35: =K35/H35 -> 0.98966667
A36: 29 | B36: Rehabilitációs hozzájárulás | C36: 4678 | E36: =SUM(C36:D36) -> 4678 | F36: 5000 | H36: =SUM(F36:G36) -> 5000 | I36: 7002 | K36: =SUM(I36:J36) -> 7002 | L36: =I36/F36 -> 1.4004 | N36: =K36/H36 -> 1.4004
A37: 30 | B37: Munkáltató által fizetett SZJA | C37: 5360 | E37: =SUM(C37:D37) -> 5360 | F37: 6500 | H37: =SUM(F37:G37) -> 6500 | I37: 5404 | K37: =SUM(I37:J37) -> 5404 | L37: =I37/F37 -> 0.83138462 | N37: =K37/H37 -> 0.83138462
A38: 31 | B38: Bérbeadás SZJA | C38: 76 | E38: =SUM(C38:D38) -> 76 | H38: =SUM(F38:G38) -> 0 | I38: 7 | K38: =SUM(I38:J38) -> 7
A39: 32 | B39: Reprezentáció | C39: 289 | E39: =SUM(C39:D39) -> 289 | F39: 400 | H39: =SUM(F39:G39) -> 400 | I39: 274 | K39: =SUM(I39:J39) -> 274 | L39: =I39/F39 -> 0.685 | N39: =K39/H39 -> 0.685
A40: 33 | B40: Bérjárulékok összesen | C40: =SUM(C32:C39) -> 246782 | D40: =SUM(D32:D39) -> 0 | E40: =SUM(E32:E39) -> 246782 | F40: =SUM(F32:F39) -> 256342 | G40: =SUM(G32:G39) -> 0 | H40: =SUM(H32:H39) -> 256342 | I40: =SUM(I32:I39) -> 243497 | J40: =SUM(J32:J39) -> 10 | K40: =SUM(K32:K39) -> 243507 | L40: =I40/F40 -> 0.94989116 | N40: =K40/H40 -> 0.94993017
A41: 34 | B41: Személyi jellegű ráfordítás összesen | C41: =C31+C40 -> 1195355 | D41: =D31+D40 -> 9338 | E41: =E31+E40 -> 1204693 | F41: =F31+F40 -> 1216019 | G41: =G31+G40 -> 5664 | H41: =H31+H40 -> 1221683 | I41: =I31+I40 -> 1182283 | J41: =J31+J40 -> 8831 | K41: =K31+K40 -> 1191114 | L41: =I41/F41 -> 0.97225701 | M41: =J41/G41 -> 1.5591455 | N41: =K41/H41 -> 0.97497796

Sheet 8
A1: Megnevezés | C1: 2014. év | D1: 2015 évi terv | E1: 2015. év | F1: 2015. év aránya a tervhez képest
A2: 1 | B2: Egészségügyi szakmai anyagok | C2: 165338 | D2: 160000 | E2: 163568 | F2: =E2/D2 -> 1.0223
A3: 2 | B3: Gyógyszer felhasználás | C3: 10619 | D3: 13000 | E3: 10615 | F3: =E3/D3 -> 0.81653846
A4: 3 | B4: Irodaszer, nyomtatvány | C4: 8862 | D4: 10000 | E4: 9015 | F4: =E4/D4 -> 0.9015
A5: 4 | B5: Műszaki anyagok felhasználása | C5: 2448 | D5: 2500 | E5: 1964 | F5: =E5/D5 -> 0.7856
A6: 5 | B6: Munkaruha, védőruha | C6: 535 | D6: 1000 | E6: 947 | F6: =E6/D6 -> 0.947
A7: 6 | B7: Egyéb anyagköltség | C7: 2191 | D7: 2500 | E7: 3022 | F7: =E7/D7 -> 1.2088
A8: 7 | B8: Összesen | C8: =SUM(C2:C7) -> 189993 | D8: =SUM(D2:D7) -> 189000 | E8: =SUM(E2:E7) -> 189131 | F8: =E8/D8 -> 1.0006931

Sheet 9
A1: Megnevezés | C1: 2014. év | D1: 2015 évi terv | E1: 2015. év | F1: 2015. év aránya a tervhez képest
A2: 1 | B2: Igénybe veendő egészségügyi szolgáltatások | C2: 58214 | D2: 60000 | E2: 52320 | F2: =E2/D2 -> 0.872
A3: 2 | B3: Kommunikációs eszközök működtetése | C3: 9101 | D3: 9000 | E3: 6603 | F3: =E3/D3 -> 0.73366667
A4: 3 | B4: Informatikai szolgáltatások, rendszerkövetés, bérszámfejtés | C4: 23568 | D4: 22000 | E4: 23548 | F4: =E4/D4 -> 1.0703636
A5: 4 | B5: Műszaki, karbantartási, takarítási szolgáltatások | C5: 56011 | D5: 52000 | E5: 61153 | F5: =E5/D5 -> 1.1760192
B6: ebből - veszélyes hulladék kezelése | C6: 4699 | D6: 3600 | E6: 5112 | F6: =E6/D6 -> 1.42
B7: - takarítás | C7: 17029 | D7: 15360 | E7: 17714 | F7: =E7/D7 -> 1.1532552
B8: - szemétszállítás | C8: 1956 | D8: 2280 | E8: 1847 | F8: =E8/D8 -> 0.81008772
B9: - bérleti díj | C9: 9013 | D9: 9000 | E9: 11043 | F9: =E9/D9 -> 1.227
A10: 5 | B10: Szegedi út, Visegrádi u. Társasház közös költsége | C10: 96996 | D10: 98015 | E10: 98016 | F10: =E10/D10 -> 1.0000102
A11: 6 | B11: Háziorvosi felnőtt és gyermekügyelet működtetése | C11: 68759 | D11: 69000 | E11: 72503 | F11: =E11/D11 -> 1.0507681
A12: 7 | B12: Közüzemi szolgáltatások igénybevétele (áram, gáz, távhő, víz-csatorna) | C12: 18693 | D12: 23000 | E12: 16984 | F12: =E12/D12 -> 0.73843478
A13: 8 | B13: Postai szolgáltatások | C13: 840 | D13: 1000 | E13: 750 | F13: =E13/D13 -> 0.75
A14: 9 | B14: Szakkönyv, folyóirat előfizetés | C14: 1006 | D14: 1000 | E14: 956 | F14: =E14/D14 -> 0.956
A15: 10 | B15: Tanfolyamok, továbbképzések költségei | C15: 754 | D15: 700 | E15: 612 | F15: =E15/D15 -> 0.87428571
A16: 11 | B16: Számlázott szellemi tevékenységek (ügyvéd, könyvvizsgáló, stb.) | C16: 5901 | D16: 6000 | E16: 5845 | F16: =E16/D16 -> 0.97416667
A17: 12 | B17: Rendezvények költségei
A18: 13 | B18: Egyéb igénybevett szakmai szolgáltatás (pályázat, tender, hirdetés) | C18: 16651 | D18: 6500 | E18: 11978 | F18: =E18/D18 -> 1.8427692
B19: Védőnői bérlet | C19: 4641 | D19: 5300 | E19: 4715 | F19: =E19/D19 -> 0.88962264
A20: 15 | B20: Egyéb szolgáltatások költségei (gépjármű műszaki, banki ktg, hatósági díj, vagyon és orvos felelőségbiztosítás) | C20: 10256 | D20: 10000 | E20: 9211 | F20: =E20/D20 -> 0.9211
A21: 15 | B21: Igénybe vett szolgáltatások értéke | C21: =SUM(C10:C20,C2:C5) -> 371391 | D21: =SUM(D10:D20,D2:D5) -> 363515 | E21: =SUM(E10:E20,E2:E5) -> 365194 | F21: =E21/D21 -> 1.0046188
A22: 16 | B22: Eladott (közvetített) szolgáltatások értéke | C22: 7930 | D22: 8000 | E22: 7094 | F22: =E22/D22 -> 0.88675
A23: 17 | B23: Összesen | C23: =SUM(C21:C22) -> 379321 | D23: =SUM(D21:D22) -> 371515 | E23: =SUM(E21:E22) -> 372288 | F23: =E23/D23 -> 1.0020807

Sheet 10
A1: Megnevezés | C1: 2014. év | D1: 2015 évi terv | E1: 2015. év | F1: 2015. év aránya a tervhez képest
A2: 1 | B2: költségek (ráfordítások) ellentételezése (hgy) | C2: 2356 | D2: 2400 | E2: 2465 | F2: =E2/D2 -> 1.0270833
A3: 2 | B3: Költségvetéssel elszámolt adók illetékek | C3: 1600 | D3: 2000 | E3: 1562 | F3: =E3/D3 -> 0.781
A4: 3 | B4: Tárgyi eszköz értékesítés nettó kivezetés | D4: 500 | F4: =E4/D4 -> 0
A5: 4 | B5: egyéb ki nem emelt ráfordítások | C5: 7708 | D5: 7000 | E5: 14553 | F5: =E5/D5 -> 2.079
B6: Összesen | C6: =SUM(C2:C5) -> 11664 | D6: =SUM(D2:D5) -> 11900 | E6: =SUM(E2:E5) -> 18580 | F6: =E6/D6 -> 1.5613445

Sheet 10 (egyenleg)
A1: Megnevezés | B1: 2014. év | C1: 2015 évi terv | D1: 2015. év | E1: 2015. év aránya a tervhez képest
A2: Bérköltség | B2: ='7'!E19 -> 913678 | C2: ='7'!H19 -> 919182 | D2: ='7'!K19 -> 901882 | E2: =D2/C2 -> 0.98117892
A3: Személyi jellegű egyéb kifizetés | B3: ='7'!E30 -> 44233 | C3: ='7'!H30 -> 46159 | D3: ='7'!K30 -> 45725 | E3: =D3/C3 -> 0.99059772
A4: Bérjárulék | B4: ='7'!E40 -> 246782 | C4: ='7'!H40 -> 256342 | D4: ='7'!K40 -> 243507 | E4: =D4/C4 -> 0.94993017
A5: Anyagköltség | B5: ='8'!C8 -> 189993 | C5: ='8'!D8 -> 189000 | D5: ='8'!E8 -> 189131 | E5: =D5/C5 -> 1.0006931
A6: Igénybe vett szolgáltatás | B6: ='9'!C21 -> 371391 | C6: ='9'!D21 -> 363515 | D6: ='9'!E21 -> 365194 | E6: =D6/C6 -> 1.0046188
A7: Eladott (közvetített) szolgáltatás | B7: ='9'!C22 -> 7930 | C7: ='9'!D22 -> 8000 | D7: ='9'!E22 -> 7094 | E7: =D7/C7 -> 0.88675
A8: Egyéb ráfordítás | B8: ='10'!C6 -> 11664 | C8: ='10'!D6 -> 11900 | D8: ='10'!E6 -> 18580 | E8: =D8/C8 -> 1.5613445
A9: Értékcsökkenés | B9: 128405 | C9: 125000 | D9: 112301 | E9: =D9/C9 -> 0.898408
A10: Összes kiadás | B10: =SUM(B2:B9) -> 1914076 | C10: =SUM(C2:C9) -> 1919098 | D10: =SUM(D2:D9) -> 1883414 | E10: =D10/C10 -> 0.98140585
A12: OEP bevétel | B12: ='5'!C3 -> 1438719 | C12: ='5'!F3 -> 1464098 | D12: ='5'!I3 -> 1460847 | E12: =D12/C12 -> 0.99777952
A13: járóbeteg | B13: ='5'!C4 -> 716035 | C13: ='5'!F4 -> 736098 | D13: ='5'!I4 -> 724262 | E13: =D13/C13 -> 0.98392062
A14: egynapos sebészet | B14: ='5'!C5 -> 88540 | C14: ='5'!F5 -> 90000 | D14: ='5'!I5 -> 87085 | E14: =D14/C14 -> 0.96761111
A15: labor | B15: ='5'!C7 -> 147934 | C15: ='5'!F7 -> 150000 | D15: ='5'!I7 -> 151303 | E15: =D15/C15 -> 1.0086867
A16: ügyelet | B16: ='5'!C8 -> 70842 | C16: ='5'!F8 -> 70000 | D16: ='5'!I8 -> 71586 | E16: =D16/C16 -> 1.0226571
A17: fogászat | B17: ='5'!C9 -> 17842 | C17: ='5'!F9 -> 18500 | D17: ='5'!I9 -> 18056 | E17: =D17/C17 -> 0.976
A18: fogászat (privatizált) | B18: ='5'!C10 -> 5586 | C18: ='5'!F10 -> 5500 | D18: ='5'!I10 -> 5223 | E18: =D18/C18 -> 0.94963636
A19: házi gyermekorvos | B19: ='5'!C11 -> 0 | D19: ='5'!I11 -> 4590
A20: házi szakápolás | B20: ='5'!C12 -> 9263 | C20: ='5'!F12 -> 10000 | D20: ='5'!I12 -> 9129 | E20: =D20/C20 -> 0.9129
A21: védőnő | B21: ='5'!C13 -> 190526 | C21: ='5'!F13 -> 190000 | D21: ='5'!I13 -> 195897 | E21: =D21/C21 -> 1.0310368
A22: iskola, ifjúsági egészségügy | B22: ='5'!C14 -> 37451 | C22: ='5'!F14 -> 36000 | D22: ='5'!I14 -> 36787 | E22: =D22/C22 -> 1.0218611
A23: Saját betegellátási bevétel | B23: ='5'!D3 -> 37487 | C23: ='5'!G3 -> 41500 | D23: ='5'!J3 -> 30094 | E23: =D23/C23 -> 0.72515663
A24: járóbeteg | B24: ='5'!D4 -> 5728 | C24: ='5'!G4 -> 8000 | D24: ='5'!J4 -> 5037 | E24: =D24/C24 -> 0.629625
A25: egynapos sebészet | B25: ='5'!D5 -> 1478 | C25: ='5'!G5 -> 1500 | D25: ='5'!J5 -> 1151 | E25: =D25/C25 -> 0.76733333
A26: sportorvos | B26: ='5'!D6 -> 0 | C26: ='5'!G6 -> 0 | D26: ='5'!J6 -> 25
A27: labor | B27: ='5'!D7 -> 597 | C27: ='5'!G7 -> 2000 | D27: ='5'!J7 -> 528 | E27: =D27/C27 -> 0.264
A28: fogászat | B28: ='5'!D9 -> 21 | D28: ='5'!J9 -> 3
A29: foglalkozás-egészségügyi bevétel | B29: ='5'!D15 -> 19587 | C29: ='5'!G15 -> 19000 | D29: ='5'!J15 -> 15762 | E29: =D29/C29 -> 0.82957895
A30: menedzserszűrés (szűrővizsgálat) | B30: ='5'!D16 -> 10076 | C30: ='5'!G16 -> 11000 | D30: ='5'!J16 -> 7588 | E30: =D30/C30 -> 0.68981818
A31: Betegellátás bevétel | B31: =SUM(B23,B12) -> 1476206 | C31: =SUM(C23,C12) -> 1505598 | D31: =SUM(D23,D12) -> 1490941 | E31: =D31/C31 -> 0.990265
A32: Jogviszony ellenőrzés | B32: ='5'!E17 -> 19764 | C32: ='5'!H17 -> 20000 | D32: ='5'!I17 -> 20228 | E32: =D32/C32 -> 1.0114
A33: OEP bértámogatás | B33: ='5'!E18 -> 134936 | C33: ='5'!F18 -> 138000 | D33: ='5'!I18 -> 135266 | E33: =D33/C33 -> 0.98018841
A34: OEP EÜ dolgozók bérkiegészítése | D34: ='5'!I19 -> 1435
A35: Bérleti díj bevétel | B35: ='5'!E20 -> 106953 | C35: ='5'!H20 -> 111000 | D35: ='5'!J20 -> 102889 | E35: =D35/C35 -> 0.92692793
A36: Továbbszámlázott bevétel | B36: ='5'!E21 -> 15105 | C36: ='5'!H21 -> 16000 | D36: ='5'!J21 -> 12821 | E36: =D36/C36 -> 0.8013125
A37: Egyéb nem eü bevétel | B37: ='5'!E22 -> 1597 | C37: ='5'!H22 -> 1500 | D37: ='5'!J22 -> 4726 | E37: =D37/C37 -> 3.1506667
A38: Önkormányzati támogatás | B38: ='5'!E24 -> 177115 | C38: ='5'!H24 -> 160000 | D38: ='5'!K24 -> 164000 | E38: =D38/C38 -> 1.025
A39: Rendkívüli bevétel | B39: ='5'!E25 -> 95722 | C39: ='5'!H25 -> 74000 | D39: ='5'!K25 -> 92549 | E39: =D39/C39 -> 1.2506622
A40: Összes bevétel | B40: =SUM(B31:B39)-B32-B33 -> 1872698 | C40: =SUM(C31:C39)-C32-C33 -> 1868098 | D40: =SUM(D31:D39)-D32-D33-D34 -> 1867926 | E40: =D40/C40 -> 0.99990793
A42: Egyenleg | B42: =B40-B10 -> -41378 | C42: =C40-C10 -> -51000 | D42: =D40-D10 -> -15488

Sheet Beruházás
D1: 11. sz. melléklet
A3: BERUHÁZÁS 2015.01.01. - 2015.12.31.
C4: Megnevezés | D4: Érték Ft
B5: JÁRÓBETEG
A6: vagyonért.jog
C7: Antivirus szoftver 1 éves licenc | D7: 352844
C8: CT Ecostat frissités | D8: 152400
C9: windows + office 5 -5 db | D9: 462280
E10: =SUM(D7:D9) -> 967524
A11: gép,-müszer
B12: Szegedi Fizikó | C12: szék kezelő galvánkádhoz | D12: 131445
C13: kezelőfej 3 db | D13: 339090
B14: Szegedi Egynapos | C14: shaver kézidarab | D14: 1822995
C15: fénykábel | D15: 72480
C16: multifúnkciós motor | D16: 2080070
C17: saggitális fűrészfej | D17: 1220153
C18: furó tokmány | D18: 739839
C19: felfelé harapó keskeny + széles | D19: 565144
C20: 02 szenzor altatógéphez | D20: 63161
C21: ekg 3 csatornás | D21: 178000
C22: sterilizáló készülék + bővítés + telepítés | D22: 13005534
C23: altatógéphez akkumulátor | D23: 95119
B24: Szegedi Kardiológia | C24: ultrahang készülék 2 db | D24: 36507420
C25: fútószalag cardiosoft rendszer felújítása | D25: 1953260
C26: ultrahang készülék | D26: 3797300
C27: holter ekg 72 órás 4 db | D27: 1221105
B28: Szegedi RTG | C28: ultrahang készülék | D28: 9118600
C29: ultrahang készülékhez nyomtató | D29: 314960
C30: mammográf készülékhez detektor hütőegység | D30: 1477010
B31: Szegedi Gyógytorna | C31: váll-könyök-csukló mozgató készülék | D31: 4337685
B32: Visegrádi Nőgyógy | C32: szék vizsgáló | D32: 709369
B33: Visegrádi Urológia | C33: szék vizsgáló | D33: 709369
B34: Visegrádi Szemészet | C34: látásvizsgáló tábla | D34: 114000
C35: asztal műszer lemez lapos | D35: 48829
C36: pachyméter | D36: 2819400
B37: Visegrádi Fizikó | C37: kezelőfej | D37: 113030
C38: krioterápiás készülék | D38: 2390000
C39: müszerállvány 4 db | D39: 340000
C40: mágnesterápiás készülék | D40: 1110825
C41: lézer zuhany | D41: 929005
C42: ultrahangterápiás készülék | D42: 298704
C43: fellépő rozsdamentes | D43: 132715
C44: galvánkád | D44: 2482215
C45: vacuther | D45: 389763
B46: Visegrádi Fül-orr-gége | C46: endoszkóp 3 db | D46: 969010
C47: kezelőegység szennyvíz elvezető rendszer | D47: 421005
B48: Szegedi Szemészet | C48: oftalmoszkóp szett | D48: 193167
C49: lencse V90D diagnosztikai | D49: 100076
B50: Szegedi Nőgyógy | C50: hőlégsterilizátor | D50: 250000
B51: Szegedi Sebészet | C51: proktológiai szett | D51: 541500
B52: Szegedi Urológia | C52: ultrahang készülék | D52: 16428720
B53: Szegedi Labor | C53: kémiai laborautomata készülék | D53: 5080000
B54: Szegedi Gasztro | C54: clip rakó + dormia | D54: 421747
C55: video-gasztroszkop, video kolonoszkop | D55: 9999980
E56: =SUM(D12:D55) -> 126032799
A57: bútor
B58: Visegrádi u | C58: bútorzat | D58: 6635772
C59: szekrény öltöző 4 db | D59: 292672
E60: =SUM(D58:D59) -> 6928444
A64: ügyvitel,-számt.
C65: nyomtató 20 db | D65: 1137920
C66: számítógép 5 db | D66: 599345
B67: Visegrádi u | C67: térfigyelő rendszer kamerákkal | D67: 4230068
B68: Szegedi Labor | C68: vonlkód nyomtató | D68: 69723
C69: szünetmentes áramforráshoz akkumulátorok | D69: 539750
B70: Szegedi Üzemeü. | C70: nyomtató | D70: 42799
E71: =SUM(D65:D70) -> 6619605
C72: Járóbeteg összesen: | D72: =SUM(D6:D71) -> 140548372
B75: Központi írányítás
A77: ügyvit.számt
C78: telefon 3 db | D78: 395927
C79: nyomtató 2 db | D79: 123952 | E79: =SUM(D77:D79) -> 519879
C81: Központi irányítás összesen: | D81: =SUM(D76:D79) -> 519879
B84: Védőnői szolg.
A86: vagyonért.jog | C86: szoftver védőnői upgrade visual 3 db | D86: 114300
C87: védőnői körzetek bővítése 4 db | D87: 466344
E88: =SUM(D86:D87) -> 580644
A89: ügyvit.számt.
C90: számítógép 11 db | D90: 3734293
C91: monitor 11 db | D91: 664972
C92: nyomtató 4 db | D92: 427345 | E92: =SUM(D90:D92) -> 4826610
C94: Központi irányítás összesen: | D94: =SUM(D85:D93) -> 5407254
B97: Fogászati ellátás
A99: gép-műszer
C100: kompresszor szivómotor tekercselése | D100: 345440 | E100: 345440
C103: Központi irányítás összesen: | D103: =SUM(D98:D101) -> 345440
C107: Mindösszesen: | E107: =SUM(E2:E103) -> 146820945

Sheet Beruházás2
G1: 11/a sz. melléklet
A5: 2015.01.01 - 2015.12.31.
B6: gép-,müszer | C6: bútor | D6: ügyvitel-,számt. | E6: gépkocsi | F6: vagyonért.jog | G6: épület | H6: összesen
A8: Járóbeteg | B8: 126032799 | C8: 6928444 | D8: 6619605 | F8: 967524 | H8: =SUM(B8:G8) -> 140548372
A9: Védőnői Szolg. | D9: 4826610 | F9: 580644 | H9: =SUM(C9:G9) -> 5407254
A10: Fogászati ell. | B10: 345440
A11: központi irányitás | D11: 519879 | H11: =SUM(D11:G11) -> 519879
A12: közérzetjavító
A14: összesen | B14: =SUM(B8:B12) -> 126378239 | C14: =SUM(C7:C13) -> 6928444 | D14: =SUM(D8:D12) -> 11966094 | E14: 0 | F14: =SUM(F8:F12) -> 1548168 | G14: =SUM(G8:G13) -> 0 | H14: =SUM(B14:G14) -> 146820945

Sheet Eszközök
A1: XIII. ker. Egészségügyi Szolgálat Közhasznú Nonprofit Kft.
A2: MÉRLEG "A" változat ESZKÖZÖK
D3: 2015
C4: Megnevezés / E Ft | D4: 2014.12.31 Záró | E4: 2015.12.31 Záró
A5: 1 | B5: A | C5: BEFEKTETETT ESZKÖZÖK | D5: =SUM(D6,D14,D22) -> 349095 | E5: =SUM(E6,E14,E22) -> 389459
A6: 2 | B6: I. | C6: IMMATERIÁLIS JAVAK | D6: =SUM(D7:D13) -> 14498 | E6: =SUM(E7:E13) -> 7811
A7: =+A6+1 -> 3 | B7: I.1 | C7: Alapítás-átszervezés aktivált értéke
A8: =+A7+1 -> 4 | B8: I.2 | C8: Kísérleti fejlesztés aktivált értéke
A9: =+A8+1 -> 5 | B9: I.3 | C9: Vagyoni értékű jogok | D9: 14498 | E9: 7811
A10: =+A9+1 -> 6 | B10: I.4 | C10: Szellemi termékek
A11: =+A10+1 -> 7 | B11: I.5 | C11: Üzleti vagy cégérték
A12: =+A11+1 -> 8 | B12: I.6 | C12: Immateriális javakra adott előlegek
A13: =+A12+1 -> 9 | B13: I.7 | C13: Immateriális javak értékhelyesbítése
A14: =+A13+1 -> 10 | B14: II. | C14: TÁRGYI ESZKÖZÖK | D14: =SUM(D15:D21) -> 334597 | E14: =SUM(E15:E21) -> 381648
A15: =+A14+1 -> 11 | B15: II.1 | C15: Ingatlanok és kapcsolódó vagyoni értékű jogok | D15: 46404 | E15: 45394
A16: =+A15+1 -> 12 | B16: II.2 | C16: Műszaki berendezések, gépek, járművek
A17: =+A16+1 -> 13 | B17: II.3 | C17: Egyéb berendezések, felszerelések, járművek | D17: 280111 | E17: 336254
A18: =+A17+1 -> 14 | B18: II.4 | C18: Tenyészállatok
A19: =+A18+1 -> 15 | B19: II.5 | C19: Beruházások | D19: 8082 | E19: 0
A20: =+A19+1 -> 16 | B20: II.6 | C20: Beruházásokra adott előleg
A21: =+A20+1 -> 17 | B21: II.7 | C21: Tárgyi eszközök értékhelyesbítése
A22: =+A21+1 -> 18 | B22: III. | C22: BEFEKTETETT PÉNZÜGYI ESZKÖZÖK. | D22: =SUM(D23:D30) -> 0 | E22: =SUM(E23:E30) -> 0
A23: =+A22+1 -> 19 | B23: III.1 | C23: Tartós részesedések kapcsolt vállalkozásban
A24: =+A23+1 -> 20 | B24: III.2 | C24: Tartósan adott kölcsön kapcsolt vállalkozásban
A25: =+A24+1 -> 21 | B25: III.3 | C25: Egyéb tartós részesedés
A26: =+A25+1 -> 22 | B26: III.4 | C26: Tartósan adott kölcsön egyéb részesedési viszonyban álló vállalkozásban
A27: =+A26+1 -> 23 | B27: III.5 | C27: Egyéb tartósan adott kölcsön
A28: =+A27+1 -> 24 | B28: III.6 | C28: Tartós hitelviszonyt megtestesítő értékpapír
A29: =+A28+1 -> 25 | B29: III.7 | C29: Befektetett pénzügyi eszközök értékhelyesbítése
A30: =+A29+1 -> 26 | B30: III.8 | C30: Befektetett pénzügyi eszközök értékelési különbözete
A31: =+A30+1 -> 27 | B31: B | C31: FORGÓESZKÖZÖK | D31: =SUM(D32,D39,D53) -> 37557 | E31: =SUM(E32,E39,E53) -> 38163
A32: =+A31+1 -> 28 | B32: I | C32: KÉSZLETEK | D32: =SUM(D33) -> 14847 | E32: =SUM(E33) -> 19219
A33: =+A32+1 -> 29 | B33: I.1 | C33: Anyagok | D33: 14847 | E33: 19219
A34: =+A33+1 -> 30 | B34: I.2 | C34: Befejezetlen termelés és félkész termék
A35: =+A34+1 -> 31 | B35: I.3 | C35: Növendék-, hízó- és egyéb állatok
A36: =+A35+1 -> 32 | B36: I.4 | C36: Késztermékek
A37: =+A36+1 -> 33 | B37: I.5 | C37: Áruk
A38: =+A37+1 -> 34 | B38: I.6 | C38: Készletre adott előlegek
A39: =+A38+1 -> 35 | B39: II. | C39: KÖVETELÉSEK | D39: =SUM(D40:D46) -> 5376 | E39: =SUM(E40:E46) -> 8089
A40: =+A39+1 -> 36 | B40: II.1 | C40: Követelések áruszállításból és szolgáltatásból | D40: 3426 | E40: 2987
A41: =+A40+1 -> 37 | B41: II.2 | C41: Követelések kapcsolt vállalkozással szemben
A42: =+A41+1 -> 38 | B42: II.3 | C42: Követelések egyéb részesedési viszonyban lévő vállalkozással szemben
A43: =+A42+1 -> 39 | B43: II.4 | C43: Váltókövetelések
A44: =+A43+1 -> 40 | B44: II.5 | C44: Egyéb követelések | D44: 1950 | E44: 5102
A45: =+A44+1 -> 41 | B45: II.6 | C45: Követelések értékelési különbözete
A46: =+A45+1 -> 42 | B46: II.7 | C46: Származékos ügyletek pozitív értékelési különbözete
A47: =+A46+1 -> 43 | B47: III. | C47: ÉRTÉKPAPÍROK
A48: =+A47+1 -> 44 | B48: III.1 | C48: Részesedés kapcsolt vállalkozásban
A49: =+A48+1 -> 45 | B49: III.2 | C49: Egyéb részesedés
A50: =+A49+1 -> 46 | B50: III.3 | C50: Saját részvények és részesedések
A51: =+A50+1 -> 47 | B51: III.4 | C51: Forgatási célú hitelviszonyt megtestesítő értékpapírok
A52: =+A51+1 -> 48 | B52: III.5 | C52: Értékpapírok értékelési különbözete
A53: =+A52+1 -> 49 | B53: IV. | C53: PÉNZESZKÖZÖK | D53: =SUM(D54:D55) -> 17334 | E53: =SUM(E54:E55) -> 10855
A54: =+A53+1 -> 50 | B54: IV.1 | C54: Pénztár, csekkek | D54: 70 | E54: 74
A55: =+A54+1 -> 51 | B55: IV.2 | C55: Bankbetétek | D55: 17264 | E55: 10781
A56: =+A55+1 -> 52 | B56: C | C56: AKTÍV IDŐBELI ELHATÁROLÁSOK | D56: =SUM(D57:D58) -> 169360 | E56: =SUM(E57:E58) -> 178413
A57: =+A56+1 -> 53 | B57: C.1 | C57: Bevételek aktív időbeli elhatárolása | D57: 167675 | E57: 175428
A58: =+A57+1 -> 54 | B58: C.2 | C58: Költségek, ráfordítások aktív időbeli elhatárolása | D58: 1685 | E58: 2985
A59: =+A58+1 -> 55 | B59: C.3 | C59: Halasztott ráfordítások
A60: =+A59+1 -> 56 | C60: ESZKÖZÖK ÖSSZESEN: | D60: =SUM(D5,D31,D56) -> 556012 | E60: =SUM(E5,E31,E56) -> 606035

Sheet Források
A1: XIII. ker. Egészségügyi Szolgálat Közhasznú Nonprofit Kft.
A2: MÉRLEG "A" változat FORRÁSOK
D3: 2015
C4: Megnevezés / E Ft | D4: 2014.12.31 Záró | E4: 2015.09.30 Záró
A5: 57 | B5: D. | C5: SAJÁT TŐKE | D5: =SUM(D6:D15) -> 201224 | E5: =SUM(E6:E15) -> 185736
A6: =+A5+1 -> 58 | B6: I. | C6: JEGYZETT TŐKE | D6: 407600 | E6: 5000
A7: =+A6+1 -> 59 | C7: ebből visszavásárolt tulajdoni részesedés névértéken
A8: =+A7+1 -> 60 | B8: II. | C8: JEGYZETT, DE MÉG BE NEM FIZ. TŐKE
A9: =+A8+1 -> 61 | B9: III. | C9: TŐKETARTALÉK | D9: 122752 | E9: 122752
A10: =+A9+1 -> 62 | B10: IV. | C10: EREDMÉNYTARTALÉK | D10: -287750 | E10: 73472
A11: =+A10+1 -> 63 | B11: V. | C11: LEKÖTÖTT TARTALÉK
A12: =+A11+1 -> 64 | B12: VI. | C12: ÉRTÉKELÉSI TARTALÉK
A13: =+A12+1 -> 65 | B13: VI.1 | C13: Értékhelyesbítés értékelési tartaléka
A14: =+A13+1 -> 66 | B14: VI.2 | C14: Valós értékelés értékelési tartaléka
A15: =+A14+1 -> 67 | B15: VII. | C15: MÉRLEG SZERINTI EREDMÉNY | D15: -41378 | E15: -15488
A16: =+A15+1 -> 68 | B16: E. | C16: CÉLTARTALÉKOK
A17: =+A16+1 -> 69 | B17: E.1 | C17: Céltartalék a várható kötelezettségekre
A18: =+A17+1 -> 70 | B18: E.2 | C18: Céltartalék a jövőbeni költségekre
A19: =+A18+1 -> 71 | B19: E.3 | C19: Egyéb céltartalék
A20: =+A19+1 -> 72 | B20: F. | C20: KÖTELEZETTSÉGEK | D20: =SUM(D21,D25,D34) -> 85107 | E20: =SUM(E21,E25,E34) -> 90309
A21: =+A20+1 -> 73 | B21: I. | C21: HÁTRASOROLT KÖTELEZETTSÉGEK
A22: =+A21+1 -> 74 | B22: I.1 | C22: Hátrasorolt kötelezettségek kapcsolt vállalkozással szemben
A23: =+A22+1 -> 75 | B23: I.2 | C23: Hátrasorolt kötelezettségek egyéb részesedési viszonyban lévő vállalkozással szemben
A24: =+A23+1 -> 76 | B24: I.3 | C24: Hátrasorolt kötelezettségek egyéb gazdálkodóval szemben
A25: =+A24+1 -> 77 | B25: II. | C25: HOSSZÚ LEJÁRATÚ KÖTELEZETTSÉGEK
A26: =+A25+1 -> 78 | B26: II.1 | C26: Hosszú lejáratra kapott kölcsönök
A27: =+A26+1 -> 79 | B27: II.2 | C27: Átváltoztatható kötvény
A28: =+A27+1 -> 80 | B28: II.3 | C28: Tartozások kötvénykibocsátásból
A29: =+A28+1 -> 81 | B29: II.4 | C29: Beruházási és fejlesztési hitelek
A30: =+A29+1 -> 82 | B30: II.5 | C30: Egyéb hosszú lejáratú hitelek
A31: =+A30+1 -> 83 | B31: II.6 | C31: Tartós kötelezettségek kapcsolt vállalkozással szemben
A32: =+A31+1 -> 84 | B32: II.7 | C32: Tartós kötelezettségek egyéb részesedési viszonyban lévő vállalkozással szemben
A33: =+A32+1 -> 85 | B33: II.8 | C33: Egyéb hosszú lejáratú kötelezettségek
A34: =+A33+1 -> 86 | B34: III. | C34: RÖVID LEJÁRATÚ KÖTELEZETTSÉGEK | D34: =SUM(D35:D46) -> 85107 | E34: =SUM(E35:E46) -> 90309
A35: =+A34+1 -> 87 | B35: III.1 | C35: Rövid lejáratú kölcsönök
A36: =+A35+1 -> 88 | C36: ebből az átváltoztatható kötvények
A37: =+A36+1 -> 89 | B37: III.2 | C37: Rövid lejáratú hitelek
A38: =+A37+1 -> 90 | B38: III.3 | C38: Vevőtől kapott előlegek
A39: =+A38+1 -> 91 | B39: III.4 | C39: Kötelezettségek áruszállításból és szolgáltatásból | D39: 37327 | E39: 39354
C40: Kötelezettségek anyavállalattal szemben
A41: =+A39+1 -> 92 | B41: III.5 | C41: Váltótartozások
A42: =+A41+1 -> 93 | B42: III.6 | C42: Rövid lejáratú kötelezettségek kapcsolt vállalkozással szemben
A43: =+A42+1 -> 94 | B43: III.7 | C43: Rövid lejáratú kötelezettségek egyéb részesedési viszonyban lévő vállalkozással szemben
A44: =+A43+1 -> 95 | B44: III.8 | C44: Egyéb rövid lejáratú kötelezettségek | D44: 47780 | E44: 50955
A45: =+A44+1 -> 96 | B45: III.9 | C45: Kötelezettségek értékelési különbözete
A46: =+A45+1 -> 97 | B46: III.10 | C46: Származékos ügyletek negatív értékelési különbözete
A47: =+A46+1 -> 98 | B47: G. | C47: PASSZÍV IDŐBELI ELHATÁROLÁSOK | D47: =SUM(D48:D50) -> 269681 | E47: =SUM(E48:E50) -> 329990
A48: =+A47+1 -> 99 | B48: G.1 | C48: Bevételek passzív időbeli elhatárolása | D48: 438 | E48: 413
A49: =+A48+1 -> 100 | B49: G.2 | C49: Költségek, ráfordítások passzív időbeli elhatárolása | D49: 24827 | E49: 24758
A50: =+A49+1 -> 101 | B50: G.3 | C50: Halasztott bevételek | D50: 244416 | E50: 304819
A51: =+A50+1 -> 102 | C51: FORRÁSOK (PASSZÍVÁK ) ÖSSZESEN: | D51: =SUM(D5,D16,D20,D47) -> 556012 | E51: =SUM(E5,E16,E20,E47) -> 606035

Sheet Eredmény
A1: XIII. ker. Egészségügyi Szolgálat Közhasznú Nonprofit Kft.
A2: EREDMÉNYKIMUTATÁS ÖSSZKÖLTSÉG "A"
C4: Megnevezés / E Ft | D4: 2014.12.31 Záró | E4: 2015.12.31 Záró
A5: 1 | B5: 1 | C5: Belföldi értékesítés nettó árbevétele | D5: 1598264 | E5: 1606657
C6: OEP elszámolás | D6: 1438719 | E6: 1460847
C7: saját tevékenység | D7: =D5-D6 -> 159545 | E7: 145810
A8: =+A5+1 -> 2 | B8: 2 | C8: Export értékesítés nettó árbevétele
A9: =+A8+1 -> 3 | B9: I. | C9: ÉRTÉKESÍTÉS NETTÓ ÁRBEVÉTELE | D9: =SUM(D5,D8) -> 1598264 | E9: =SUM(E5,E8) -> 1606657
A10: =+A9+1 -> 4 | B10: 3 | C10: Saját termelésű készletek állományváltozása
A11: =+A10+1 -> 5 | B11: 4 | C11: Saját előállítású eszközök aktívált értéke
A12: =+A11+1 -> 6 | B12: II. | C12: AKTÍVÁLT SAJÁT TELJESÍTMÉNYEK ÉRTÉKE
A13: =+A12+1 -> 7 | B13: III. | C13: EGYÉB BEVÉTELEK | D13: =SUM(D14:D15) -> 178553 | E13: =SUM(E14:E15) -> 168402
C14: Önkormányzati működési támogatás | D14: 177115 | E14: 164000
C15: Egyéb bevétel | D15: 1438 | E15: 4402
A16: =+A13+1 -> 8 | C16: ebből visszaírt értékvesztés
A17: =+A16+1 -> 9 | B17: 5 | C17: Anyagköltség | D17: 189993 | E17: 189131
A18: =+A17+1 -> 10 | B18: 6 | C18: Igénybe vett szolgáltatások | D18: 361135 | E18: =356383-400 -> 355983
A19: =+A18+1 -> 11 | B19: 7 | C19: Egyéb szolgáltatások értéke | D19: 10256 | E19: 9211
A20: =+A19+1 -> 12 | B20: 8 | C20: Eladott áruk beszerzési értéke
A21: =+A20+1 -> 13 | B21: 9 | C21: Eladott (közvetített) szolgáltatások értéke | D21: 7930 | E21: =6694+400 -> 7094
A22: =+A21+1 -> 14 | B22: IV. | C22: ANYAGJELLEGŰ RÁFORDÍTÁSOK | D22: =SUM(D17:D21) -> 569314 | E22: =SUM(E17:E21) -> 561419
A23: =+A22+1 -> 15 | B23: 10 | C23: Bérköltség | D23: 913678 | E23: 901882
A24: =+A23+1 -> 16 | B24: 11 | C24: Személyi jellegű egyéb kifizetések | D24: 44233 | E24: 45725
A25: =+A24+1 -> 17 | B25: 12 | C25: Bérjárulékok | D25: 246782 | E25: 243507
A26: =+A25+1 -> 18 | B26: V. | C26: SZEMÉLYI JELLEGŰ RÁFORDÍTÁSOK | D26: =SUM(D23:D25) -> 1204693 | E26: =SUM(E23:E25) -> 1191114
A27: =+A26+1 -> 19 | B27: VI. | C27: ÉRTÉKCSÖKKENÉSI LEÍRÁS | D27: 128405 | E27: 112301
A28: =+A27+1 -> 20 | B28: VII. | C28: EGYÉB RÁFORDÍTÁSOK | D28: 11664 | E28: 18580
A29: =+A28+1 -> 21 | C29: ebből értékvesztés
A30: =+A29+1 -> 22 | B30: A | C30: ÜZEMI TEVÉKENYSÉG EREDMÉNYE | D30: =D9+D13-D22-D26-D27-D28 -> -137259 | E30: =E9+E13-E22-E26-E27-E28 -> -108355
A31: =+A30+1 -> 23 | B31: 13 | C31: Kapott osztalék és részesedés
A32: =+A31+1 -> 24 | C32: ebből kapcsolt vállalkozástól kapott
A33: =+A32+1 -> 25 | B33: 14 | C33: Részesedés értékesítésének árfolyamnyeresége
A34: =+A33+1 -> 26 | C34: ebből kapcsolt vállalkozástól kapott
A35: =+A34+1 -> 27 | B35: 15 | C35: Befektetett pénzügyi eszközök kamatai, árfolyamnyeresége
A36: =+A35+1 -> 28 | C36: ebből kapcsolt vállalkozástól kapott
A37: =+A36+1 -> 29 | B37: 16 | C37: Egyéb kapott kamatok és kamatjellegű bevételek | D37: 159 | E37: 318
A38: =+A37+1 -> 30 | C38: ebből kapcsolt vállalkozástól kapott
A39: =+A38+1 -> 31 | B39: 17 | C39: Pénzügyi műveletek egyéb bevételei
A40: =+A39+1 -> 32 | C40: ebből: értékelési különbözet
A41: =+A40+1 -> 33 | B41: IX. | C41: PÉNZÜGYI MŰVELETEK BEVÉTELEI | D41: =SUM(D31,D33,D35,D37,D39) -> 159 | E41: =SUM(E31,E33,E35,E37,E39) -> 318
A42: =+A41+1 -> 34 | B42: 18 | C42: Befektetett pénzügyi eszközök árfolyamvesztesége
A43: =+A42+1 -> 35 | C43: ebből kapcsolt vállalkozásnak adott
A44: =+A43+1 -> 36 | B44: 19 | C44: Fizetendő kamatok és kamatjellegű ráfordítások
A45: =+A44+1 -> 37 | C45: ebből kapcsolt vállalkozásnak adott
A46: =+A45+1 -> 38 | B46: 20 | C46: Részesedések, értékpapírok, bankbetétek értékvesztése
A47: =+A46+1 -> 39 | B47: 21 | C47: Pénzügyi műveletek egyéb ráfordításai
A48: =+A47+1 -> 40 | C48: ebből: értékelési különbözet
A49: =+A48+1 -> 41 | B49: X. | C49: PÉNZÜGYI MŰVELETEK RÁFORDÍTÁSAI | D49: =SUM(D42,D44,D46,D47) -> 0 | E49: =SUM(E42,E44,E46,E47) -> 0
A50: =+A49+1 -> 42 | B50: B | C50: Pénzügyi műveletek eredménye | D50: =D41-D49 -> 159 | E50: =E41-E49 -> 318
A51: =+A50+1 -> 43 | B51: C | C51: Szokásos vállalkozási eredmény | D51: =SUM(D30+D50) -> -137100 | E51: =SUM(E30+E50) -> -108037
A52: =+A51+1 -> 44 | B52: XI. | C52: RENDKÍVÜLI BEVÉTELEK | D52: 95722 | E52: 92549
A53: =+A52+1 -> 45 | B53: XII. | C53: RENDKÍVÜLI RÁFORDÍTÁSOK
A54: =+A53+1 -> 46 | B54: D | C54: RENDKÍVÜLI EREDMÉNY | D54: =D52-D53 -> 95722 | E54: =E52-E53 -> 92549
A55: =+A54+1 -> 47 | B55: E | C55: ADÓZÁS ELŐTTI EREDMÉNY | D55: =D51+D54 -> -41378 | E55: =E51+E54 -> -15488
A56: =+A55+1 -> 48 | B56: XIII. | C56: ADÓFIZETÉSI KÖTELEZETTSÉG
A57: =+A56+1 -> 49 | B57: F | C57: ADÓZOTT EREDMÉNY | D57: =D55-D56 -> -41378 | E57: =E55-E56 -> -15488
A58: =+A57+1 -> 50 | B58: 22 | C58: Eredménytartalék igénybevétele osztalékra
A59: =+A58+1 -> 51 | B59: 23 | C59: Fizetett (jóváhagyott) osztalék és részesedés
A60: =+A59+1 -> 52 | B60: G | C60: MÉRLEG SZERINTI EREDMÉNY | D60: =D57+D58+D59 -> -41378 | E60: =E57+E58+E59 -> -15488

Sheet Szegedi
G1: 14. sz. melléklet
A3: Budapest, XIII. kerület Szegedi út 17.sz.Egészségház Társasház
D9: 2014.év | E9: 2015.év | F9: 2015.év | G9: 2015.év aránya
G10: tervhez képest
A12: BEVÉTEL eFt
D13: Éves tény | E13: Éves terv | F13: Éves tény | G13: %
A14: Közös költség | D14: 56078 | E14: 54232 | F14: 52806 | G14: =F14/E14 -> 0.97370556
A18: KIADÁS eFt
D19: Éves tény | E19: Éves terv | F19: Éves tény | G19: %
A20: Közüzemi szolgáltatás | D20: 30865 | E20: 30280 | F20: 31237 | G20: =F20/E20 -> 1.031605
A21: Takarítás | D21: 2060 | E21: 2500 | F21: 2093 | G21: =F21/E21 -> 0.8372
A22: Őrzés-védelem | D22: 9864 | E22: 11040 | F22: 9684 | G22: =F22/E22 -> 0.87717391
A23: Ingatlan karbantartás | D23: 5366 | E23: 5096 | F23: 5051 | G23: =F23/E23 -> 0.99116954
A24: Lift karbantartás | D24: 4343 | E24: 1580 | F24: 2083 | G24: =F24/E24 -> 1.3183544
A25: Szemétszállítás | D25: 2119 | E25: 2160 | F25: 2123 | G25: =F25/E25 -> 0.98287037
A26: Tranzakciós-bankköltség | D26: 303 | E26: 300 | F26: 296 | G26: =F26/E26 -> 0.98666667
A27: Vagyonbiztosítás | D27: 820 | E27: 820 | F27: 0 | G27: =F27/E27 -> 0
A28: Jogi tan.+könyvvizsgálat | D28: 305 | E28: 306 | F28: 292 | G28: =F28/E28 -> 0.95424837
A29: Közös képviseleti díj | D29: 0 | E29: 150 | F29: 0 | G29: =F29/E29 -> 0
A30: Összesen: | D30: 56045 | E30: =SUM(E20:E29) -> 54232 | F30: =SUM(F20:F29) -> 52859 | G30: =F30/E30 -> 0.97468284
A33: Bevétel - Kiadás : | D33: 33 | E33: 0 | F33: -53

Sheet Visegrádi
G1: 15. sz. melléklet
A3: Budapest, XIII. kerület Visegrádi u. 47/C- Alig u. 9.sz. Egészségház Társasház
D9: 2014.év | E9: 2015.év | F9: 2015.év | G9: 2015.év aránya
G10: tervhez képest
A12: BEVÉTEL eFt
D13: Éves tény | E13: Éves terv | F13: Éves tény | G13: %
A14: Közös költség | D14: 40772 | E14: 43783 | F14: 45856 | G14: =F14/E14 -> 1.0473471
A18: KIADÁS eFt
D19: Éves tény | E19: Éves terv | F19: Éves tény | G19: %
A20: Közüzemi szolgáltatás | D20: 21041 | E20: 22230 | F20: 22506 | G20: =F20/E20 -> 1.0124157
A21: Takarítás | D21: 3323 | E21: 3360 | F21: 2223 | G21: =F21/E21 -> 0.66160714
A22: Őrzés-védelem | D22: 12515 | E22: 13200 | F22: 12762 | G22: =F22/E22 -> 0.96681818
A23: Ingatlan karbantartás | D23: 1722 | E23: 2570 | F23: 4185 | G23: =F23/E23 -> 1.6284047
A24: Lift karbantartás | D24: 201 | E24: 280 | F24: 247 | G24: =F24/E24 -> 0.88214286
A25: Szemétszállítás | D25: 1177 | E25: 1200 | F25: 1177 | G25: =F25/E25 -> 0.98083333
A26: Tranzakciós-bankköltség | D26: 239 | E26: 240 | F26: 257 | G26: =F26/E26 -> 1.0708333
A27: Vagyonbiztosítás | D27: 247 | E27: 247 | F27: 0 | G27: =F27/E27 -> 0
A28: Jogi tan.-könyvvizsgálat | D28: 305 | E28: 306 | F28: 1410 | G28: =F28/E28 -> 4.6078431
A29: Közös képviseleti díj | D29: 0 | E29: 150 | F29: 0 | G29: =F29/E29 -> 0
A30: Összesen: | D30: 40770 | E30: =SUM(E20:E29) -> 43783 | F30: =SUM(F20:F29) -> 44767 | G30: =F30/E30 -> 1.0224745
A33: Bevétel - Kiadás : | D33: 2 | E33: 0 | F33: 1089
