Workbook

Sheet 1
A1: Munkahely | D1: Jelentett esetszám | G1: Jelentett beavatkozásszám | J1: Jelentett pontszám
D2: Összesen. | G2: Összesen: | J2: Összesen:
D3: 2015 | E3: 2016 | F3: trend | G3: 2015 | H3: 2016 | I3: trend | J3: 2015 | K3: 2016 | L3: trend
A4: Általános belgyógyászat | D4: ='1 (szegedi)'!D4+'1 (visegrádi)'!D4 -> 2302 | E4: ='1 (szegedi)'!E4+'1 (visegrádi)'!E4 -> 1828 | F4: =E4/D4 -> 0.79409209 | G4: ='1 (szegedi)'!G4+'1 (visegrádi)'!G4 -> 6213 | H4: ='1 (szegedi)'!H4+'1 (visegrádi)'!H4 -> 4688 | I4: =H4/G4 -> 0.75454692 | J4: ='1 (szegedi)'!J4+'1 (visegrádi)'!J4 -> 2387194 | K4: ='1 (szegedi)'!K4+'1 (visegrádi)'!K4 -> 1861549 | L4: =K4/J4 -> 0.77980633
A5: Belgyógyászat-Diabetológia | D5: ='1 (szegedi)'!D5+'1 (visegrádi)'!D5 -> 3544 | E5: ='1 (szegedi)'!E5+'1 (visegrádi)'!E5 -> 3304 | F5: =E5/D5 -> 0.93227991 | G5: ='1 (szegedi)'!G5+'1 (visegrádi)'!G5 -> 9759 | H5: ='1 (szegedi)'!H5+'1 (visegrádi)'!H5 -> 9175 | I5: =H5/G5 -> 0.9401578 | J5: ='1 (szegedi)'!J5+'1 (visegrádi)'!J5 -> 1614474 | K5: ='1 (szegedi)'!K5+'1 (visegrádi)'!K5 -> 1533960 | L5: =K5/J5 -> 0.95012989
A6: Gasztroenterológia | D6: ='1 (szegedi)'!D6+'1 (visegrádi)'!D6 -> 2830 | E6: ='1 (szegedi)'!E6+'1 (visegrádi)'!E6 -> 3493 | F6: =E6/D6 -> 1.2342756 | G6: ='1 (szegedi)'!G6+'1 (visegrádi)'!G6 -> 5391 | H6: ='1 (szegedi)'!H6+'1 (visegrádi)'!H6 -> 7533 | I6: =H6/G6 -> 1.3973289 | J6: ='1 (szegedi)'!J6+'1 (visegrádi)'!J6 -> 5959166 | K6: ='1 (szegedi)'!K6+'1 (visegrádi)'!K6 -> 9343843 | L6: =K6/J6 -> 1.5679783
A7: Kardiológia | D7: ='1 (szegedi)'!D7+'1 (visegrádi)'!D7 -> 11871 | E7: ='1 (szegedi)'!E7+'1 (visegrádi)'!E7 -> 12404 | F7: =E7/D7 -> 1.0448993 | G7: ='1 (szegedi)'!G7+'1 (visegrádi)'!G7 -> 29849 | H7: ='1 (szegedi)'!H7+'1 (visegrádi)'!H7 -> 32544 | I7: =H7/G7 -> 1.0902878 | J7: ='1 (szegedi)'!J7+'1 (visegrádi)'!J7 -> 23822426 | K7: ='1 (szegedi)'!K7+'1 (visegrádi)'!K7 -> 26443692 | L7: =K7/J7 -> 1.1100335
A8: Sebészet | D8: ='1 (szegedi)'!D8+'1 (visegrádi)'!D8 -> 23786 | E8: ='1 (szegedi)'!E8+'1 (visegrádi)'!E8 -> 22348 | F8: =E8/D8 -> 0.93954427 | G8: ='1 (szegedi)'!G8+'1 (visegrádi)'!G8 -> 114916 | H8: ='1 (szegedi)'!H8+'1 (visegrádi)'!H8 -> 100812 | I8: =H8/G8 -> 0.87726687 | J8: ='1 (szegedi)'!J8+'1 (visegrádi)'!J8 -> 37941280 | K8: ='1 (szegedi)'!K8+'1 (visegrádi)'!K8 -> 34014490 | L8: =K8/J8 -> 0.89650349
A9: Traumatológia | D9: ='1 (szegedi)'!D9+'1 (visegrádi)'!D9 -> 12819 | E9: ='1 (szegedi)'!E9+'1 (visegrádi)'!E9 -> 13039 | F9: =E9/D9 -> 1.017162 | G9: ='1 (szegedi)'!G9+'1 (visegrádi)'!G9 -> 55754 | H9: ='1 (szegedi)'!H9+'1 (visegrádi)'!H9 -> 52399 | I9: =H9/G9 -> 0.93982495 | J9: ='1 (szegedi)'!J9+'1 (visegrádi)'!J9 -> 18519499 | K9: ='1 (szegedi)'!K9+'1 (visegrádi)'!K9 -> 18018803 | L9: =K9/J9 -> 0.97296385
A10: Proktológia | D10: ='1 (szegedi)'!D10+'1 (visegrádi)'!D10 -> 2490 | E10: ='1 (szegedi)'!E10+'1 (visegrádi)'!E10 -> 2458 | F10: =E10/D10 -> 0.98714859 | G10: ='1 (szegedi)'!G10+'1 (visegrádi)'!G10 -> 11710 | H10: ='1 (szegedi)'!H10+'1 (visegrádi)'!H10 -> 12034 | I10: =H10/G10 -> 1.0276687 | J10: ='1 (szegedi)'!J10+'1 (visegrádi)'!J10 -> 3570932 | K10: ='1 (szegedi)'!K10+'1 (visegrádi)'!K10 -> 3673832 | L10: =K10/J10 -> 1.028816
A11: Aneszteziológia | D11: ='1 (szegedi)'!D11+'1 (visegrádi)'!D11 -> 1106 | E11: ='1 (szegedi)'!E11+'1 (visegrádi)'!E11 -> 1102 | F11: =E11/D11 -> 0.99638336 | G11: ='1 (szegedi)'!G11+'1 (visegrádi)'!G11 -> 2192 | H11: ='1 (szegedi)'!H11+'1 (visegrádi)'!H11 -> 2189 | I11: =H11/G11 -> 0.99863139 | J11: ='1 (szegedi)'!J11+'1 (visegrádi)'!J11 -> 1457736 | K11: ='1 (szegedi)'!K11+'1 (visegrádi)'!K11 -> 1454238 | L11: =K11/J11 -> 0.99760039
A12: Nőgyógyászat-terhesgond. | D12: ='1 (szegedi)'!D12+'1 (visegrádi)'!D12 -> 23250 | E12: ='1 (szegedi)'!E12+'1 (visegrádi)'!E12 -> 21988 | F12: =E12/D12 -> 0.94572043 | G12: ='1 (szegedi)'!G12+'1 (visegrádi)'!G12 -> 84834 | H12: ='1 (szegedi)'!H12+'1 (visegrádi)'!H12 -> 83048 | I12: =H12/G12 -> 0.97894712 | J12: ='1 (szegedi)'!J12+'1 (visegrádi)'!J12 -> 28849687 | K12: ='1 (szegedi)'!K12+'1 (visegrádi)'!K12 -> 27927460 | L12: =K12/J12 -> 0.96803338
A13: Fül-orr - gégészet | D13: ='1 (szegedi)'!D13+'1 (visegrádi)'!D13 -> 22319 | E13: ='1 (szegedi)'!E13+'1 (visegrádi)'!E13 -> 21910 | F13: =E13/D13 -> 0.98167481 | G13: ='1 (szegedi)'!G13+'1 (visegrádi)'!G13 -> 86619 | H13: ='1 (szegedi)'!H13+'1 (visegrádi)'!H13 -> 74019 | I13: =H13/G13 -> 0.85453538 | J13: ='1 (szegedi)'!J13+'1 (visegrádi)'!J13 -> 21758909 | K13: ='1 (szegedi)'!K13+'1 (visegrádi)'!K13 -> 21090320 | L13: =K13/J13 -> 0.96927286
A14: Audiológia | D14: ='1 (szegedi)'!D14+'1 (visegrádi)'!D14 -> 1697 | E14: ='1 (szegedi)'!E14+'1 (visegrádi)'!E14 -> 1690 | F14: =E14/D14 -> 0.99587507 | G14: ='1 (szegedi)'!G14+'1 (visegrádi)'!G14 -> 11581 | H14: ='1 (szegedi)'!H14+'1 (visegrádi)'!H14 -> 12131 | I14: =H14/G14 -> 1.0474916 | J14: ='1 (szegedi)'!J14+'1 (visegrádi)'!J14 -> 2592616 | K14: ='1 (szegedi)'!K14+'1 (visegrádi)'!K14 -> 2742961 | L14: =K14/J14 -> 1.0579897
A15: Szemészet | D15: ='1 (szegedi)'!D15+'1 (visegrádi)'!D15 -> 25047 | E15: ='1 (szegedi)'!E15+'1 (visegrádi)'!E15 -> 25095 | F15: =E15/D15 -> 1.0019164 | G15: ='1 (szegedi)'!G15+'1 (visegrádi)'!G15 -> 248818 | H15: ='1 (szegedi)'!H15+'1 (visegrádi)'!H15 -> 244963 | I15: =H15/G15 -> 0.98450675 | J15: ='1 (szegedi)'!J15+'1 (visegrádi)'!J15 -> 42182624 | K15: ='1 (szegedi)'!K15+'1 (visegrádi)'!K15 -> 41401533 | L15: =K15/J15 -> 0.98148311
... A28: Fogászat (szakellátás) | D28: ='1 (szegedi)'!D28+'1 (visegrádi)'!D28 -> 7080 | E28: ='1 (szegedi)'!E28+'1 (visegrádi)'!E28 -> 6954 | F28: =E28/D28 -> 0.98220339 | G28: ='1 (szegedi)'!G28+'1 (visegrádi)'!G28 -> 16850 | H28: ='1 (szegedi)'!H28+'1 (visegrádi)'!H28 -> 15129 | I28: =H28/G28 -> 0.8978635 | J28: ='1 (szegedi)'!J28+'1 (visegrádi)'!J28 -> 7323490 | K28: ='1 (szegedi)'!K28+'1 (visegrádi)'!K28 -> 6425150 | L28: =K28/J28 -> 0.87733444
A30: Összes szakrendelés | D30: =SUM(D4:D28)-D27-D28 -> 377994 | E30: =SUM(E4:E28)-E27-E28 -> 376956 | F30: =E30/D30 -> 0.99725392 | G30: =SUM(G4:G28)-G27-G28 -> 1825173 | H30: =SUM(H4:H28)-H27-H28 -> 1783860 | I30: =H30/G30 -> 0.97736489 | J30: =SUM(J4:J28)-J27-J28 -> 478663688 | K30: =SUM(K4:K28)-K27-K28 -> 475107049 | L30: =K30/J30 -> 0.99256965
A32: Összes labor | D32: ='1 (szegedi)'!D32+'1 (visegrádi)'!D32 -> 74165 | E32: ='1 (szegedi)'!E32+'1 (visegrádi)'!E32 -> 73130 | F32: =E32/D32 -> 0.98604463 | G32: ='1 (szegedi)'!G32+'1 (visegrádi)'!G32 -> 1353762 | H32: ='1 (szegedi)'!H32+'1 (visegrádi)'!H32 -> 1320865 | I32: =H32/G32 -> 0.97569957 | J32: ='1 (szegedi)'!J32+'1 (visegrádi)'!J32 -> 227180761 | K32: ='1 (szegedi)'!K32+'1 (visegrádi)'!K32 -> 223307921 | L32: =K32/J32 -> 0.98295261
A33: Összes fogászat | D33: =D27+D28 -> 7238 | E33: =E27+E28 -> 6954 | F33: =E33/D33 -> 0.96076264 | G33: =G27+G28 -> 17597 | H33: =H27+H28 -> 15129 | I33: =H33/G33 -> 0.85974882 | J33: =J27+J28 -> 7519405 | K33: =K27+K28 -> 6425150 | L33: =K33/J33 -> 0.85447585
A35: összesen: | D35: =SUM(D30:D33) -> 459397 | E35: =SUM(E30:E33) -> 457040 | F35: =E35/D35 -> 0.99486936 | G35: =SUM(G30:G33) -> 3196532 | H35: =SUM(H30:H33) -> 3119854 | I35: =H35/G35 -> 0.97601213 | J35: =SUM(J30:J33) -> 713363854 | K35: =SUM(K30:K33) -> 704840120 | L35: =K35/J35 -> 0.98805135

Sheet 1 (szegedi)
A1: Munkahely | D1: Jelentett esetszám | G1: Jelentett beavatkozásszám | J1: Jelentett pontszám
D2: Összesen. | G2: Összesen: | J2: Összesen:
D3: 2015 | E3: 2016 | F3: trend | G3: 2015 | H3: 2016 | I3: trend | J3: 2015 | K3: 2016 | L3: trend
A4: Általános belgyógyászat | D4: 2302 | E4: 1828 | F4: =E4/D4 -> 0.79409209 | G4: 6213 | H4: 4688 | I4: =H4/G4 -> 0.75454692 | J4: 2387194 | K4: 1861549 | L4: =K4/J4 -> 0.77980633
A5: Belgyógyászat-Diabetológia | D5: 3544 | E5: 3304 | F5: =E5/D5 -> 0.93227991 | G5: 9759 | H5: 9175 | I5: =H5/G5 -> 0.9401578 | J5: 1614474 | K5: 1533960 | L5: =K5/J5 -> 0.95012989
A6: Gasztroenterológia | D6: 2830 | E6: 3493 | F6: =E6/D6 -> 1.2342756 | G6: 5391 | H6: 7533 | I6: =H6/G6 -> 1.3973289 | J6: 5959166 | K6: 9343843 | L6: =K6/J6 -> 1.5679783
A7: Kardiológia-EKG | D7: 11871 | E7: 12404 | F7: =E7/D7 -> 1.0448993 | G7: 29849 | H7: 32544 | I7: =H7/G7 -> 1.0902878 | J7: 23822426 | K7: 26443692 | L7: =K7/J7 -> 1.1100335
A8: Sebészet | D8: 23786 | E8: 22348 | F8: =E8/D8 -> 0.93954427 | G8: 114916 | H8: 100812 | I8: =H8/G8 -> 0.87726687 | J8: 37941280 | K8: 34014490 | L8: =K8/J8 -> 0.89650349
A9: Traumatológia | D9: 12819 | E9: 13039 | F9: =E9/D9 -> 1.017162 | G9: 55754 | H9: 52399 | I9: =H9/G9 -> 0.93982495 | J9: 18519499 | K9: 18018803 | L9: =K9/J9 -> 0.97296385
A10: Proktológia | D10: 2490 | E10: 2458 | F10: =E10/D10 -> 0.98714859 | G10: 11710 | H10: 12034 | I10: =H10/G10 -> 1.0276687 | J10: 3570932 | K10: 3673832 | L10: =K10/J10 -> 1.028816
A11: Aneszteziológia | D11: 1106 | E11: 1102 | F11: =E11/D11 -> 0.99638336 | G11: 2192 | H11: 2189 | I11: =H11/G11 -> 0.99863139 | J11: 1457736 | K11: 1454238 | L11: =K11/J11 -> 0.99760039
A12: Nőgyógyászat-terhesgond. | D12: 12628 | E12: 12292 | F12: =E12/D12 -> 0.97339246 | G12: 43536 | H12: 45141 | I12: =H12/G12 -> 1.036866 | J12: 15204708 | K12: 15376550 | L12: =K12/J12 -> 1.0113019
A13: Fül-orr - gégészet | D13: 10765 | E13: 10580 | F13: =E13/D13 -> 0.98281468 | G13: 34732 | H13: 36391 | I13: =H13/G13 -> 1.0477657 | J13: 9667829 | K13: 10180162 | L13: =K13/J13 -> 1.0529936
A14: Audiológia | D14: 1697 | E14: 1690 | F14: =E14/D14 -> 0.99587507 | G14: 11581 | H14: 12131 | I14: =H14/G14 -> 1.0474916 | J14: 2592616 | K14: 2742961 | L14: =K14/J14 -> 1.0579897
A15: Szemészet | D15: 13014 | E15: 12817 | F15: =E15/D15 -> 0.98486246 | G15: 118892 | H15: 116647 | I15: =H15/G15 -> 0.98111732 | J15: 21188810 | K15: 20926027 | L15: =K15/J15 -> 0.98759803
A16: Bőrgyógyászat | D16: 0 | E16: 0 | G16: 0 | H16: 0 | J16: 0 | K16: 0
A17: Allergológia | D17: 0 | E17: 0 | G17: 0 | H17: 0 | J17: 0 | K17: 0
A18: Ideggyógyászat | D18: 8711 | E18: 8083 | F18: =E18/D18 -> 0.92790724 | G18: 39974 | H18: 41071 | I18: =H18/G18 -> 1.0274428 | J18: 8881167 | K18: 9006832 | L18: =K18/J18 -> 1.0141496
A19: Elmegyógyászat | D19: 1189 | E19: 1144 | F19: =E19/D19 -> 0.96215307 | G19: 2358 | H19: 2324 | I19: =H19/G19 -> 0.985581 | J19: 1432184 | K19: 1398671 | L19: =K19/J19 -> 0.97660007
A20: Ortopédia | D20: 7974 | E20: 7934 | F20: =E20/D20 -> 0.9949837 | G20: 28868 | H20: 29558 | I20: =H20/G20 -> 1.0239019 | J20: 10788649 | K20: 10887120 | L20: =K20/J20 -> 1.0091273
A21: Urológia | D21: 10300 | E21: 10508 | F21: =E21/D21 -> 1.0201942 | G21: 49844 | H21: 49423 | I21: =H21/G21 -> 0.99155365 | J21: 16019547 | K21: 15936309 | L21: =K21/J21 -> 0.99480397
A22: Radiológia | D22: 35974 | E22: 35394 | F22: =E22/D22 -> 0.98387724 | G22: 94954 | H22: 87012 | I22: =H22/G22 -> 0.9163595 | J22: 66987870 | K22: 62165494 | L22: =K22/J22 -> 0.92801121
A23: Reumatológia | D23: 16361 | E23: 14278 | F23: =E23/D23 -> 0.87268504 | G23: 178403 | H23: 152052 | I23: =H23/G23 -> 0.85229508 | J23: 25347218 | K23: 21875547 | L23: =K23/J23 -> 0.86303542
A24: ODM-Menopausa | D24: 4094 | E24: 4334 | F24: =E24/D24 -> 1.0586224 | G24: 6064 | H24: 6530 | I24: =H24/G24 -> 1.076847 | J24: 8156744 | K24: 9157822 | L24: =K24/J24 -> 1.1227301
A25: Fizikotherapia | D25: 37662 | E25: 37979 | F25: =E25/D25 -> 1.008417 | G25: 74955 | H25: 85240 | I25: =H25/G25 -> 1.1372157 | J25: 16723965 | K25: 19385332 | L25: =K25/J25 -> 1.1591349
A26: Gyógytorna | D26: 21205 | E26: 24989 | F26: =E26/D26 -> 1.1784485 | G26: 151785 | H26: 178250 | I26: =H26/G26 -> 1.1743585 | J26: 21599184 | K26: 25009405 | L26: =K26/J26 -> 1.1578866
A27: Fogászat (alapellátás) | E27: 0 | J27: 0 | K27: 0
A28: Fogászat (szakellátás)
E29: 0
A30: Összes szakrendelés | D30: =SUM(D4:D28)-D27-D28 -> 242322 | E30: =SUM(E4:E28)-E27-E28 -> 241998 | F30: =E30/D30 -> 0.99866294 | G30: =SUM(G4:G28)-G27-G28 -> 1071730 | H30: =SUM(H4:H28)-H27-H28 -> 1063144 | I30: =H30/G30 -> 0.99198865 | J30: =SUM(J4:J28)-J27-J28 -> 319863198 | K30: =SUM(K4:K28)-K27-K28 -> 320392639 | L30: =K30/J30 -> 1.0016552
A32: Összes labor | D32: 74165 | E32: 73130 | F32: =E32/D32 -> 0.98604463 | G32: 1353762 | H32: 1320865 | I32: =H32/G32 -> 0.97569957 | J32: 227180761 | K32: 223307921 | L32: =K32/J32 -> 0.98295261
A33: Összes fogászat | D33: =D27+D28 -> 0 | E33: =E27+E28 -> 0 | G33: =G27+G28 -> 0 | H33: =H27+H28 -> 0 | J33: =J27+J28 -> 0 | K33: =K27+K28 -> 0
A35: összesen: | D35: =SUM(D30:D33) -> 316487 | E35: =SUM(E30:E33) -> 315128 | F35: =E35/D35 -> 0.99570598 | G35: =SUM(G30:G33) -> 2425492 | H35: =SUM(H30:H33) -> 2384009 | I35: =H35/G35 -> 0.98289708 | J35: =SUM(J30:J33) -> 547043959 | K35: =SUM(K30:K33) -> 543700560 | L35: =K35/J35 -> 0.99388824

Sheet 1 (visegrádi)
A1: Munkahely | D1: Jelentett esetszám | G1: Jelentett beavatkozásszám | J1: Jelentett pontszám
D2: Összesen. | G2: Összesen: | J2: Összesen:
D3: 2015 | E3: 2016 | F3: trend | G3: 2015 | H3: 2016 | I3: trend | J3: 2015 | K3: 2016 | L3: trend
A4: Általános belgyógyászat | D4: 0 | E4: 0 | G4: 0 | H4: 0 | J4: 0 | K4: 0
A5: Belgyógyászat-Diabetológia | D5: 0 | E5: 0 | G5: 0 | H5: 0 | J5: 0 | K5: 0
A6: Gasztroenterológia | D6: 0 | E6: 0 | G6: 0 | H6: 0 | J6: 0 | K6: 0
A7: Kardiológia | D7: 0 | E7: 0 | G7: 0 | H7: 0 | J7: 0 | K7: 0
A8: Sebészet
A9: Traumatológia
A10: Proktológia | D10: 0 | E10: 0 | G10: 0 | H10: 0 | J10: 0 | K10: 0
A11: Aneszteziológia | D11: 0 | E11: 0 | G11: 0 | H11: 0 | J11: 0 | K11: 0
A12: Nőgyógyászat-terhesgond. | D12: 10622 | E12: 9696 | F12: =E12/D12 -> 0.91282244 | G12: 41298 | H12: 37907 | I12: =H12/G12 -> 0.91788949 | J12: 13644979 | K12: 12550910 | L12: =K12/J12 -> 0.91981893
A13: Fül-orr - gégészet | D13: 11554 | E13: 11330 | F13: =E13/D13 -> 0.98061277 | G13: 51887 | H13: 37628 | I13: =H13/G13 -> 0.72519128 | J13: 12091080 | K13: 10910158 | L13: =K13/J13 -> 0.90233114
A14: Audiológia | D14: 0 | E14: 0 | G14: 0 | H14: 0 | J14: 0 | K14: 0
A15: Szemészet | D15: 12033 | E15: 12278 | F15: =E15/D15 -> 1.0203607 | G15: 129926 | H15: 128316 | I15: =H15/G15 -> 0.98760833 | J15: 20993814 | K15: 20475506 | L15: =K15/J15 -> 0.97531139
A16: Bőrgyógyászat | D16: 15515 | E16: 13940 | F16: =E16/D16 -> 0.89848534 | G16: 73844 | H16: 67669 | I16: =H16/G16 -> 0.91637777 | J16: 19200017 | K16: 16309544 | L16: =K16/J16 -> 0.84945466
A17: Allergológia | D17: 1535 | E17: 1566 | F17: =E17/D17 -> 1.0201954 | G17: 20651 | H17: 19625 | I17: =H17/G17 -> 0.95031718 | J17: 6857179 | K17: 6523394 | L17: =K17/J17 -> 0.95132328
A18: Ideggyógyászat | D18: 7149 | E18: 7547 | F18: =E18/D18 -> 1.0556721 | G18: 48165 | H18: 52510 | I18: =H18/G18 -> 1.0902107 | J18: 11721897 | K18: 13515937 | L18: =K18/J18 -> 1.1530503
A19: Elmegyógyászat | D19: 1790 | E19: 1810 | F19: =E19/D19 -> 1.0111732 | G19: 5840 | H19: 5819 | I19: =H19/G19 -> 0.99640411 | J19: 2641237 | K19: 2732048 | L19: =K19/J19 -> 1.034382
A20: Ortopédia | D20: 0 | E20: 0 | G20: 0 | H20: 0 | J20: 0 | K20: 0
A21: Urológia | D21: 12159 | E21: 13318 | F21: =E21/D21 -> 1.0953203 | G21: 40989 | H21: 40255 | I21: =H21/G21 -> 0.98209276 | J21: 14241083 | K21: 14126231 | L21: =K21/J21 -> 0.99193516
A22: Radiológia | D22: 0 | E22: 0 | G22: 0 | H22: 0 | J22: 0 | K22: 0
A23: Reumatológia | D23: 17723 | E23: 16768 | F23: =E23/D23 -> 0.94611522 | G23: 152568 | H23: 140783 | I23: =H23/G23 -> 0.92275575 | J23: 27524453 | K23: 25641762 | L23: =K23/J23 -> 0.93159933
A24: ODM-Menopausa | D24: 0 | E24: 0 | G24: 0 | H24: 0 | J24: 0 | K24: 0
A25: Fizikotherapia | D25: 27475 | E25: 29096 | F25: =E25/D25 -> 1.0589991 | G25: 67037 | H25: 71550 | I25: =H25/G25 -> 1.067321 | J25: 14072360 | K25: 16143192 | L25: =K25/J25 -> 1.147156
A26: Gyógytorna | D26: 18117 | E26: 17609 | F26: =E26/D26 -> 0.97196004 | G26: 121238 | H26: 118654 | I26: =H26/G26 -> 0.97868655 | J26: 15812391 | K26: 15785728 | L26: =K26/J26 -> 0.99831379
A27: Fogászat (alapellátás) | D27: 158 | F27: =E27/D27 -> 0 | G27: 747 | I27: =H27/G27 -> 0 | J27: 195915 | L27: =K27/J27 -> 0
A28: Fogászat (szakellátás) | D28: 7080 | E28: 6954 | F28: =E28/D28 -> 0.98220339 | G28: 16850 | H28: 15129 | I28: =H28/G28 -> 0.8978635 | J28: 7323490 | K28: 6425150 | L28: =K28/J28 -> 0.87733444
A30: Összes szakrendelés | D30: =SUM(D4:D28)-D27-D28 -> 135672 | E30: =SUM(E4:E28)-E27-E28 -> 134958 | F30: =E30/D30 -> 0.99473731 | G30: =SUM(G4:G28)-G27-G28 -> 753443 | H30: =SUM(H4:H28)-H27-H28 -> 720716 | I30: =H30/G30 -> 0.9565634 | J30: =SUM(J4:J28)-J27-J28 -> 158800490 | K30: =SUM(K4:K28)-K27-K28 -> 154714410 | L30: =K30/J30 -> 0.9742691
A32: Összes labor
A33: Összes fogászat | D33: =D27+D28 -> 7238 | E33: =E27+E28 -> 6954 | F33: =E33/D33 -> 0.96076264 | G33: =G27+G28 -> 17597 | H33: =H27+H28 -> 15129 | I33: =H33/G33 -> 0.85974882 | J33: =J27+J28 -> 7519405 | K33: =K27+K28 -> 6425150 | L33: =K33/J33 -> 0.85447585
A35: összesen | D35: =SUM(D30:D33) -> 142910 | E35: =SUM(E30:E33) -> 141912 | F35: =E35/D35 -> 0.99301658 | G35: =SUM(G30:G33) -> 771040 | H35: =SUM(H30:H33) -> 735845 | I35: =H35/G35 -> 0.95435386 | J35: =SUM(J30:J33) -> 166319895 | K35: =SUM(K30:K33) -> 161139560 | L35: =K35/J35 -> 0.96885319

Sheet 2
B1: Esetszám | E1: Beavatkozások száma | H1: Pontszám | L1: eset | N1: beav | P1: pont
B2: 2016 terv | C2: 2016 tény | D2: % | E2: 2016 terv | F2: 2016 tény | G2: % | H2: 2016 terv | I2: 2016 tény | J2: % | L2: tény | M2: jel | N2: tény | O2: jel | P2: tény | Q2: jel
A3: Aneszteziológia | B3: 1025 | C3: =L3+M3 -> 1102 | D3: =C3/B3 -> 1.075122 | E3: 2050 | F3: =N3+O3 -> 2189 | G3: =F3/E3 -> 1.0678049 | H3: 1365300 | I3: =P3+Q3 -> 1449828 | J3: =I3/H3 -> 1.0619117 | L3: 1059 | M3: 43 | N3: 2105 | O3: 84 | P3: 1394052 | Q3: 55776
A4: Audiológia | B4: 1510 | C4: =L4+M4 -> 1687 | D4: =C4/B4 -> 1.1172185 | E4: 9895 | F4: =N4+O4 -> 12119 | G4: =F4/E4 -> 1.22476 | H4: 2950000 | I4: =P4+Q4 -> 2716647 | J4: =I4/H4 -> 0.92089729 | L4: 1581 | M4: 106 | N4: 11315 | O4: 804 | P4: 2527431 | Q4: 189216
A5: Általános belgyógyászat | B5: 2705 | C5: =L5+M5 -> 1808 | D5: =C5/B5 -> 0.66839187 | E5: 7330 | F5: =N5+O5 -> 4608 | G5: =F5/E5 -> 0.62864939 | H5: 2664000 | I5: =P5+Q5 -> 1835173 | J5: =I5/H5 -> 0.68887875 | L5: 1707 | M5: 101 | N5: 4384 | O5: 224 | P5: 1741731 | Q5: 93442
A6: Belgyógyászat-diabetológia | B6: 3560 | C6: =L6+M6 -> 3304 | D6: =C6/B6 -> 0.92808989 | E6: 10250 | F6: =N6+O6 -> 9175 | G6: =F6/E6 -> 0.89512195 | H6: 1580000 | I6: =P6+Q6 -> 1532649 | J6: =I6/H6 -> 0.97003101 | L6: 3081 | M6: 223 | N6: 8576 | O6: 599 | P6: 1430641 | Q6: 102008
A7: Fizikoterápia | B7: 41800 | C7: =L7+M7 -> 37966 | D7: =C7/B7 -> 0.90827751 | E7: 94000 | F7: =N7+O7 -> 85227 | G7: =F7/E7 -> 0.90667021 | H7: 18400000 | I7: =P7+Q7 -> 19366276 | J7: =I7/H7 -> 1.052515 | L7: 35721 | M7: 2245 | N7: 80087 | O7: 5140 | P7: 18199380 | Q7: 1166896
A8: Fül-orr-gége | B8: 10170 | C8: =L8+M8 -> 10547 | D8: =C8/B8 -> 1.0370698 | E8: 30030 | F8: =N8+O8 -> 36329 | G8: =F8/E8 -> 1.2097569 | H8: 9660000 | I8: =P8+Q8 -> 10015638 | J8: =I8/H8 -> 1.0368155 | L8: 9829 | M8: 718 | N8: 33931 | O8: 2398 | P8: 9339566 | Q8: 676072
A9: Gasztroenterológia | B9: 2760 | C9: =L9+M9 -> 3491 | D9: =C9/B9 -> 1.2648551 | E9: 5520 | F9: =N9+O9 -> 7529 | G9: =F9/E9 -> 1.3639493 | H9: 6360000 | I9: =P9+Q9 -> 9310433 | J9: =I9/H9 -> 1.4639046 | L9: 3252 | M9: 239 | N9: 7064 | O9: 465 | P9: 8557429 | Q9: 753004
A10: Gyógytorna | B10: 22000 | C10: =L10+M10 -> 24991 | D10: =C10/B10 -> 1.1359545 | E10: 157900 | F10: =N10+O10 -> 177874 | G10: =F10/E10 -> 1.1264978 | H10: 20880000 | I10: =P10+Q10 -> 24936665 | J10: =I10/H10 -> 1.1942847 | L10: 23376 | M10: 1615 | N10: 167112 | O10: 10762 | P10: 23426058 | Q10: 1510607
A11: Ideggyógyászat | B11: 9850 | C11: =L11+M11 -> 9227 | D11: =C11/B11 -> 0.93675127 | E11: 40200 | F11: =N11+O11 -> 43389 | G11: =F11/E11 -> 1.0793284 | H11: 13500000 | I11: =P11+Q11 -> 10359559 | J11: =I11/H11 -> 0.76737474 | L11: 8623 | M11: =518+86 -> 604 | N11: 40357 | O11: =2862+170 -> 3032 | P11: 9682917 | Q11: =579890+96752 -> 676642
A12: Kardiológia | B12: 12100 | C12: =L12+M12 -> 12384 | D12: =C12/B12 -> 1.0234711 | E12: 28500 | F12: =N12+O12 -> 32491 | G12: =F12/E12 -> 1.1400351 | H12: 23500000 | I12: =P12+Q12 -> 26376464 | J12: =I12/H12 -> 1.1224027 | L12: 11531 | M12: 853 | N12: 30169 | O12: 2322 | P12: 24438000 | Q12: 1938464
A13: ODM-Menopausa | B13: 4080 | C13: =L13+M13 -> 4332 | D13: =C13/B13 -> 1.0617647 | E13: 8040 | F13: =N13+O13 -> 6526 | G13: =F13/E13 -> 0.81169154 | H13: 14790000 | I13: =P13+Q13 -> 9120668 | J13: =I13/H13 -> 0.61667803 | L13: 4054 | M13: 278 | N13: 6103 | O13: 423 | P13: 8517810 | Q13: 602858
A14: Nőgyógyászat | B14: 12300 | C14: =L14+M14 -> 12274 | D14: =C14/B14 -> 0.99788618 | E14: 37600 | F14: =N14+O14 -> 45085 | G14: =F14/E14 -> 1.1990691 | H14: 15200000 | I14: =P14+Q14 -> 15252392 | J14: =I14/H14 -> 1.0034468 | L14: 11380 | M14: 894 | N14: 41782 | O14: 3303 | P14: 14146759 | Q14: 1105633
A15: Ortopédia | B15: 7150 | C15: =L15+M15 -> 7912 | D15: =C15/B15 -> 1.1065734 | E15: 29900 | F15: =N15+O15 -> 29440 | G15: =F15/E15 -> 0.98461538 | H15: 12500000 | I15: =P15+Q15 -> 10561652 | J15: =I15/H15 -> 0.84493216 | L15: 7410 | M15: 502 | N15: 27517 | O15: 1923 | P15: 9849362 | Q15: 712290
A16: Reuma | B16: 16900 | C16: =L16+M16 -> 14268 | D16: =C16/B16 -> 0.84426036 | E16: 165000 | F16: =N16+O16 -> 151932 | G16: =F16/E16 -> 0.9208 | H16: 25350000 | I16: =P16+Q16 -> 21734595 | J16: =I16/H16 -> 0.85738047 | L16: 13387 | M16: 881 | N16: 142515 | O16: 9417 | P16: 20389686 | Q16: 1344909
A17: Röntgen | B17: 26700 | C17: =L17+M17 -> 35298 | D17: =C17/B17 -> 1.3220225 | E17: 81200 | F17: =N17+O17 -> 86843 | G17: =F17/E17 -> 1.0694951 | H17: 57900000 | I17: =P17+Q17 -> 58856843 | J17: =I17/H17 -> 1.0165258 | L17: 32928 | M17: 2370 | N17: 81102 | O17: 5741 | P17: 54654368 | Q17: 4202475
A18: Sebészet | B18: 27000 | C18: =L18+M18 -> 24744 | D18: =C18/B18 -> 0.91644444 | E18: 135000 | F18: =N18+O18 -> 112578 | G18: =F18/E18 -> 0.83391111 | H18: 44500000 | I18: =P18+Q18 -> 37204190 | J18: =I18/H18 -> 0.83604921 | L18: 22989 | M18: =131+1624 -> 1755 | N18: 105000 | O18: =635+6943 -> 7578 | P18: 34669088 | Q18: =194642+2340460 -> 2535102
A19: Traumatológia | B19: 13680 | C19: =L19+M19 -> 13008 | D19: =C19/B19 -> 0.95087719 | E19: 60480 | F19: =N19+O19 -> 52273 | G19: =F19/E19 -> 0.86430225 | H19: 20016000 | I19: =P19+Q19 -> 17844392 | J19: =I19/H19 -> 0.89150639 | L19: 12148 | M19: 860 | N19: 49422 | O19: 2851 | P19: 16763324 | Q19: 1081068
A20: Szemészet | B20: 13250 | C20: =L20+M20 -> 12781 | D20: =C20/B20 -> 0.96460377 | E20: 123225 | F20: =N20+O20 -> 116485 | G20: =F20/E20 -> 0.94530331 | H20: 22923000 | I20: =P20+Q20 -> 20513179 | J20: =I20/H20 -> 0.89487323 | L20: 11901 | M20: 880 | N20: 108339 | O20: 8146 | P20: 19040477 | Q20: 1472702
A21: Urológia | B21: 10800 | C21: =L21+M21 -> 10499 | D21: =C21/B21 -> 0.97212963 | E21: 48200 | F21: =N21+O21 -> 49383 | G21: =F21/E21 -> 1.0245436 | H21: 16700000 | I21: =P21+Q21 -> 15739006 | J21: =I21/H21 -> 0.94245545 | L21: 9685 | M21: 814 | N21: 45577 | O21: 3806 | P21: 14490500 | Q21: 1248506
A22: Szegedi út összesen | B22: =SUM(B3:B21) -> 239340 | C22: =SUM(C3:C21) -> 241623 | D22: =C22/B22 -> 1.0095387 | E22: =SUM(E3:E21) -> 1074320 | F22: =SUM(F3:F21) -> 1061475 | G22: =F22/E22 -> 0.9880436 | H22: =SUM(H3:H21) -> 330738300 | I22: =SUM(I3:I21) -> 314726249 | J22: =I22/H22 -> 0.95158695 | L22: =SUM(L3:L21) -> 225642 | M22: =SUM(M3:M21) -> 15981 | N22: =SUM(N3:N21) -> 992457 | O22: =SUM(O3:O21) -> 69018 | P22: =SUM(P3:P21) -> 293258579 | Q22: =SUM(Q3:Q21) -> 21467670
A24: Allergológia | B24: 1465 | C24: =L24+M24 -> 1563 | D24: =C24/B24 -> 1.0668942 | E24: 17350 | F24: =N24+O24 -> 19589 | G24: =F24/E24 -> 1.129049 | H24: 6380000 | I24: =P24+Q24 -> 6479354 | J24: =I24/H24 -> 1.0155727 | L24: 1487 | M24: 76 | N24: 18564 | O24: 1025 | P24: 6145744 | Q24: 333610
A25: Bőrgyógyászat | B25: 14800 | C25: =L25+M25 -> 13927 | D25: =C25/B25 -> 0.94101351 | E25: 51490 | F25: =N25+O25 -> 67608 | G25: =F25/E25 -> 1.3130317 | H25: 19900000 | I25: =P25+Q25 -> 16027394 | J25: =I25/H25 -> 0.80539668 | L25: 13197 | M25: 730 | N25: 64004 | O25: 3604 | P25: 15192687 | Q25: 834707
A26: Fizikoterápia | B26: 23600 | C26: =L26+M26 -> 29096 | D26: =C26/B26 -> 1.2328814 | E26: 79600 | F26: =N26+O26 -> 71549 | G26: =F26/E26 -> 0.89885678 | H26: 21100000 | I26: =P26+Q26 -> 16138028 | J26: =I26/H26 -> 0.76483545 | L26: 27466 | M26: 1630 | N26: 67476 | O26: 4073 | P26: 15238353 | Q26: 899675
A27: Fül-orr-gége | B27: 10170 | C27: =L27+M27 -> 11321 | D27: =C27/B27 -> 1.113176 | E27: 30030 | F27: =N27+O27 -> 37598 | G27: =F27/E27 -> 1.2520147 | H27: 9660000 | I27: =P27+Q27 -> 10873192 | J27: =I27/H27 -> 1.1255892 | L27: 10506 | M27: 815 | N27: 34820 | O27: 2778 | P27: 10043498 | Q27: 829694
A28: Gyógytorna | B28: 20800 | C28: =L28+M28 -> 17610 | D28: =C28/B28 -> 0.84663462 | E28: 135000 | F28: =N28+O28 -> 118650 | G28: =F28/E28 -> 0.87888889 | H28: 19200000 | I28: =P28+Q28 -> 15783482 | J28: =I28/H28 -> 0.82205635 | L28: 16359 | M28: 1251 | N28: 109299 | O28: 9351 | P28: 14434979 | Q28: 1348503
A29: Ideggyógyászat | B29: 9100 | C29: =L29+M29 -> 9353 | D29: =C29/B29 -> 1.0278022 | E29: 45500 | F29: =N29+O29 -> 58299 | G29: =F29/E29 -> 1.2812967 | H29: 12700000 | I29: =P29+Q29 -> 16212888 | J29: =I29/H29 -> 1.2766054 | L29: 8729 | M29: =471+153 -> 624 | N29: 54487 | O29: =3301+511 -> 3812 | P29: 15130772 | Q29: =842395+239721 -> 1082116
A30: Nőgyógyászat | B30: 11550 | C30: =L30+M30 -> 9684 | D30: =C30/B30 -> 0.83844156 | E30: 41000 | F30: =N30+O30 -> 37847 | G30: =F30/E30 -> 0.92309756 | H30: 15150000 | I30: =P30+Q30 -> 12466638 | J30: =I30/H30 -> 0.8228804 | L30: 8942 | M30: 742 | N30: 34987 | O30: 2860 | P30: 11560304 | Q30: 906334
A31: Reuma | B31: 18450 | C31: =L31+M31 -> 16767 | D31: =C31/B31 -> 0.90878049 | E31: 156700 | F31: =N31+O31 -> 140723 | G31: =F31/E31 -> 0.89804084 | H31: 28450000 | I31: =P31+Q31 -> 25626854 | J31: =I31/H31 -> 0.90076815 | L31: 15558 | M31: 1209 | N31: 129995 | O31: 10728 | P31: 23652903 | Q31: 1973951
A32: Szemészet | B32: 12550 | C32: =L32+M32 -> 12262 | D32: =C32/B32 -> 0.97705179 | E32: 125500 | F32: =N32+O32 -> 128182 | G32: =F32/E32 -> 1.0213705 | H32: 22214000 | I32: =P32+Q32 -> 20339852 | J32: =I32/H32 -> 0.91563212 | L32: 11406 | M32: 856 | N32: 119156 | O32: 9026 | P32: 18914210 | Q32: 1425642
A33: Urológia | B33: 12100 | C33: =L33+M33 -> 13309 | D33: =C33/B33 -> 1.0999174 | E33: 42700 | F33: =N33+O33 -> 40218 | G33: =F33/E33 -> 0.94187354 | H33: 16000000 | I33: =P33+Q33 -> 14066413 | J33: =I33/H33 -> 0.87915081 | L33: 12297 | M33: 1012 | N33: 36995 | O33: 3223 | P33: 13002261 | Q33: 1064152
A34: Visegrádi u. összesen | B34: =SUM(B24:B33) -> 134585 | C34: =SUM(C24:C33) -> 134892 | D34: =C34/B34 -> 1.0022811 | E34: =SUM(E24:E33) -> 724870 | F34: =SUM(F24:F33) -> 720263 | G34: =F34/E34 -> 0.99364438 | H34: =SUM(H24:H33) -> 170754000 | I34: =SUM(I24:I33) -> 154014095 | J34: =I34/H34 -> 0.90196479 | L34: =SUM(L24:L33) -> 125947 | M34: =SUM(M24:M33) -> 8945 | N34: =SUM(N24:N33) -> 669783 | O34: =SUM(O24:O33) -> 50480 | P34: =SUM(P24:P33) -> 143315711 | Q34: =SUM(Q24:Q33) -> 10698384
A36: Járóbeteg összesen | B36: =SUM(B22,B34) -> 373925 | C36: =SUM(C34,C22) -> 376515 | D36: =C36/B36 -> 1.0069265 | E36: =SUM(E22,E34) -> 1799190 | F36: =SUM(F34,F22) -> 1781738 | G36: =F36/E36 -> 0.99030008 | H36: =SUM(H22,H34) -> 501492300 | I36: =SUM(I34,I22) -> 468740344 | J36: =I36/H36 -> 0.93469101 | L36: =SUM(L34,L22) -> 351589 | M36: =SUM(M34,M22) -> 24926 | N36: =SUM(N34,N22) -> 1662240 | O36: =SUM(O34,O22) -> 119498 | P36: =SUM(P34,P22) -> 436574290 | Q36: =SUM(Q34,Q22) -> 32166054
A38: Labor | B38: 75000 | C38: =L38+M38 -> 72541 | D38: =C38/B38 -> 0.96721333 | E38: 1170000 | F38: =N38+O38 -> 1308692 | G38: =F38/E38 -> 1.1185402 | H38: 215000000 | I38: =P38+Q38 -> 220917677 | J38: =I38/H38 -> 1.0275241 | L38: 67371 | M38: 5170 | N38: 1220145 | O38: 88547 | P38: 205833556 | Q38: 15084121
A40: Fogászat | B40: 6710 | C40: =L40+M40 -> 6940 | D40: =C40/B40 -> 1.0342772 | E40: 16450 | F40: =N40+O40 -> 15084 | G40: =F40/E40 -> 0.91696049 | H40: 7930000 | I40: =P40+Q40 -> 6414430 | J40: =I40/H40 -> 0.80888146 | L40: 6555 | M40: 385 | N40: 14212 | O40: 872 | P40: 5924230 | Q40: 490200
A42: December hónapban a jelentett teljesítmény szerepel | L42: =SUM(L36,L38,L40) -> 425515 | M42: =SUM(M36,M38,M40) -> 30481 | N42: =SUM(N36,N38,N40) -> 2896597 | O42: =SUM(O36,O38,O40) -> 208917 | P42: =SUM(P36,P38,P40) -> 648332076 | Q42: =SUM(Q36,Q38,Q40) -> 47740375

Sheet 3
A1: Hónap | B1: Elvégzett műtétek száma szakmai bontásban | N1: Jelentett HBCS súly | P1: Műtétek száma
B2: sebészet | D2: ortopédia | F2: szemészet | H2: urológia | J2: nőgyógyászat | L2: fül-orr-gége
B3: 2015 | C3: 2016 | D3: 2015 | E3: 2016 | F3: 2015 | G3: 2016 | H3: 2015 | I3: 2016 | J3: 2015 | K3: 2016 | L3: 2015 | M3: 2016 | N3: 2015 | O3: 2016 | P3: 2015 | Q3: 2016
A4: Január | B4: 19 | C4: =7+1+2+5+4+2+7+3 -> 31 | D4: 23 | E4: =7+2+3+2 -> 14 | F4: 29 | G4: =11+20+1 -> 32 | H4: 10 | I4: =2+3 -> 5 | J4: 8 | K4: =4+2 -> 6 | L4: 1 | M4: =3 -> 3 | N4: 45.58786 | O4: =47.33702+0.53028 -> 47.8673 | P4: =SUM(B4,D4,F4,H4,J4,L4) -> 90 | Q4: =SUM(C4,E4,G4,I4,K4,M4) -> 91
A5: Február | B5: 23 | C5: =4+1+2+3+2+2+1+1+2 -> 18 | D5: 26 | E5: =7+1+5+3+1 -> 17 | F5: 24 | G5: =9+36+3 -> 48 | H5: 7 | I5: =1+1+1 -> 3 | J5: 11 | K5: =6+7+4+1 -> 18 | L5: 3 | M5: =1+1 -> 2 | N5: 48.35071 | O5: =53.36523+1.51261 -> 54.87784 | P5: =SUM(B5,D5,F5,H5,J5,L5) -> 94 | Q5: =SUM(C5,E5,G5,I5,K5,M5) -> 106
A6: Március | B6: 27 | C6: =8+2+1+4+5+1+2+1+3+1+1+1+1 -> 31 | D6: 29 | E6: =6+8+3+3+1+2+3+2 -> 28 | F6: 29 | G6: =1+22 -> 23 | H6: 6 | I6: =3+1+2 -> 6 | J6: 16 | K6: =2+1+4+2+1 -> 10 | L6: 1 | M6: =1+2 -> 3 | N6: 52.7316 | O6: =40.2824+11.78998 -> 52.07238 | P6: =SUM(B6,D6,F6,H6,J6,L6) -> 108 | Q6: =SUM(C6,E6,G6,I6,K6,M6) -> 101
A7: Április | B7: 25 | C7: =2+2+2+1+5+3+3+3+1 -> 22 | D7: 28 | E7: =6+8+4+2+1+1 -> 22 | F7: 29 | G7: =14+21+1 -> 36 | H7: 7 | I7: =2+1+2+2 -> 7 | J7: 17 | K7: =4+1+4+2+3 -> 14 | L7: 3 | M7: =1 -> 1 | N7: 52.77343 | O7: =51.82707+0.89565 -> 52.72272 | P7: =SUM(B7,D7,F7,H7,J7,L7) -> 109 | Q7: =SUM(C7,E7,G7,I7,K7,M7) -> 102
A8: Május | B8: 30 | C8: =3+3+3+5+1+1+1+2+1+2+1 -> 23 | D8: 23 | E8: =2+5+6+5+1+3+1+1+2 -> 26 | F8: 27 | G8: =8+29+1+1 -> 39 | H8: 6 | I8: =2+3+1 -> 6 | J8: 10 | K8: =2+1+3+2+1 -> 9 | L8: 1 | M8: =2 -> 2 | N8: 51.35147 | O8: =53.87122+3.26892 -> 57.14014 | P8: =SUM(B8,D8,F8,H8,J8,L8) -> 97 | Q8: =SUM(C8,E8,G8,I8,K8,M8) -> 105
A9: Június | B9: 19 | C9: =1+1+1+3+3+2+1+2+2+2 -> 18 | D9: 25 | E9: =1+4+1+10+3+2+4+1+2+1 -> 29 | F9: 35 | G9: =5+19+1 -> 25 | H9: 3 | I9: =1+2+2+1 -> 6 | J9: 15 | K9: =5+1+7+3+4+2 -> 22 | L9: 2 | N9: 49.304 | O9: =49.53403 -> 49.53403 | P9: =SUM(B9,D9,F9,H9,J9,L9) -> 99 | Q9: =SUM(C9,E9,G9,I9,K9,M9) -> 100
A10: Július | B10: 20 | C10: =2+1+4+1+1+1+1+2+1 -> 14 | D10: 23 | E10: =2+7+6+5+1+2+1+2 -> 26 | F10: 30 | G10: =6+21+1 -> 28 | H10: 5 | I10: =1+1+2+1+2 -> 7 | J10: 11 | K10: =1+9+4+2+1+2 -> 19 | M10: =1 -> 1 | N10: 47.97632 | O10: 47.43409 | P10: =SUM(B10,D10,F10,H10,J10,L10) -> 89 | Q10: =SUM(C10,E10,G10,I10,K10,M10) -> 95
A11: Augusztus | B11: 9 | C11: =1+2+1 -> 4 | D11: 26 | E11: =9+3+2+2 -> 16 | F11: 17 | G11: =4+20 -> 24 | H11: 4 | I11: =1 -> 1 | J11: 3 | K11: =6+5+4 -> 15 | N11: 35.5592 | O11: 34.93205 | P11: =SUM(B11,D11,F11,H11,J11,L11) -> 59 | Q11: =SUM(C11,E11,G11,I11,K11,M11) -> 60
A12: Szeptember | B12: 25 | C12: =3+3+1+4+1+3+1+2+5+1+1 -> 25 | D12: 37 | E12: =1+12+11+5+1+4+1 -> 35 | F12: 21 | G12: =6+19+1 -> 26 | H12: 8 | I12: =1+3+1+3 -> 8 | J12: 19 | K12: =3+4+2+1+8+1 -> 19 | L12: 3 | M12: =3 -> 3 | N12: 57.00788 | O12: 60.11179 | P12: =SUM(B12,D12,F12,H12,J12,L12) -> 113 | Q12: =SUM(C12,E12,G12,I12,K12,M12) -> 116
A13: Október | B13: 41 | C13: =5+1+8+5+3+2+5 -> 29 | D13: 30 | E13: =11+15+2+2+5+2 -> 37 | F13: 30 | G13: =12+21 -> 33 | H13: 5 | I13: =1+3+2+2 -> 8 | J13: 14 | K13: =9+4+3+3+13+1+1 -> 34 | L13: 4 | M13: =1 -> 1 | N13: 62.30145 | O13: 70.65325 | P13: =SUM(B13,D13,F13,H13,J13,L13) -> 124 | Q13: =SUM(C13,E13,G13,I13,K13,M13) -> 142
A14: November | B14: 32 | C14: =4+2+2+5+1+2+2+8+3+3 -> 32 | D14: 26 | E14: =4+4+5+2+2+5 -> 22 | F14: 29 | G14: =9+22+1+1 -> 33 | H14: 5 | I14: =1+7+2+1 -> 11 | J14: 15 | K14: =1+9+3+6 -> 19 | L14: 3 | M14: =2+1+1 -> 4 | N14: 54.53269 | O14: =66.41192 -> 66.41192 | P14: =SUM(B14,D14,F14,H14,J14,L14) -> 110 | Q14: =SUM(C14,E14,G14,I14,K14,M14) -> 121
A15: December | B15: 16 | C15: =4+1+4+2+2+3+1 -> 17 | D15: 17 | E15: =6+11+1+2 -> 20 | F15: 24 | G15: =4+18 -> 22 | H15: 7 | I15: =1+5+1 -> 7 | J15: 12 | K15: =6+2 -> 8 | L15: 1 | N15: 40.56431 | O15: 43.50109 | P15: =SUM(B15,D15,F15,H15,J15,L15) -> 77 | Q15: =SUM(C15,E15,G15,I15,K15,M15) -> 74
A16: összesen | B16: =SUM(B4:B15) -> 286 | C16: =SUM(C4:C15) -> 264 | D16: =SUM(D4:D15) -> 313 | E16: =SUM(E4:E15) -> 292 | F16: =SUM(F4:F15) -> 324 | G16: =SUM(G4:G15) -> 369 | H16: =SUM(H4:H15) -> 73 | I16: =SUM(I4:I15) -> 75 | ... Q16: =SUM(Q4:Q15) -> 1213

Sheet 4
B1: 2016-ban jelenthető pontok | C1: 2016-ban jelentett pontok | F1: 2016-ban elfogadott pontok | G1: eltérés a jelentett és jelenthető pontok között
C2: tárgyhavi | D2: hibajavítás | E2: összesen | G2: tárgyhavi | H2: halmozott
A3: november | B3: 43953446 | C3: 43713178 | D3: 21440 | E3: =SUM(C3:D3) -> 43734618 | F3: 43734469 | G3: =E3-B3 -> -218828 | H3: =G3 -> -218828
A4: december | B4: 35961910 | C4: 34406179 | D4: 9215 | E4: =SUM(C4:D4) -> 34415394 | F4: 34503755 | G4: =E4-B4 -> -1546516 | H4: =G4+H3 -> -1765344
A5: január | B5: 37957678 | C5: 39573961 | D5: 10143 | E5: =SUM(C5:D5) -> 39584104 | F5: 39837172 | G5: =E5-B5 -> 1626426 | H5: =G5+H4 -> -138918
A6: február | B6: 41955562 | C6: 42768303 | D6: 17145 | E6: =SUM(C6:D6) -> 42785448 | F6: 42874213 | G6: =E6-B6 -> 829886 | H6: =G6+H5 -> 690968
A7: március | B7: 41955562 | C7: 39836536 | D7: 23223 | E7: =SUM(C7:D7) -> 39859759 | F7: 39966535 | G7: =E7-B7 -> -2095803 | H7: =G7+H6 -> -1404835
A8: április | B8: 41955562 | C8: 44031264 | D8: 9200 | E8: =SUM(C8:D8) -> 44040464 | F8: 44184063 | G8: =E8-B8 -> 2084902 | H8: =G8+H7 -> 680067
A9: május | B9: 41955562 | C9: 43279621 | D9: 4285 | E9: =SUM(C9:D9) -> 43283906 | F9: 43491765 | G9: =E9-B9 -> 1328344 | H9: =G9+H8 -> 2008411
A10: június | B10: 42955562 | C10: 42056333 | D10: 878 | E10: =SUM(C10:D10) -> 42057211 | F10: 42176871 | G10: =E10-B10 -> -898351 | H10: =G10+H9 -> 1110060
A11: július | B11: 32966142 | C11: 29066022 | D11: 26023 | E11: =SUM(C11:D11) -> 29092045 | F11: 29302364 | G11: =E11-B11 -> -3874097 | H11: =G11+H10 -> -2764037
A12: augusztus | B12: 29302297 | C12: 37291346 | D12: 14589 | E12: =SUM(C12:D12) -> 37305935 | F12: =37572418+17665 -> 37590083 | G12: =E12-B12 -> 8003638 | H12: =G12+H11 -> 5239601
A13: szeptember | B13: 40290659 | C13: 40929677 | D13: 21555 | E13: =SUM(C13:D13) -> 40951232 | F13: 40925288 | G13: =E13-B13 -> 660573 | H13: =G13+H12 -> 5900174
A14: október | B14: 38459265 | C14: 39928450 | D14: 6434 | E14: =SUM(C14:D14) -> 39934884 | F14: 39688268 | G14: =E14-B14 -> 1475619 | H14: =G14+H13 -> 7375793
A15: november | B15: 40627871 | C15: 44179482 | D15: 4995 | E15: =SUM(C15:D15) -> 44184477 | F15: 43502423 | G15: =E15-B15 -> 3556606 | H15: =G15+H14 -> 10932399
A16: december | B16: 32627871 | C16: 32166054 | D16: 24613 | E16: =SUM(C16:D16) -> 32190667 | F16: 31644219 | G16: =E16-B16 -> -437204 | H16: =G16+H15 -> 10495195
A17: összesen | B17: =SUM(B3:B16) -> 542924949 | C17: =SUM(C3:C16) -> 553226406 | D17: =SUM(D3:D16) -> 193738 | E17: =SUM(E3:E16) -> 553420144 | F17: =SUM(F3:F16) -> 553421488 | G17: =SUM(G3:G16) -> 10495195

Sheet 5
A1: Megnevezés | C1: 2015. év | F1: 2016 évi terv (adatok e Ft-ban) | I1: 2016. év | L1: 2016. év aránya a tervhez képest
C2: OEP | D2: Saját | E2: Össz. | F2: OEP | G2: Saját | H2: Össz. | I2: OEP | J2: Saját | K2: Össz. | L2: OEP | M2: Saját | N2: Össz.
A3: 1 | B3: Betegellátás bevételei összesen | C3: =SUM(C4:C18) -> 1460847 | D3: =SUM(D4:D18) -> 30094 | E3: =SUM(C3:D3) -> 1490941 | F3: =SUM(F4:F18) -> 1486500 | G3: =SUM(G4:G18) -> 41500 | H3: =SUM(F3:G3) -> 1528000 | I3: =SUM(I4:I18) -> 1559343 | J3: =SUM(J4:J18) -> 38987 | K3: =SUM(I3:J3) -> 1598330 | L3: =I3/F3 -> 1.049003 | M3: =J3/G3 -> 0.93944578 | N3: =K3/H3 -> 1.0460275
B4: - Járóbetegellátás | C4: 724262 | D4: 5037 | E4: =SUM(C4:D4) -> 729299 | F4: 745000 | G4: 8000 | H4: =SUM(F4:G4) -> 753000 | I4: 761420 | J4: 5234 | K4: =SUM(I4:J4) -> 766654 | L4: =I4/F4 -> 1.0220403 | M4: =J4/G4 -> 0.65425 | N4: =K4/H4 -> 1.0181328
B5: - Egynapos sebészet | C5: 87085 | D5: 1151 | E5: =SUM(C5:D5) -> 88236 | F5: 90000 | G5: 1500 | H5: =SUM(F5:G5) -> 91500 | I5: 100766 | J5: 1720 | K5: =SUM(I5:J5) -> 102486 | L5: =I5/F5 -> 1.1196222 | M5: =J5/G5 -> 1.1466667 | N5: =K5/H5 -> 1.1200656
B6: - Sportorvos | D6: 25 | E6: =SUM(C6:D6) -> 25 | H6: =SUM(F6:G6) -> 0 | J6: 43 | K6: =SUM(I6:J6) -> 43
B7: - Labor | C7: 151303 | D7: 528 | E7: =SUM(C7:D7) -> 151831 | F7: 158000 | G7: 2000 | H7: =SUM(F7:G7) -> 160000 | I7: 157626 | J7: 509 | K7: =SUM(I7:J7) -> 158135 | L7: =I7/F7 -> 0.99763291 | M7: =J7/G7 -> 0.2545 | N7: =K7/H7 -> 0.98834375
B8: - Ügyeleti ellátás | C8: 71586 | E8: =SUM(C8:D8) -> 71586 | F8: 70000 | H8: =SUM(F8:G8) -> 70000 | I8: 71579 | K8: =SUM(I8:J8) -> 71579 | L8: =I8/F8 -> 1.0225571 | N8: =K8/H8 -> 1.0225571
B9: - Fogászat | C9: 18056 | D9: 3 | E9: =SUM(C9:D9) -> 18059 | F9: 19000 | H9: =SUM(F9:G9) -> 19000 | I9: 16819 | K9: =SUM(I9:J9) -> 16819 | L9: =I9/F9 -> 0.88521053 | N9: =K9/H9 -> 0.88521053
B10: -Fogászat (privatizált) | C10: 5223 | E10: =SUM(C10:D10) -> 5223 | F10: 5500 | H10: =SUM(F10:G10) -> 5500 | I10: 5734 | K10: =SUM(I10:J10) -> 5734 | L10: =I10/F10 -> 1.0425455 | N10: =K10/H10 -> 1.0425455
B11: - Házi szakorvos | C11: 4590 | I11: 7214 | K11: =SUM(I11:J11) -> 7214
B12: - Házi szakápolás | C12: 9129 | E12: =SUM(C12:D12) -> 9129 | F12: 10000 | H12: =SUM(F12:G12) -> 10000 | I12: 7087 | K12: =SUM(I12:J12) -> 7087 | L12: =I12/F12 -> 0.7087 | N12: =K12/H12 -> 0.7087
B13: - Védőnők | C13: 195897 | E13: =SUM(C13:D13) -> 195897 | F13: 193000 | H13: =SUM(F13:G13) -> 193000 | I13: 220334 | K13: =SUM(I13:J13) -> 220334 | L13: =I13/F13 -> 1.1416269 | N13: =K13/H13 -> 1.1416269
B14: - Iskola, ifjúsági egészségügy | C14: 36787 | E14: =SUM(C14:D14) -> 36787 | F14: 36000 | H14: =SUM(F14:G14) -> 36000 | I14: 38671 | K14: =SUM(I14:J14) -> 38671 | L14: =I14/F14 -> 1.0741944 | N14: =K14/H14 -> 1.0741944
B15: - Foglalkozás-egészségügy | D15: 15762 | E15: =SUM(C15:D15) -> 15762 | G15: 19000 | H15: =SUM(F15:G15) -> 19000 | J15: 17600 | K15: =SUM(I15:J15) -> 17600 | M15: =J15/G15 -> 0.92631579 | N15: =K15/H15 -> 0.92631579
B16: - Menedzser szűrés (szűrővizsgálat) | D16: 7588 | E16: =SUM(C16:D16) -> 7588 | G16: 11000 | H16: =SUM(F16:G16) -> 11000 | J16: 13881 | K16: =SUM(I16:J16) -> 13881 | M16: =J16/G16 -> 1.2619091 | N16: =K16/H16 -> 1.2619091
B17: Jogviszony ellenőrzés | C17: 20228 | E17: =SUM(C17:D17) -> 20228 | F17: 20000 | H17: =SUM(F17:G17) -> 20000 | I17: 20308 | K17: =SUM(I17:J17) -> 20308 | L17: =I17/F17 -> 1.0154 | N17: =K17/H17 -> 1.0154
B18: OEP bértámogatás, EÜ dolg. bérkiegészítés | C18: 136701 | E18: =SUM(C18:D18) -> 136701 | F18: 140000 | H18: =SUM(F18:G18) -> 140000 | I18: 151785 | K18: =SUM(I18:J18) -> 151785 | N18: =K18/H18 -> 1.0841786
A19: 3 | B19: Bérleti díjak bevételei | D19: 102889 | E19: =SUM(C19:D19) -> 102889 | G19: =50115-15977 -> 34138 | H19: =SUM(F19:G19) -> 34138 | J19: 30527 | K19: =SUM(I19:J19) -> 30527 | M19: =J19/G19 -> 0.89422345 | N19: =K19/H19 -> 0.89422345
A20: 4 | B20: Háziorvos praxisüzemeltetés | E20: =SUM(C20:D20) -> 0 | G20: 60885 | H20: =SUM(F20:G20) -> 60885 | J20: 60821 | K20: =SUM(I20:J20) -> 60821 | M20: =J20/G20 -> 0.99894884 | N20: =K20/H20 -> 0.99894884
A21: 5 | B21: Fogorvosi bérleti díj; praxisüzemeltetés | E21: =SUM(C21:D21) -> 0 | G21: 15977 | H21: =SUM(F21:G21) -> 15977 | J21: 15392 | K21: =SUM(I21:J21) -> 15392 | M21: =J21/G21 -> 0.96338487 | N21: =K21/H21 -> 0.96338487
A22: 6 | B22: Továbbszámlázott szolgáltatások bevételei | D22: 12821 | E22: =SUM(C22:D22) -> 12821 | G22: 13000 | H22: =SUM(F22:G22) -> 13000 | J22: 12417 | K22: =SUM(I22:J22) -> 12417 | M22: =J22/G22 -> 0.95515385 | N22: =K22/H22 -> 0.95515385
A23: 7 | B23: Egyéb bevételek (pl. pályázat, stb.) | D23: 4726 | E23: =SUM(C23:D23) -> 4726 | G23: 1000 | H23: =SUM(F23:G23) -> 1000 | J23: 1548 | K23: =SUM(I23:J23) -> 1548 | M23: =J23/G23 -> 1.548 | N23: =K23/H23 -> 1.548
A24: 8 | B24: Saját bevételek összesen | C24: =SUM(C4:C18) -> 1460847 | D24: =SUM(D4:D23) -> 150530 | E24: =SUM(C24:D24) -> 1611377 | F24: =SUM(F4:F18) -> 1486500 | G24: =SUM(G4:G23) -> 166500 | H24: =SUM(F24:G24) -> 1653000 | I24: =SUM(I3,I19:I23) -> 1559343 | J24: =SUM(J3,J19:J23) -> 159692 | K24: =SUM(I24:J24) -> 1719035 | L24: =I24/F24 -> 1.049003 | M24: =J24/G24 -> 0.95911111 | N24: =K24/H24 -> 1.0399486
A25: 9 | B25: Önkormányzati támogatás | E25: 164000 | H25: 140000 | K25: 158556 | N25: =K25/H25 -> 1.1325429
A26: 10 | B26: Pénzforgalom nélküli egyéb bevétel | E26: 92549 | H26: 90000 | K26: 97117 | N26: =K26/H26 -> 1.0790778
A27: 11 | B27: Összes bevétel | C27: =SUM(C24:C26) -> 1460847 | D27: =SUM(D24:D26) -> 150530 | E27: =SUM(E24:E26) -> 1867926 | F27: =SUM(F24:F26) -> 1486500 | G27: =SUM(G24:G26) -> 166500 | H27: =SUM(H24:H26) -> 1883000 | I27: =SUM(I24:I26) -> 1559343 | J27: =SUM(J24:J26) -> 159692 | K27: =SUM(K24:K26) -> 1974708 | L27: =I27/F27 -> 1.049003 | M27: =J27/G27 -> 0.95911111 | N27: =K27/H27 -> 1.0487031

Sheet 6 (állományi)
A1: Szakfeladat | B1: Teljes munkaidő | J1: Részmunkaidő
B2: orvos | D2: felsőfokú végzettségű | F2: szakdolgozó | H2: egyéb | J2: orvos | L2: felsőfokú végzettségű | N2: szakdolgozó | P2: egyéb
B3: 2016 terv | C3: 2016 tény | D3: =B3 -> 2016 terv | E3: =C3 -> 2016 tény | F3: =D3 -> 2016 terv | G3: =E3 -> 2016 tény | H3: =F3 -> 2016 terv | I3: =G3 -> 2016 tény | J3: =H3 -> 2016 terv | K3: =I3 -> 2016 tény | ... Q3: =O3 -> 2016 tény
A4: Igazgatás | D4: 8 | E4: 8 | H4: 9 | I4: 8 | P4: 1.25 | Q4: 2
A5: Otthoni szakápolás | D5: 1 | E5: 1.67 | H5: 1 | I5: 1
A6: Járóbeteg | B6: 37 | C6: 35 | D6: 12 | E6: 11.46 | F6: 96 | G6: 104.21 | H6: 21 | I6: 23 | J6: 15.97 | K6: 22.43 | L6: 0.58 | M6: 0.2 | N6: 12.12 | O6: 10.65 | P6: 2.25 | Q6: 2.25
A7: Egynapos sebészet | B7: 2 | C7: 2 | D7: 1 | E7: 1 | F7: 6 | G7: 6 | H7: 2 | I7: 1.92 | J7: 0.4 | K7: 0.4
A8: Fogászat (szakellátás) | B8: 1 | C8: 1 | F8: 2 | G8: 2
A9: Védőnői szolgálat | D9: 46 | E9: 45
A10: Iskola-egészségügy | B10: 5 | C10: 4
A11: Összesen | B11: =SUM(B4:B10) -> 45 | C11: =SUM(C4:C10) -> 42 | D11: =SUM(D4:D10) -> 68 | E11: =SUM(E4:E10) -> 67.13 | F11: =SUM(F4:F10) -> 104 | G11: =SUM(G4:G10) -> 112.21 | H11: =SUM(H4:H10) -> 33 | I11: =SUM(I4:I10) -> 33.92 | ... Q11: =SUM(Q4:Q10) -> 4.25
A13: Szakfeladat | B13: Közreműködői szerződés | J13: Összesen | R13: Összesen | T13: Megbízási szerződés
B14: orvos | D14: felsőfokú végzettségű | F14: szakdolgozó | H14: egyéb | J14: orvos | L14: felsőfokú végzettségű | N14: szakdolgozó | P14: egyéb
B15: =B3 -> 2016 terv | C15: =C3 -> 2016 tény | D15: =D3 -> 2016 terv | E15: =E3 -> 2016 tény | F15: =F3 -> 2016 terv | G15: =G3 -> 2016 tény | H15: =F15 -> 2016 terv | I15: =G15 -> 2016 tény | J15: =L3 -> 2016 terv | K15: =M3 -> 2016 tény | L15: =N3 -> 2016 terv | M15: =O3 -> 2016 tény | N15: =P3 -> 2016 terv | O15: =Q3 -> 2016 tény | P15: =N15 -> 2016 terv | Q15: =O15 -> 2016 tény | R15: =P15 -> 2016 terv | S15: =Q15 -> 2016 tény | T15: =R15 -> 2016 terv | U15: =S15 -> 2016 tény
A16: Igazgatás | J16: =SUM(B4,J4,B16) -> 0 | L16: =SUM(D4,L4,D16) -> 8 | M16: =SUM(E4,M4,E16) -> 8 | N16: =SUM(F4,N4,F16) -> 0 | O16: =SUM(G4,O4,G16) -> 0 | P16: =SUM(H4,P4,H16) -> 10.25 | Q16: =SUM(I4,Q4,I16) -> 10 | R16: =IF(SUM(J16,L16,N16,P16)>0,SUM(J16,L16,N16,P16),"") -> 18.25 | S16: =IF(SUM(K16,M16,O16,Q16)>0,SUM(K16,M16,O16,Q16),"") -> 18 | T16: 0.5 | U16: 0.4
A17: Otthoni szakápolás | J17: =SUM(B5,J5,B17) -> 0 | L17: =SUM(D5,L5,D17) -> 1 | M17: =SUM(E5,M5,E17) -> 1.67 | N17: =SUM(F5,N5,F17) -> 0 | O17: =SUM(G5,O5,G17) -> 0 | P17: =SUM(H5,P5,H17) -> 1 | Q17: =SUM(I5,Q5,I17) -> 1 | R17: =IF(SUM(J17,L17,N17,P17)>0,SUM(J17,L17,N17,P17),"") -> 2 | S17: =IF(SUM(K17,M17,O17,Q17)>0,SUM(K17,M17,O17,Q17),"") -> 2.67
A18: Járóbeteg | B18: 3.23 | C18: 2.33 | D18: 0.2 | E18: 0.2 | J18: =SUM(B6,J6,B18) -> 56.2 | K18: =C6+K6+C18 -> 59.76 | L18: =SUM(D6,L6,D18) -> 12.78 | M18: =SUM(E6,M6,E18) -> 11.86 | N18: =SUM(F6,N6,F18) -> 108.12 | O18: =SUM(G6,O6,G18) -> 114.86 | P18: =SUM(H6,P6,H18) -> 23.25 | Q18: =SUM(I6,Q6,I18) -> 25.25 | R18: =IF(SUM(J18,L18,N18,P18)>0,SUM(J18,L18,N18,P18),"") -> 200.35 | S18: =IF(SUM(K18,M18,O18,Q18)>0,SUM(K18,M18,O18,Q18),"") -> 211.73 | T18: 0.4 | U18: 1.4
A19: Egynapos sebészet | J19: =SUM(B7,J7,B19) -> 2.4 | K19: =C7+K7+C19 -> 2.4 | L19: =SUM(D7,L7,D19) -> 1 | M19: =SUM(E7,M7,E19) -> 1 | N19: =SUM(F7,N7,F19) -> 6 | O19: =SUM(G7,O7,G19) -> 6 | P19: =SUM(H7,P7,H19) -> 2 | Q19: =SUM(I7,Q7,I19) -> 1.92 | R19: =IF(SUM(J19,L19,N19,P19)>0,SUM(J19,L19,N19,P19),"") -> 11.4 | S19: =IF(SUM(K19,M19,O19,Q19)>0,SUM(K19,M19,O19,Q19),"") -> 11.32
A20: Fogászat (szakellátás) | B20: 1 | C20: 1 | J20: =SUM(B8,J8,B20) -> 2 | K20: =C8+K8+C20 -> 2 | L20: =SUM(D8,L8,D20) -> 0 | M20: =SUM(E8,M8,E20) -> 0 | N20: =SUM(F8,N8,F20) -> 2 | O20: =SUM(G8,O8,G20) -> 2 | P20: =SUM(H8,P8,H20) -> 0 | Q20: =SUM(I8,Q8,I20) -> 0 | R20: =IF(SUM(J20,L20,N20,P20)>0,SUM(J20,L20,N20,P20),"") -> 4 | S20: =IF(SUM(K20,M20,O20,Q20)>0,SUM(K20,M20,O20,Q20),"") -> 4
A21: Védőnői szolgálat | J21: =SUM(B9,J9,B21) -> 0 | K21: =C9+K9+C21 -> 0 | L21: =SUM(D9,L9,D21) -> 46 | M21: =SUM(E9,M9,E21) -> 45 | N21: =SUM(F9,N9,F21) -> 0 | O21: =SUM(G9,O9,G21) -> 0 | P21: =SUM(H9,P9,H21) -> 0 | Q21: =SUM(I9,Q9,I21) -> 0 | R21: =IF(SUM(J21,L21,N21,P21)>0,SUM(J21,L21,N21,P21),"") -> 46 | S21: =IF(SUM(K21,M21,O21,Q21)>0,SUM(K21,M21,O21,Q21),"") -> 45 | T21: 0.2 | U21: 0.2
A22: Iskola-egészségügy | J22: =SUM(B10,J10,B22) -> 5 | K22: =C10+K10+C22 -> 4 | L22: =SUM(D10,L10,D22) -> 0 | M22: =SUM(E10,M10,E22) -> 0 | N22: =SUM(F10,N10,F22) -> 0 | O22: =SUM(G10,O10,G22) -> 0 | P22: =SUM(H10,P10,H22) -> 0 | Q22: =SUM(I10,Q10,I22) -> 0 | R22: =IF(SUM(J22,L22,N22,P22)>0,SUM(J22,L22,N22,P22),"") -> 5 | S22: =IF(SUM(K22,M22,O22,Q22)>0,SUM(K22,M22,O22,Q22),"") -> 4
A23: Összesen | B23: =SUM(B16:B22) -> 4.23 | C23: =SUM(C16:C22) -> 3.33 | D23: =SUM(D16:D22) -> 0.2 | E23: =SUM(E16:E22) -> 0.2 | F23: =SUM(F16:F22) -> 0 | G23: =SUM(G16:G22) -> 0 | H23: =SUM(H16:H22) -> 0 | I23: =SUM(I16:I22) -> 0 | ... U23: =SUM(U16:U22) -> 2

Sheet 6 (statisztikai)
A1: Szakfeladat | B1: Teljes munkaidő | J1: Részmunkaidő
B2: orvos | D2: felsőfokú végzettségű | F2: szakdolgozó | H2: egyéb | J2: orvos | L2: felsőfokú végzettségű | N2: szakdolgozó | P2: egyéb
B3: 2016 terv | C3: 2016 tény | D3: =B3 -> 2016 terv | E3: =C3 -> 2016 tény | F3: =D3 -> 2016 terv | G3: =E3 -> 2016 tény | H3: =F3 -> 2016 terv | I3: =G3 -> 2016 tény | J3: =H3 -> 2016 terv | K3: =I3 -> 2016 tény | ... Q3: =O3 -> 2016 tény
A4: Igazgatás | D4: 8 | E4: 8 | H4: 9 | I4: 8 | P4: 1.25 | Q4: 2
A5: Otthoni szakápolás | D5: 1 | E5: 0.68 | H5: 1 | I5: 1
A6: Járóbeteg | B6: 37 | C6: 35 | D6: 12 | E6: 10.65 | F6: 96 | G6: 98.16 | H6: 21 | I6: 21.69 | J6: 15.97 | K6: 22.43 | L6: 0.58 | M6: 0.2 | N6: 12.12 | O6: 10.65 | P6: 2.25 | Q6: 2.25
A7: Egynapos sebészet | B7: 2 | C7: 2 | D7: 1 | E7: 1 | F7: 6 | G7: 6 | H7: 2 | I7: 1.8 | J7: 0.4 | K7: 0.95
A8: Fogászat (szakellátás) | B8: 1 | C8: 1 | F8: 2 | G8: 1.84
A9: Védőnői szolgálat | D9: 46 | E9: 42.77
A10: Iskola-egészségügy | B10: 5 | C10: 4
A11: Összesen | B11: =SUM(B4:B10) -> 45 | C11: =SUM(C4:C10) -> 42 | D11: =SUM(D4:D10) -> 68 | E11: =SUM(E4:E10) -> 63.1 | F11: =SUM(F4:F10) -> 104 | G11: =SUM(G4:G10) -> 106 | H11: =SUM(H4:H10) -> 33 | I11: =SUM(I4:I10) -> 32.49 | ... Q11: =SUM(Q4:Q10) -> 4.25
A13: Szakfeladat | B13: Közreműködői szerződés | J13: Összesen | R13: Összesen | T13: Megbízási szerződés
B14: orvos | D14: felsőfokú végzettségű | F14: szakdolgozó | H14: egyéb | J14: orvos | L14: felsőfokú végzettségű | N14: szakdolgozó | P14: egyéb
B15: =B3 -> 2016 terv | C15: =C3 -> 2016 tény | D15: =D3 -> 2016 terv | E15: =E3 -> 2016 tény | F15: =F3 -> 2016 terv | G15: =G3 -> 2016 tény | H15: =F15 -> 2016 terv | I15: =G15 -> 2016 tény | J15: =L3 -> 2016 terv | K15: =M3 -> 2016 tény | L15: =N3 -> 2016 terv | M15: =O3 -> 2016 tény | N15: =P3 -> 2016 terv | O15: =Q3 -> 2016 tény | P15: =N15 -> 2016 terv | Q15: =O15 -> 2016 tény | R15: =P15 -> 2016 terv | S15: =Q15 -> 2016 tény | T15: =R15 -> 2016 terv | U15: =S15 -> 2016 tény
A16: Igazgatás | J16: =SUM(B4,J4,B16) -> 0 | L16: =SUM(D4,L4,D16) -> 8 | M16: =SUM(E4,M4,E16) -> 8 | N16: =SUM(F4,N4,F16) -> 0 | O16: =SUM(G4,O4,G16) -> 0 | P16: =SUM(H4,P4,H16) -> 10.25 | Q16: =SUM(I4,Q4,I16) -> 10 | R16: =IF(SUM(J16,L16,N16,P16)>0,SUM(J16,L16,N16,P16),"") -> 18.25 | S16: =IF(SUM(K16,M16,O16,Q16)>0,SUM(K16,M16,O16,Q16),"") -> 18 | T16: 0.5 | U16: 0.4
A17: Otthoni szakápolás | J17: =SUM(B5,J5,B17) -> 0 | L17: =SUM(D5,L5,D17) -> 1 | M17: =SUM(E5,M5,E17) -> 0.68 | N17: =SUM(F5,N5,F17) -> 0 | O17: =SUM(G5,O5,G17) -> 0 | P17: =SUM(H5,P5,H17) -> 1 | Q17: =SUM(I5,Q5,I17) -> 1 | R17: =IF(SUM(J17,L17,N17,P17)>0,SUM(J17,L17,N17,P17),"") -> 2 | S17: =IF(SUM(K17,M17,O17,Q17)>0,SUM(K17,M17,O17,Q17),"") -> 1.68
A18: Járóbeteg | B18: 3.23 | C18: 2.33 | D18: 0.2 | E18: 0.2 | J18: =SUM(B6,J6,B18) -> 56.2 | K18: =C6+K6+C18 -> 59.76 | L18: =SUM(D6,L6,D18) -> 12.78 | M18: =SUM(E6,M6,E18) -> 11.05 | N18: =SUM(F6,N6,F18) -> 108.12 | O18: =SUM(G6,O6,G18) -> 108.81 | P18: =SUM(H6,P6,H18) -> 23.25 | Q18: =SUM(I6,Q6,I18) -> 23.94 | R18: =IF(SUM(J18,L18,N18,P18)>0,SUM(J18,L18,N18,P18),"") -> 200.35 | S18: =IF(SUM(K18,M18,O18,Q18)>0,SUM(K18,M18,O18,Q18),"") -> 203.56 | T18: 0.4 | U18: 1.4
A19: Egynapos sebészet | J19: =SUM(B7,J7,B19) -> 2.4 | K19: =C7+K7+C19 -> 2.95 | L19: =SUM(D7,L7,D19) -> 1 | M19: =SUM(E7,M7,E19) -> 1 | N19: =SUM(F7,N7,F19) -> 6 | O19: =SUM(G7,O7,G19) -> 6 | P19: =SUM(H7,P7,H19) -> 2 | Q19: =SUM(I7,Q7,I19) -> 1.8 | R19: =IF(SUM(J19,L19,N19,P19)>0,SUM(J19,L19,N19,P19),"") -> 11.4 | S19: =IF(SUM(K19,M19,O19,Q19)>0,SUM(K19,M19,O19,Q19),"") -> 11.75
A20: Fogászat (szakellátás) | B20: 1 | C20: 1 | J20: =SUM(B8,J8,B20) -> 2 | K20: =C8+K8+C20 -> 2 | L20: =SUM(D8,L8,D20) -> 0 | M20: =SUM(E8,M8,E20) -> 0 | N20: =SUM(F8,N8,F20) -> 2 | O20: =SUM(G8,O8,G20) -> 1.84 | P20: =SUM(H8,P8,H20) -> 0 | Q20: =SUM(I8,Q8,I20) -> 0 | R20: =IF(SUM(J20,L20,N20,P20)>0,SUM(J20,L20,N20,P20),"") -> 4 | S20: =IF(SUM(K20,M20,O20,Q20)>0,SUM(K20,M20,O20,Q20),"") -> 3.84
A21: Védőnői szolgálat | J21: =SUM(B9,J9,B21) -> 0 | L21: =SUM(D9,L9,D21) -> 46 | M21: =SUM(E9,M9,E21) -> 42.77 | N21: =SUM(F9,N9,F21) -> 0 | O21: =SUM(G9,O9,G21) -> 0 | P21: =SUM(H9,P9,H21) -> 0 | Q21: =SUM(I9,Q9,I21) -> 0 | R21: =IF(SUM(J21,L21,N21,P21)>0,SUM(J21,L21,N21,P21),"") -> 46 | S21: =IF(SUM(K21,M21,O21,Q21)>0,SUM(K21,M21,O21,Q21),"") -> 42.77 | T21: 0.2 | U21: 0.2
A22: Iskola-egészségügy | J22: =SUM(B10,J10,B22) -> 5 | K22: =C10+K10+C22 -> 4 | L22: =SUM(D10,L10,D22) -> 0 | M22: =SUM(E10,M10,E22) -> 0 | N22: =SUM(F10,N10,F22) -> 0 | O22: =SUM(G10,O10,G22) -> 0 | P22: =SUM(H10,P10,H22) -> 0 | Q22: =SUM(I10,Q10,I22) -> 0 | R22: =IF(SUM(J22,L22,N22,P22)>0,SUM(J22,L22,N22,P22),"") -> 5 | S22: =IF(SUM(K22,M22,O22,Q22)>0,SUM(K22,M22,O22,Q22),"") -> 4
A23: Összesen | B23: =SUM(B16:B22) -> 4.23 | C23: =SUM(C16:C22) -> 3.33 | D23: =SUM(D16:D22) -> 0.2 | E23: =SUM(E16:E22) -> 0.2 | F23: =SUM(F16:F22) -> 0 | G23: =SUM(G16:G22) -> 0 | H23: =SUM(H16:H22) -> 0 | I23: =SUM(I16:I22) -> 0 | ... U23: =SUM(U16:U22) -> 2

Sheet 7
C1: 2015. év | F1: 2016 évi terv | I1: 2016. év | L1: 2016. év aránya a tervhez képest
C2: Teljes és Részmunkaidős | D2: További munkaviszony/ Megbízási szerződéses | E2: Összesen | F2: Teljes és Részmunkaidős | G2: További munkaviszony/ Megbízási szerződéses | H2: Összesen | I2: Teljes és Részmunkaidős | J2: További munkaviszony/ Megbízási szerződéses | K2: Összesen | L2: Teljes és Részmunkaidős | M2: További munkaviszony/ Megbízási szerződéses | N2: Összesen
A3: 1 | B3: alapbér | C3: 652594 | D3: 6931 | E3: =SUM(C3:D3) -> 659525 | F3: 680576 | G3: 4824 | H3: =SUM(F3:G3) -> 685400 | I3: 677157 | J3: 8163 | K3: =SUM(I3:J3) -> 685320 | L3: =I3/F3 -> 0.99497631 | M3: =J3/G3 -> 1.6921642 | N3: =K3/H3 -> 0.99988328
B4: bérkompenzáció közhasznú munkavállalóknak | C4: 20045 | E4: =SUM(C4:D4) -> 20045 | H4: =SUM(F4:G4) -> 0 | K4: =SUM(I4:J4) -> 0
B5: OEP bértámogatás | C5: 92491 | E5: =SUM(C5:D5) -> 92491 | F5: 112430 | H5: =SUM(F5:G5) -> 112430 | I5: 91996 | K5: =SUM(I5:J5) -> 91996 | L5: =I5/F5 -> 0.81825136 | N5: =K5/H5 -> 0.81825136
B6: Illetménykiegészítés 2014.11.01.-től (védőnő, iskolaorvos) | C6: 5876 | E6: =SUM(C6:D6) -> 5876 | F6: 36677 | H6: =SUM(F6:G6) -> 36677 | I6: 6190 | K6: =SUM(I6:J6) -> 6190 | L6: =I6/F6 -> 0.16877062 | N6: =K6/H6 -> 0.16877062
B7: Rendszeres ágazati bérpótlék | I7: 36834 | K7: =SUM(I7:J7) -> 36834
B8: EÜ dolgozók OEP bérkiegészítése | C8: 1035 | E8: =SUM(C8:D8) -> 1035 | H8: =SUM(F8:G8) -> 0 | I8: 183 | K8: =SUM(I8:J8) -> 183
A9: 2 | B9: bérpótlékok | C9: 34071 | E9: =SUM(C9:D9) -> 34071 | F9: 33488 | H9: =SUM(F9:G9) -> 33488 | I9: 36514 | K9: =SUM(I9:J9) -> 36514 | L9: =I9/F9 -> 1.0903607 | N9: =K9/H9 -> 1.0903607
B10: Területi pótlék, ágazati pótlék (védőnő) | C10: 12861 | E10: =SUM(C10:D10) -> 12861 | I10: 32430 | K10: =SUM(I10:J10) -> 32430
A11: 3 | B11: túlóra, helyettesítési, készenléti, ügyeleti díj | C11: 2212 | E11: =SUM(C11:D11) -> 2212 | F11: 1116 | H11: =SUM(F11:G11) -> 1116 | I11: 7079 | K11: =SUM(I11:J11) -> 7079 | L11: =I11/F11 -> 6.34319 | N11: =K11/H11 -> 6.34319
A12: 4 | B12: Egynapos sebészeti jutalék | C12: 5555 | E12: =SUM(C12:D12) -> 5555 | F12: 5300 | H12: =SUM(F12:G12) -> 5300 | I12: 5558 | K12: =SUM(I12:J12) -> 5558 | L12: =I12/F12 -> 1.0486792 | N12: =K12/H12 -> 1.0486792
A13: 5 | B13: keresetkiegészítés | C13: 20814 | E13: =SUM(C13:D13) -> 20814 | F13: 26400 | H13: =SUM(F13:G13) -> 26400 | I13: 21444 | K13: =SUM(I13:J13) -> 21444 | L13: =I13/F13 -> 0.81227273 | N13: =K13/H13 -> 0.81227273
B14: OEP eseti keresetkiegésztés | C14: 10849 | E14: =SUM(C14:D14) -> 10849 | H14: =SUM(F14:G14) -> 0 | I14: 10385 | K14: =SUM(I14:J14) -> 10385
A15: 6 | B15: prémium keret | C15: 24918 | E15: =SUM(C15:D15) -> 24918 | F15: 16848 | H15: =SUM(F15:G15) -> 16848 | I15: 25217 | K15: =SUM(I15:J15) -> 25217 | L15: =I15/F15 -> 1.4967355 | N15: =K15/H15 -> 1.4967355
A16: 7 | B16: jutalom | C16: 6893 | E16: =SUM(C16:D16) -> 6893 | H16: =SUM(F16:G16) -> 0 | I16: 6895 | K16: =SUM(I16:J16) -> 6895
A17: 8 | B17: jubileumi jutalom | C17: 4315 | E17: =SUM(C17:D17) -> 4315 | F17: 5795 | H17: =SUM(F17:G17) -> 5795 | I17: 9987 | K17: =SUM(I17:J17) -> 9987 | L17: =I17/F17 -> 1.7233822 | N17: =K17/H17 -> 1.7233822
A18: 9 | B18: végkielégítés, felmentési időre juttatás | C18: 422 | E18: =SUM(C18:D18) -> 422 | H18: =SUM(F18:G18) -> 0 | K18: =SUM(I18:J18) -> 0
B19: munkaviszony megszűnése miatti bér | E19: =SUM(C19:D19) -> 0 | H19: =SUM(F19:G19) -> 0 | K19: =SUM(I19:J19) -> 0 | N19: =SUM(L19:M19) -> 0
A20: 10 | B20: Közhasznú munkavállalók bérköltsége | C20: =SUM(C3:C19) -> 894951 | D20: =SUM(D3:D19) -> 6931 | E20: =SUM(E3:E19) -> 901882 | F20: =SUM(F3:F19) -> 918630 | G20: =SUM(G3:G19) -> 4824 | H20: =SUM(H3:H19) -> 923454 | I20: =SUM(I3:I19) -> 967869 | J20: =SUM(J3:J19) -> 8163 | K20: =SUM(K3:K19) -> 976032 | L20: =I20/F20 -> 1.0536005 | M20: =J20/G20 -> 1.6921642 | N20: =K20/H20 -> 1.0569362
A21: 11 | B21: cafetéria | C21: 25928 | E21: =SUM(C21:D21) -> 25928 | F21: 26750 | H21: =SUM(F21:G21) -> 26750 | I21: 26306 | K21: =SUM(I21:J21) -> 26306 | L21: =I21/F21 -> 0.98340187 | N21: =K21/H21 -> 0.98340187
B22: kultúra utalvány | E22: =SUM(C22:D22) -> 0 | K22: =SUM(I22:J22) -> 0
A23: 12 | B23: továbbképzési hozzájárulás | C23: 953 | E23: =SUM(C23:D23) -> 953 | F23: 2080 | H23: =SUM(F23:G23) -> 2080 | I23: 940 | K23: =SUM(I23:J23) -> 940 | L23: =I23/F23 -> 0.45192308 | N23: =K23/H23 -> 0.45192308
A24: 13 | B24: betegszabadság | C24: 7615 | E24: =SUM(C24:D24) -> 7615 | F24: 8000 | H24: =SUM(F24:G24) -> 8000 | I24: 8271 | K24: =SUM(I24:J24) -> 8271 | L24: =I24/F24 -> 1.033875 | N24: =K24/H24 -> 1.033875
A25: 14 | B25: ruházati költségtérítés | E25: =SUM(C25:D25) -> 0 | H25: =SUM(F25:G25) -> 0 | K25: =SUM(I25:J25) -> 0
A26: 15 | B26: közlekedési költségtérítés | C26: 4746 | E26: =SUM(C26:D26) -> 4746 | F26: 4900 | H26: =SUM(F26:G26) -> 4900 | I26: 5029 | K26: =SUM(I26:J26) -> 5029 | L26: =I26/F26 -> 1.0263265 | N26: =K26/H26 -> 1.0263265
A27: 16 | B27: választott tisztségviselők díja (FB, ügyvezető ig.) | D27: 1890 | E27: =SUM(C27:D27) -> 1890 | G27: 2040 | H27: =SUM(F27:G27) -> 2040 | J27: 1740 | K27: =SUM(I27:J27) -> 1740 | M27: =J27/G27 -> 0.85294118 | N27: =K27/H27 -> 0.85294118
A28: 17 | B28: reprezentáció, egyéb személyi jellegű kifizetés | C28: 1878 | E28: =SUM(C28:D28) -> 1878 | H28: =SUM(F28:G28) -> 0 | I28: 2804 | K28: =SUM(I28:J28) -> 2804
A29: 18 | B29: Szociális jellegű juttatások | C29: 1802 | E29: =SUM(C29:D29) -> 1802 | F29: 2000 | H29: =SUM(F29:G29) -> 2000 | I29: 1775 | K29: =SUM(I29:J29) -> 1775 | L29: =I29/F29 -> 0.8875 | N29: =K29/H29 -> 0.8875
A30: 19 | B30: Táppénz hozzájárulás | C30: 913 | E30: =SUM(C30:D30) -> 913 | H30: =SUM(F30:G30) -> 0 | I30: 1862 | K30: =SUM(I30:J30) -> 1862
A31: 20 | B31: Személyi jellegű egyéb kifizetések | C31: =SUM(C21:C30) -> 43835 | D31: =SUM(D21:D30) -> 1890 | E31: =SUM(E21:E30) -> 45725 | F31: =SUM(F21:F30) -> 43730 | G31: =SUM(G21:G30) -> 2040 | H31: =SUM(H21:H30) -> 45770 | I31: =SUM(I21:I30) -> 46987 | J31: =SUM(J21:J30) -> 1740 | K31: =SUM(K21:K30) -> 48727 | L31: =I31/F31 -> 1.0744798 | N31: =K31/H31 -> 1.0646056
A32: 21 | B32: Személyi juttatások összesen | C32: =SUM(C31,C20) -> 938786 | D32: =SUM(D31,D20) -> 8821 | E32: =SUM(E31,E20) -> 947607 | F32: =SUM(F31,F20) -> 962360 | G32: =SUM(G31,G20) -> 6864 | H32: =SUM(H31,H20) -> 969224 | I32: =SUM(I31,I20) -> 1014856 | J32: =SUM(J31,J20) -> 9903 | K32: =SUM(K31,K20) -> 1024759 | L32: =I32/F32 -> 1.0545492 | M32: =J32/G32 -> 1.4427448 | N32: =K32/H32 -> 1.0572984
A33: 22 | B33: Szociális hozzájárulási adó (Nyugdíjbiztosítási járulék) | C33: 222675 | E33: =SUM(C33:D33) -> 222675 | F33: 232043 | H33: =SUM(F33:G33) -> 232043 | I33: 242332 | K33: =SUM(I33:J33) -> 242332 | L33: =I33/F33 -> 1.0443409 | N33: =K33/H33 -> 1.0443409
B34: Egészségügyi hozzájárulás | C34: 5166 | E34: =SUM(C34:D34) -> 5166 | F34: 5803 | H34: =SUM(F34:G34) -> 5803 | I34: 5385 | K34: =SUM(I34:J34) -> 5385 | L34: =I34/F34 -> 0.92796829 | N34: =K34/H34 -> 0.92796829
B35: Egyszerűsített foglalkoztatásból eredő közteher | D35: 10 | E35: =SUM(C35:D35) -> 10 | J35: 18 | K35: =SUM(I35:J35) -> 18
A36: 28 | B36: Szakképzési hozzájárulás | C36: 2969 | E36: =SUM(C36:D36) -> 2969 | F36: 3000 | H36: =SUM(F36:G36) -> 3000 | I36: 3095 | K36: =SUM(I36:J36) -> 3095 | L36: =I36/F36 -> 1.0316667 | N36: =K36/H36 -> 1.0316667
A37: 29 | B37: Rehabilitációs hozzájárulás | C37: 7002 | E37: =SUM(C37:D37) -> 7002 | F37: 6000 | H37: =SUM(F37:G37) -> 6000 | I37: 5094 | K37: =SUM(I37:J37) -> 5094 | L37: =I37/F37 -> 0.849 | N37: =K37/H37 -> 0.849
A38: 30 | B38: Munkáltató által fizetett SZJA | C38: 5404 | E38: =SUM(C38:D38) -> 5404 | F38: 6390 | H38: =SUM(F38:G38) -> 6390 | I38: 5145 | K38: =SUM(I38:J38) -> 5145 | L38: =I38/F38 -> 0.80516432 | N38: =K38/H38 -> 0.80516432
A39: 31 | B39: Bérbeadás SZJA | C39: 7 | E39: =SUM(C39:D39) -> 7 | H39: =SUM(F39:G39) -> 0 | K39: =SUM(I39:J39) -> 0
A40: 32 | B40: Reprezentáció | C40: 274 | E40: =SUM(C40:D40) -> 274 | F40: 400 | H40: =SUM(F40:G40) -> 400 | I40: 365 | K40: =SUM(I40:J40) -> 365 | L40: =I40/F40 -> 0.9125 | N40: =K40/H40 -> 0.9125
...

Sheet 8
A1: Megnevezés | C1: 2015. év | D1: 2016 évi terv | E1: 2016. év | F1: 2016. év aránya a tervhez képest
A2: 1 | B2: Egészségügyi szakmai anyagok | C2: 163568 | D2: 160000 | E2: 167500 | F2: =E2/D2 -> 1.046875
A3: 2 | B3: Gyógyszer felhasználás | C3: 10615 | D3: 13000 | E3: 9881 | F3: =E3/D3 -> 0.76007692
A4: 3 | B4: Irodaszer, nyomtatvány | C4: 9015 | D4: 10000 | E4: 8098 | F4: =E4/D4 -> 0.8098
