Workbook

Sheet 1
A1: Munkahely | D1: Jelentett esetszám | G1: Jelentett beavatkozásszám | J1: Jelentett pontszám
D2: Összesen. | G2: Összesen: | J2: Összesen:
D3: 2015 | E3: 2016 | F3: trend | G3: 2015 | H3: 2016 | I3: trend | J3: 2015 | K3: 2016 | L3: trend
A4: Általános belgyógyászat | D4: ='1 (szegedi)'!D4+'1 (visegrádi)'!D4 -> 2302 | E4: ='1 (szegedi)'!E4+'1 (visegrádi)'!E4 -> 1828 | F4: =E4/D4 -> 0.79409209 | G4: ='1 (szegedi)'!G4+'1 (visegrádi)'!G4 -> 6213 | H4: ='1 (szegedi)'!H4+'1 (visegrádi)'!H4 -> 4688 | I4: =H4/G4 -> 0.75454692 | J4: ='1 (szegedi)'!J4+'1 (visegrádi)'!J4 -> 2387194 | K4: ='1 (szegedi)'!K4+'1 (visegrádi)'!K4 -> 1861549 | L4: =K4/J4 -> 0.77980633
A5: Belgyógyászat-Diabetológia | D5: ='1 (szegedi)'!D5+'1 (visegrádi)'!D5 -> 3544 | E5: ='1 (szegedi)'!E5+'1 (visegrádi)'!E5 -> 3304 | F5: =E5/D5 -> 0.93227991 | G5: ='1 (szegedi)'!G5+'1 (visegrádi)'!G5 -> 9759 | H5: ='1 (szegedi)'!H5+'1 (visegrádi)'!H5 -> 9175 | I5: =H5/G5 -> 0.9401578 | J5: ='1 (szegedi)'!J5+'1 (visegrádi)'!J5 -> 1614474 | K5: ='1 (szegedi)'!K5+'1 (visegrádi)'!K5 -> 1533960 | L5: =K5/J5 -> 0.95012989
A6: Gasztroenterológia | D6: ='1 (szegedi)'!D6+'1 (visegrádi)'!D6 -> 2830 | E6: ='1 (szegedi)'!E6+'1 (visegrádi)'!E6 -> 3493 | F6: =E6/D6 -> 1.2342756 | G6: ='1 (szegedi)'!G6+'1 (visegrádi)'!G6 -> 5391 | H6: ='1 (szegedi)'!H6+'1 (visegrádi)'!H6 -> 7533 | I6: =H6/G6 -> 1.3973289 | J6: ='1 (szegedi)'!J6+'1 (visegrádi)'!J6 -> 5959166 | K6: ='1 (szegedi)'!K6+'1 (visegrádi)'!K6 -> 9343843 | L6: =K6/J6 -> 1.5679783
A7: Kardiológia | D7: ='1 (szegedi)'!D7+'1 (visegrádi)'!D7 -> 11871 | E7: ='1 (szegedi)'!E7+'1 (visegrádi)'!E7 -> 12404 | F7: =E7/D7 -> 1.0448993 | G7: ='1 (szegedi)'!G7+'1 (visegrádi)'!G7 -> 29849 | H7: ='1 (szegedi)'!H7+'1 (visegrádi)'!H7 -> 32544 | I7: =H7/G7 -> 1.0902878 | J7: ='1 (szegedi)'!J7+'1 (visegrádi)'!J7 -> 23822426 | K7: ='1 (szegedi)'!K7+'1 (visegrádi)'!K7 -> 26443692 | L7: =K7/J7 -> 1.1100335
A8: Sebészet | D8: ='1 (szegedi)'!D8+'1 (visegrádi)'!D8 -> 23786 | E8: ='1 (szegedi)'!E8+'1 (visegrádi)'!E8 -> 22348 | F8: =E8/D8 -> 0.93954427 | G8: ='1 (szegedi)'!G8+'1 (visegrádi)'!G8 -> 114916 | H8: ='1 (szegedi)'!H8+'1 (visegrádi)'!H8 -> 100812 | I8: =H8/G8 -> 0.87726687 | J8: ='1 (szegedi)'!J8+'1 (visegrádi)'!J8 -> 37941280 | K8: ='1 (szegedi)'!K8+'1 (visegrádi)'!K8 -> 34014490 | L8: =K8/J8 -> 0.89650349
A9: Traumatológia | D9: ='1 (szegedi)'!D9+'1 (visegrádi)'!D9 -> 12819 | E9: ='1 (szegedi)'!E9+'1 (visegrádi)'!E9 -> 13039 | F9: =E9/D9 -> 1.017162 | G9: ='1 (szegedi)'!G9+'1 (visegrádi)'!G9 -> 55754 | H9: ='1 (szegedi)'!H9+'1 (visegrádi)'!H9 -> 52399 | I9: =H9/G9 -> 0.93982495 | J9: ='1 (szegedi)'!J9+'1 (visegrádi)'!J9 -> 18519499 | K9: ='1 (szegedi)'!K9+'1 (visegrádi)'!K9 -> 18018803 | L9: =K9/J9 -> 0.97296385
A10: Proktológia | D10: ='1 (szegedi)'!D10+'1 (visegrádi)'!D10 -> 2490 | E10: ='1 (szegedi)'!E10+'1 (visegrádi)'!E10 -> 2458 | F10: =E10/D10 -> 0.98714859 | G10: ='1 (szegedi)'!G10+'1 (visegrádi)'!G10 -> 11710 | H10: ='1 (szegedi)'!H10+'1 (visegrádi)'!H10 -> 12034 | I10: =H10/G10 -> 1.0276687 | J10: ='1 (szegedi)'!J10+'1 (visegrádi)'!J10 -> 3570932 | K10: ='1 (szegedi)'!K10+'1 (visegrádi)'!K10 -> 3673832 | L10: =K10/J10 -> 1.028816
A11: Aneszteziológia | D11: ='1 (szegedi)'!D11+'1 (visegrádi)'!D11 -> 1106 | E11: ='1 (szegedi)'!E11+'1 (visegrádi)'!E11 -> 1102 | F11: =E11/D11 -> 0.99638336 | G11: ='1 (szegedi)'!G11+'1 (visegrádi)'!G11 -> 2192 | H11: ='1 (szegedi)'!H11+'1 (visegrádi)'!H11 -> 2189 | I11: =H11/G11 -> 0.99863139 | J11: ='1 (szegedi)'!J11+'1 (visegrádi)'!J11 -> 1457736 | K11: ='1 (szegedi)'!K11+'1 (visegrádi)'!K11 -> 1454238 | L11: =K11/J11 -> 0.99760039
A12: Nőgyógyászat-terhesgond. | D12: ='1 (szegedi)'!D12+'1 (visegrádi)'!D12 -> 23250 | E12: ='1 (szegedi)'!E12+'1 (visegrádi)'!E12 -> 21988 | F12: =E12/D12 -> 0.94572043 | G12: ='1 (szegedi)'!G12+'1 (visegrádi)'!G12 -> 84834 | H12: ='1 (szegedi)'!H12+'1 (visegrádi)'!H12 -> 83048 | I12: =H12/G12 -> 0.97894712 | J12: ='1 (szegedi)'!J12+'1 (visegrádi)'!J12 -> 28849687 | K12: ='1 (szegedi)'!K12+'1 (visegrádi)'!K12 -> 27927460 | L12: =K12/J12 -> 0.96803338
A13: Fül-orr - gégészet | D13: ='1 (szegedi)'!D13+'1 (visegrádi)'!D13 -> 22319 | E13: ='1 (szegedi)'!E13+'1 (visegrádi)'!E13 -> 21910 | F13: =E13/D13 -> 0.98167481 | G13: ='1 (szegedi)'!G13+'1 (visegrádi)'!G13 -> 86619 | H13: ='1 (szegedi)'!H13+'1 (visegrádi)'!H13 -> 74019 | I13: =H13/G13 -> 0.85453538 | J13: ='1 (szegedi)'!J13+'1 (visegrádi)'!J13 -> 21758909 | K13: ='1 (szegedi)'!K13+'1 (visegrádi)'!K13 -> 21090320 | L13: =K13/J13 -> 0.96927286
A14: Audiológia | D14: ='1 (szegedi)'!D14+'1 (visegrádi)'!D14 -> 1697 | E14: ='1 (szegedi)'!E14+'1 (visegrádi)'!E14 -> 1690 | F14: =E14/D14 -> 0.99587507 | G14: ='1 (szegedi)'!G14+'1 (visegrádi)'!G14 -> 11581 | H14: ='1 (szegedi)'!H14+'1 (visegrádi)'!H14 -> 12131 | I14: =H14/G14 -> 1.0474916 | J14: ='1 (szegedi)'!J14+'1 (visegrádi)'!J14 -> 2592616 | K14: ='1 (szegedi)'!K14+'1 (visegrádi)'!K14 -> 2742961 | L14: =K14/J14 -> 1.0579897
A15: Szemészet | D15: ='1 (szegedi)'!D15+'1 (visegrádi)'!D15 -> 25047 | E15: ='1 (szegedi)'!E15+'1 (visegrádi)'!E15 -> 25095 | F15: =E15/D15 -> 1.0019164 | G15: ='1 (szegedi)'!G15+'1 (visegrádi)'!G15 -> 248818 | H15: ='1 (szegedi)'!H15+'1 (visegrádi)'!H15 -> 244963 | I15: =H15/G15 -> 0.98450675 | J15: ='1 (szegedi)'!J15+'1 (visegrádi)'!J15 -> 42182624 | K15: ='1 (szegedi)'!K15+'1 (visegrádi)'!K15 -> 41401533 | L15: =K15/J15 -> 0.98148311
... A28: Fogászat (szakellátás) | D28: ='1 (szegedi)'!D28+'1 (visegrádi)'!D28 -> 7080 | E28: ='1 (szegedi)'!E28+'1 (visegrádi)'!E28 -> 6954 | F28: =E28/D28 -> 0.98220339 | G28: ='1 (szegedi)'!G28+'1 (visegrádi)'!G28 -> 16850 | H28: ='1 (szegedi)'!H28+'1 (visegrádi)'!H28 -> 15129 | I28: =H28/G28 -> 0.8978635 | J28: ='1 (szegedi)'!J28+'1 (visegrádi)'!J28 -> 7323490 | K28: ='1 (szegedi)'!K28+'1 (visegrádi)'!K28 -> 6425150 | L28: =K28/J28 -> 0.87733444
A30: Összes szakrendelés | D30: =SUM(D4:D28)-D27-D28 -> 377994 | E30: =SUM(E4:E28)-E27-E28 -> 376956 | F30: =E30/D30 -> 0.99725392 | G30: =SUM(G4:G28)-G27-G28 -> 1825173 | H30: =SUM(H4:H28)-H27-H28 -> 1783860 | I30: =H30/G30 -> 0.97736489 | J30: =SUM(J4:J28)-J27-J28 -> 478663688 | K30: =SUM(K4:K28)-K27-K28 -> 475107049 | L30: =K30/J30 -> 0.99256965
A32: Összes labor | D32: ='1 (szegedi)'!D32+'1 (visegrádi)'!D32 -> 74165 | E32: ='1 (szegedi)'!E32+'1 (visegrádi)'!E32 -> 73130 | F32: =E32/D32 -> 0.98604463 | G32: ='1 (szegedi)'!G32+'1 (visegrádi)'!G32 -> 1353762 | H32: ='1 (szegedi)'!H32+'1 (visegrádi)'!H32 -> 1320865 | I32: =H32/G32 -> 0.97569957 | J32: ='1 (szegedi)'!J32+'1 (visegrádi)'!J32 -> 227180761 | K32: ='1 (szegedi)'!K32+'1 (visegrádi)'!K32 -> 223307921 | L32: =K32/J32 -> 0.98295261
A33: Összes fogászat | D33: =D27+D28 -> 7238 | E33: =E27+E28 -> 6954 | F33: =E33/D33 -> 0.96076264 | G33: =G27+G28 -> 17597 | H33: =H27+H28 -> 15129 | I33: =H33/G33 -> 0.85974882 | J33: =J27+J28 -> 7519405 | K33: =K27+K28 -> 6425150 | L33: =K33/J33 -> 0.85447585
A35: összesen: | D35: =SUM(D30:D33) -> 459397 | E35: =SUM(E30:E33) -> 457040 | F35: =E35/D35 -> 0.99486936 | G35: =SUM(G30:G33) -> 3196532 | H35: =SUM(H30:H33) -> 3119854 | I35: =H35/G35 -> 0.97601213 | J35: =SUM(J30:J33) -> 713363854 | K35: =SUM(K30:K33) -> 704840120 | L35: =K35/J35 -> 0.98805135

Sheet 1 (szegedi)
A1: Munkahely | D1: Jelentett esetszám | G1: Jelentett beavatkozásszám | J1: Jelentett pontszám
D2: Összesen. | G2: Összesen: | J2: Összesen:
D3: 2015 | E3: 2016 | F3: trend | G3: 2015 | H3: 2016 | I3: trend | J3: 2015 | K3: 2016 | L3: trend
A4: Általános belgyógyászat | D4: 2302 | E4: 1828 | F4: =E4/D4 -> 0.79409209 | G4: 6213 | H4: 4688 | I4: =H4/G4 -> 0.75454692 | J4: 2387194 | K4: 1861549 | L4: =K4/J4 -> 0.77980633
A5: Belgyógyászat-Diabetológia | D5: 3544 | E5: 3304 | F5: =E5/D5 -> 0.93227991 | G5: 9759 | H5: 9175 | I5: =H5/G5 -> 0.9401578 | J5: 1614474 | K5: 1533960 | L5: =K5/J5 -> 0.95012989
A6: Gasztroenterológia | D6: 2830 | E6: 3493 | F6: =E6/D6 -> 1.2342756 | G6: 5391 | H6: 7533 | I6: =H6/G6 -> 1.3973289 | J6: 5959166 | K6: 9343843 | L6: =K6/J6 -> 1.5679783
A7: Kardiológia-EKG | D7: 11871 | E7: 12404 | F7: =E7/D7 -> 1.0448993 | G7: 29849 | H7: 32544 | I7: =H7/G7 -> 1.0902878 | J7: 23822426 | K7: 26443692 | L7: =K7/J7 -> 1.1100335
A8: Sebészet | D8: 23786 | E8: 22348 | F8: =E8/D8 -> 0.93954427 | G8: 114916 | H8: 100812 | I8: =H8/G8 -> 0.87726687 | J8: 37941280 | K8: 34014490 | L8: =K8/J8 -> 0.89650349
A9: Traumatológia | D9: 12819 | E9: 13039 | F9: =E9/D9 -> 1.017162 | G9: 55754 | H9: 52399 | I9: =H9/G9 -> 0.93982495 | J9: 18519499 | K9: 18018803 | L9: =K9/J9 -> 0.97296385
A10: Proktológia | D10: 2490 | E10: 2458 | F10: =E10/D10 -> 0.98714859 | G10: 11710 | H10: 12034 | I10: =H10/G10 -> 1.0276687 | J10: 3570932 | K10: 3673832 | L10: =K10/J10 -> 1.028816
A11: Aneszteziológia | D11: 1106 | E11: 1102 | F11: =E11/D11 -> 0.99638336 | G11: 2192 | H11: 2189 | I11: =H11/G11 -> 0.99863139 | J11: 1457736 | K11: 1454238 | L11: =K11/J11 -> 0.99760039
A12: Nőgyógyászat-terhesgond. | D12: 12628 | E12: 12292 | F12: =E12/D12 -> 0.97339246 | G12: 43536 | H12: 45141 | I12: =H12/G12 -> 1.036866 | J12: 15204708 | K12: 15376550 | L12: =K12/J12 -> 1.0113019
A13: Fül-orr - gégészet | D13: 10765 | E13: 10580 | F13: =E13/D13 -> 0.98281468 | G13: 34732 | H13: 36391 | I13: =H13/G13 -> 1.0477657 | J13: 9667829 | K13: 10180162 | L13: =K13/J13 -> 1.0529936
A14: Audiológia | D14: 1697 | E14: 1690 | F14: =E14/D14 -> 0.99587507 | G14: 11581 | H14: 12131 | I14: =H14/G14 -> 1.0474916 | J14: 2592616 | K14: 2742961 | L14: =K14/J14 -> 1.0579897
A15: Szemészet | D15: 13014 | E15: 12817 | F15: =E15/D15 -> 0.98486246 | G15: 118892 | H15: 116647 | I15: =H15/G15 -> 0.98111732 | J15: 21188810 | K15: 20926027 | L15: =K15/J15 -> 0.98759803
A16: Bőrgyógyászat | D16: 0 | E16: 0 | G16: 0 | H16: 0 | J16: 0 | K16: 0
A17: Allergológia | D17: 0 | E17: 0 | G17: 0 | H17: 0 | J17: 0 | K17: 0
A18: Ideggyógyászat | D18: 8711 | E18: 8083 | F18: =E18/D18 -> 0.92790724 | G18: 39974 | H18: 41071 | I18: =H18/G18 -> 1.0274428 | J18: 8881167 | K18: 9006832 | L18: =K18/J18 -> 1.0141496
A19: Elmegyógyászat | D19: 1189 | E19: 1144 | F19: =E19/D19 -> 0.96215307 | G19: 2358 | H19: 2324 | I19: =H19/G19 -> 0.985581 | J19: 1432184 | K19: 1398671 | L19: =K19/J19 -> 0.97660007
A20: Ortopédia | D20: 7974 | E20: 7934 | F20: =E20/D20 -> 0.9949837 | G20: 28868 | H20: 29558 | I20: =H20/G20 -> 1.0239019 | J20: 10788649 | K20: 10887120 | L20: =K20/J20 -> 1.0091273
A21: Urológia | D21: 10300 | E21: 10508 | F21: =E21/D21 -> 1.0201942 | G21: 49844 | H21: 49423 | I21: =H21/G21 -> 0.99155365 | J21: 16019547 | K21: 15936309 | L21: =K21/J21 -> 0.99480397
A22: Radiológia | D22: 35974 | E22: 35394 | F22: =E22/D22 -> 0.98387724 | G22: 94954 | H22: 87012 | I22: =H22/G22 -> 0.9163595 | J22: 66987870 | K22: 62165494 | L22: =K22/J22 -> 0.92801121
A23: Reumatológia | D23: 16361 | E23: 14278 | F23: =E23/D23 -> 0.87268504 | G23: 178403 | H23: 152052 | I23: =H23/G23 -> 0.85229508 | J23: 25347218 | K23: 21875547 | L23: =K23/J23 -> 0.86303542
A24: ODM-Menopausa | D24: 4094 | E24: 4334 | F24: =E24/D24 -> 1.0586224 | G24: 6064 | H24: 6530 | I24: =H24/G24 -> 1.076847 | J24: 8156744 | K24: 9157822 | L24: =K24/J24 -> 1.1227301
A25: Fizikotherapia | D25: 37662 | E25: 37979 | F25: =E25/D25 -> 1.008417 | G25: 74955 | H25: 85240 | I25: =H25/G25 -> 1.1372157 | J25: 16723965 | K25: 19385332 | L25: =K25/J25 -> 1.1591349
A26: Gyógytorna | D26: 21205 | E26: 24989 | F26: =E26/D26 -> 1.1784485 | G26: 151785 | H26: 178250 | I26: =H26/G26 -> 1.1743585 | J26: 21599184 | K26: 25009405 | L26: =K26/J26 -> 1.1578866
A27: Fogászat (alapellátás) | E27: 0 | J27: 0 | K27: 0
A28: Fogászat (szakellátás)
E29: 0
A30: Összes szakrendelés | D30: =SUM(D4:D28)-D27-D28 -> 242322 | E30: =SUM(E4:E28)-E27-E28 -> 241998 | F30: =E30/D30 -> 0.99866294 | G30: =SUM(G4:G28)-G27-G28 -> 1071730 | H30: =SUM(H4:H28)-H27-H28 -> 1063144 | I30: =H30/G30 -> 0.99198865 | J30: =SUM(J4:J28)-J27-J28 -> 319863198 | K30: =SUM(K4:K28)-K27-K28 -> 320392639 | L30: =K30/J30 -> 1.0016552
A32: Összes labor | D32: 74165 | E32: 73130 | F32: =E32/D32 -> 0.98604463 | G32: 1353762 | H32: 1320865 | I32: =H32/G32 -> 0.97569957 | J32: 227180761 | K32: 223307921 | L32: =K32/J32 -> 0.98295261
A33: Összes fogászat | D33: =D27+D28 -> 0 | E33: =E27+E28 -> 0 | G33: =G27+G28 -> 0 | H33: =H27+H28 -> 0 | J33: =J27+J28 -> 0 | K33: =K27+K28 -> 0
A35: összesen: | D35: =SUM(D30:D33) -> 316487 | E35: =SUM(E30:E33) -> 315128 | F35: =E35/D35 -> 0.99570598 | G35: =SUM(G30:G33) -> 2425492 | H35: =SUM(H30:H33) -> 2384009 | I35: =H35/G35 -> 0.98289708 | J35: =SUM(J30:J33) -> 547043959 | K35: =SUM(K30:K33) -> 543700560 | L35: =K35/J35 -> 0.99388824

Sheet 1 (visegrádi)
A1: Munkahely | D1: Jelentett esetszám | G1: Jelentett beavatkozásszám | J1: Jelentett pontszám
D2: Összesen. | G2: Összesen: | J2: Összesen:
D3: 2015 | E3: 2016 | F3: trend | G3: 2015 | H3: 2016 | I3: trend | J3: 2015 | K3: 2016 | L3: trend
A4: Általános belgyógyászat | D4: 0 | E4: 0 | G4: 0 | H4: 0 | J4: 0 | K4: 0
A5: Belgyógyászat-Diabetológia | D5: 0 | E5: 0 | G5: 0 | H5: 0 | J5: 0 | K5: 0
A6: Gasztroenterológia | D6: 0 | E6: 0 | G6: 0 | H6: 0 | J6: 0 | K6: 0
A7: Kardiológia | D7: 0 | E7: 0 | G7: 0 | H7: 0 | J7: 0 | K7: 0
A8: Sebészet
A9: Traumatológia
A10: Proktológia | D10: 0 | E10: 0 | G10: 0 | H10: 0 | J10: 0 | K10: 0
A11: Aneszteziológia | D11: 0 | E11: 0 | G11: 0 | H11: 0 | J11: 0 | K11: 0
A12: Nőgyógyászat-terhesgond. | D12: 10622 | E12: 9696 | F12: =E12/D12 -> 0.91282244 | G12: 41298 | H12: 37907 | I12: =H12/G12 -> 0.91788949 | J12: 13644979 | K12: 12550910 | L12: =K12/J12 -> 0.91981893
A13: Fül-orr - gégészet | D13: 11554 | E13: 11330 | F13: =E13/D13 -> 0.98061277 | G13: 51887 | H13: 37628 | I13: =H13/G13 -> 0.72519128 | J13: 12091080 | K13: 10910158 | L13: =K13/J13 -> 0.90233114
A14: Audiológia | D14: 0 | E14: 0 | G14: 0 | H14: 0 | J14: 0 | K14: 0
A15: Szemészet | D15: 12033 | E15: 12278 | F15: =E15/D15 -> 1.0203607 | G15: 129926 | H15: 128316 | I15: =H15/G15 -> 0.98760833 | J15: 20993814 | K15: 20475506 | L15: =K15/J15 -> 0.97531139
A16: Bőrgyógyászat | D16: 15515 | E16: 13940 | F16: =E16/D16 -> 0.89848534 | G16: 73844 | H16: 67669 | I16: =H16/G16 -> 0.91637777 | J16: 19200017 | K16: 16309544 | L16: =K16/J16 -> 0.84945466
A17: Allergológia | D17: 1535 | E17: 1566 | F17: =E17/D17 -> 1.0201954 | G17: 20651 | H17: 19625 | I17: =H17/G17 -> 0.95031718 | J17: 6857179 | K17: 6523394 | L17: =K17/J17 -> 0.95132328
A18: Ideggyógyászat | D18: 7149 | E18: 7547 | F18: =E18/D18 -> 1.0556721 | G18: 48165 | H18: 52510 | I18: =H18/G18 -> 1.0902107 | J18: 11721897 | K18: 13515937 | L18: =K18/J18 -> 1.1530503
A19: Elmegyógyászat | D19: 1790 | E19: 1810 | F19: =E19/D19 -> 1.0111732 | G19: 5840 | H19: 5819 | I19: =H19/G19 -> 0.99640411 | J19: 2641237 | K19: 2732048 | L19: =K19/J19 -> 1.034382
A20: Ortopédia | D20: 0 | E20: 0 | G20: 0 | H20: 0 | J20: 0 | K20: 0
A21: Urológia | D21: 12159 | E21: 13318 | F21: =E21/D21 -> 1.0953203 | G21: 40989 | H21: 40255 | I21: =H21/G21 -> 0.98209276 | J21: 14241083 | K21: 14126231 | L21: =K21/J21 -> 0.99193516
A22: Radiológia | D22: 0 | E22: 0 | G22: 0 | H22: 0 | J22: 0 | K22: 0
A23: Reumatológia | D23: 17723 | E23: 16768 | F23: =E23/D23 -> 0.94611522 | G23: 152568 | H23: 140783 | I23: =H23/G23 -> 0.92275575 | J23: 27524453 | K23: 25641762 | L23: =K23/J23 -> 0.93159933
A24: ODM-Menopausa | D24: 0 | E24: 0 | G24: 0 | H24: 0 | J24: 0 | K24: 0
A25: Fizikotherapia | D25: 27475 | E25: 29096 | F25: =E25/D25 -> 1.0589991 | G25: 67037 | H25: 71550 | I25: =H25/G25 -> 1.067321 | J25: 14072360 | K25: 16143192 | L25: =K25/J25 -> 1.147156
A26: Gyógytorna | D26: 18117 | E26: 17609 | F26: =E26/D26 -> 0.97196004 | G26: 121238 | H26: 118654 | I26: =H26/G26 -> 0.97868655 | J26: 15812391 | K26: 15785728 | L26: =K26/J26 -> 0.99831379
A27: Fogászat (alapellátás) | D27: 158 | F27: =E27/D27 -> 0 | G27: 747 | I27: =H27/G27 -> 0 | J27: 195915 | L27: =K27/J27 -> 0
A28: Fogászat (szakellátás) | D28: 7080 | E28: 6954 | F28: =E28/D28 -> 0.98220339 | G28: 16850 | H28: 15129 | I28: =H28/G28 -> 0.8978635 | J28: 7323490 | K28: 6425150 | L28: =K28/J28 -> 0.87733444
A30: Összes szakrendelés | D30: =SUM(D4:D28)-D27-D28 -> 135672 | E30: =SUM(E4:E28)-E27-E28 -> 134958 | F30: =E30/D30 -> 0.99473731 | G30: =SUM(G4:G28)-G27-G28 -> 753443 | H30: =SUM(H4:H28)-H27-H28 -> 720716 | I30: =H30/G30 -> 0.9565634 | J30: =SUM(J4:J28)-J27-J28 -> 158800490 | K30: =SUM(K4:K28)-K27-K28 -> 154714410 | L30: =K30/J30 -> 0.9742691
A32: Összes labor
A33: Összes fogászat | D33: =D27+D28 -> 7238 | E33: =E27+E28 -> 6954 | F33: =E33/D33 -> 0.96076264 | G33: =G27+G28 -> 17597 | H33: =H27+H28 -> 15129 | I33: =H33/G33 -> 0.85974882 | J33: =J27+J28 -> 7519405 | K33: =K27+K28 -> 6425150 | L33: =K33/J33 -> 0.85447585
A35: összesen | D35: =SUM(D30:D33) -> 142910 | E35: =SUM(E30:E33) -> 141912 | F35: =E35/D35 -> 0.99301658 | G35: =SUM(G30:G33) -> 771040 | H35: =SUM(H30:H33) -> 735845 | I35: =H35/G35 -> 0.95435386 | J35: =SUM(J30:J33) -> 166319895 | K35: =SUM(K30:K33) -> 161139560 | L35: =K35/J35 -> 0.96885319

Sheet 2
B1: Esetszám | E1: Beavatkozások száma | H1: Pontszám | L1: eset | N1: beav | P1: pont
B2: 2016 terv | C2: 2016 tény | D2: % | E2: 2016 terv | F2: 2016 tény | G2: % | H2: 2016 terv | I2: 2016 tény | J2: % | L2: tény | M2: jel | N2: tény | O2: jel | P2: tény | Q2: jel
A3: Aneszteziológia | B3: 1025 | C3: =L3+M3 -> 1102 | D3: =C3/B3 -> 1.075122 | E3: 2050 | F3: =N3+O3 -> 2189 | G3: =F3/E3 -> 1.0678049 | H3: 1365300 | I3: =P3+Q3 -> 1449828 | J3: =I3/H3 -> 1.0619117 | L3: 1059 | M3: 43 | N3: 2105 | O3: 84 | P3: 1394052 | Q3: 55776
A4: Audiológia | B4: 1510 | C4: =L4+M4 -> 1687 | D4: =C4/B4 -> 1.1172185 | E4: 9895 | F4: =N4+O4 -> 12119 | G4: =F4/E4 -> 1.22476 | H4: 2950000 | I4: =P4+Q4 -> 2716647 | J4: =I4/H4 -> 0.92089729 | L4: 1581 | M4: 106 | N4: 11315 | O4: 804 | P4: 2527431 | Q4: 189216
A5: Általános belgyógyászat | B5: 2705 | C5: =L5+M5 -> 1808 | D5: =C5/B5 -> 0.66839187 | E5: 7330 | F5: =N5+O5 -> 4608 | G5: =F5/E5 -> 0.62864939 | H5: 2664000 | I5: =P5+Q5 -> 1835173 | J5: =I5/H5 -> 0.68887875 | L5: 1707 | M5: 101 | N5: 4384 | O5: 224 | P5: 1741731 | Q5: 93442
A6: Belgyógyászat-diabetológia | B6: 3560 | C6: =L6+M6 -> 3304 | D6: =C6/B6 -> 0.92808989 | E6: 10250 | F6: =N6+O6 -> 9175 | G6: =F6/E6 -> 0.89512195 | H6: 1580000 | I6: =P6+Q6 -> 1532649 | J6: =I6/H6 -> 0.97003101 | L6: 3081 | M6: 223 | N6: 8576 | O6: 599 | P6: 1430641 | Q6: 102008
A7: Fizikoterápia | B7: 41800 | C7: =L7+M7 -> 37966 | D7: =C7/B7 -> 0.90827751 | E7: 94000 | F7: =N7+O7 -> 85227 | G7: =F7/E7 -> 0.90667021 | H7: 18400000 | I7: =P7+Q7 -> 19366276 | J7: =I7/H7 -> 1.052515 | L7: 35721 | M7: 2245 | N7: 80087 | O7: 5140 | P7: 18199380 | Q7: 1166896
A8: Fül-orr-gége | B8: 10170 | C8: =L8+M8 -> 10547 | D8: =C8/B8 -> 1.0370698 | E8: 30030 | F8: =N8+O8 -> 36329 | G8: =F8/E8 -> 1.2097569 | H8: 9660000 | I8: =P8+Q8 -> 10015638 | J8: =I8/H8 -> 1.0368155 | L8: 9829 | M8: 718 | N8: 33931 | O8: 2398 | P8: 9339566 | Q8: 676072
A9: Gasztroenterológia | B9: 2760 | C9: =L9+M9 -> 3491 | D9: =C9/B9 -> 1.2648551 | E9: 5520 | F9: =N9+O9 -> 7529 | G9: =F9/E9 -> 1.3639493 | H9: 6360000 | I9: =P9+Q9 -> 9310433 | J9: =I9/H9 -> 1.4639046 | L9: 3252 | M9: 239 | N9: 7064 | O9: 465 | P9: 8557429 | Q9: 753004
A10: Gyógytorna | B10: 22000 | C10: =L10+M10 -> 24991 | D10: =C10/B10 -> 1.1359545 | E10: 157900 | F10: =N10+O10 -> 177874 | G10: =F10/E10 -> 1.1264978 | H10: 20880000 | I10: =P10+Q10 -> 24936665 | J10: =I10/H10 -> 1.1942847 | L10: 23376 | M10: 1615 | N10: 167112 | O10: 10762 | P10: 23426058 | Q10: 1510607
A11: Ideggyógyászat | B11: 9850 | C11: =L11+M11 -> 9227 | D11: =C11/B11 -> 0.93675127 | E11: 40200 | F11: =N11+O11 -> 43389 | G11: =F11/E11 -> 1.0793284 | H11: 13500000 | I11: =P11+Q11 -> 10359559 | J11: =I11/H11 -> 0.76737474 | L11: 8623 | M11: =518+86 -> 604 | N11: 40357 | O11: =2862+170 -> 3032 | P11: 9682917 | Q11: =579890+96752 -> 676642
A12: Kardiológia | B12: 12100 | C12: =L12+M12 -> 12384 | D12: =C12/B12 -> 1.0234711 | E12: 28500 | F12: =N12+O12 -> 32491 | G12: =F12/E12 -> 1.1400351 | H12: 23500000 | I12: =P12+Q12 -> 26376464 | J12: =I12/H12 -> 1.1224027 | L12: 11531 | M12: 853 | N12: 30169 | O12: 2322 | P12: 24438000 | Q12: 1938464
A13: ODM-Menopausa | B13: 4080 | C13: =L13+M13 -> 4332 | D13: =C13/B13 -> 1.0617647 | E13: 8040 | F13: =N13+O13 -> 6526 | G13: =F13/E13 -> 0.81169154 | H13: 14790000 | I13: =P13+Q13 -> 9120668 | J13: =I13/H13 -> 0.61667803 | L13: 4054 | M13: 278 | N13: 6103 | O13: 423 | P13: 8517810 | Q13: 602858
A14: Nőgyógyászat | B14: 12300 | C14: =L14+M14 -> 12274 | D14: =C14/B14 -> 0.99788618 | E14: 37600 | F14: =N14+O14 -> 45085 | G14: =F14/E14 -> 1.1990691 | H14: 15200000 | I14: =P14+Q14 -> 15252392 | J14: =I14/H14 -> 1.0034468 | L14: 11380 | M14: 894 | N14: 41782 | O14: 3303 | P14: 14146759 | Q14: 1105633
A15: Ortopédia | B15: 7150 | C15: =L15+M15 -> 7912 | D15: =C15/B15 -> 1.1065734 | E15: 29900 | F15: =N15+O15 -> 29440 | G15: =F15/E15 -> 0.98461538 | H15: 12500000 | I15: =P15+Q15 -> 10561652 | J15: =I15/H15 -> 0.84493216 | L15: 7410 | M15: 502 | N15: 27517 | O15: 1923 | P15: 9849362 | Q15: 712290
A16: Reuma | B16: 16900 | C16: =L16+M16 -> 14268 | D16: =C16/B16 -> 0.84426036 | E16: 165000 | F16: =N16+O16 -> 151932 | G16: =F16/E16 -> 0.9208 | H16: 25350000 | I16: =P16+Q16 -> 21734595 | J16: =I16/H16 -> 0.85738047 | L16: 13387 | M16: 881 | N16: 142515 | O16: 9417 | P16: 20389686 | Q16: 1344909
A17: Röntgen | B17: 26700 | C17: =L17+M17 -> 35298 | D17: =C17/B17 -> 1.3220225 | E17: 81200 | F17: =N17+O17 -> 86843 | G17: =F17/E17 -> 1.0694951 | H17: 57900000 | I17: =P17+Q17 -> 58856843 | J17: =I17/H17 -> 1.0165258 | L17: 32928 | M17: 2370 | N17: 81102 | O17: 5741 | P17: 54654368 | Q17: 4202475
A18: Sebészet | B18: 27000 | C18: =L18+M18 -> 24744 | D18: =C18/B18 -> 0.91644444 | E18: 135000 | F18: =N18+O18 -> 112578 | G18: =F18/E18 -> 0.83391111 | H18: 44500000 | I18: =P18+Q18 -> 37204190 | J18: =I18/H18 -> 0.83604921 | L18: 22989 | M18: =131+1624 -> 1755 | N18: 105000 | O18: =635+6943 -> 7578 | P18: 34669088 | Q18: =194642+2340460 -> 2535102
A19: Traumatológia | B19: 13680 | C19: =L19+M19 -> 13008 | D19: =C19/B19 -> 0.95087719 | E19: 60480 | F19: =N19+O19 -> 52273 | G19: =F19/E19 -> 0.86430225 | H19: 20016000 | I19: =P19+Q19 -> 17844392 | J19: =I19/H19 -> 0.89150639 | L19: 12148 | M19: 860 | N19: 49422 | O19: 2851 | P19: 16763324 | Q19: 1081068
A20: Szemészet | B20: 13250 | C20: =L20+M20 -> 12781 | D20: =C20/B20 -> 0.96460377 | E20: 123225 | F20: =N20+O20 -> 116485 | G20: =F20/E20 -> 0.94530331 | H20: 22923000 | I20: =P20+Q20 -> 20513179 | J20: =I20/H20 -> 0.89487323 | L20: 11901 | M20: 880 | N20: 108339 | O20: 8146 | P20: 19040477 | Q20: 1472702
A21: Urológia | B21: 10800 | C21: =L21+M21 -> 10499 | D21: =C21/B21 -> 0.97212963 | E21: 48200 | F21: =N21+O21 -> 49383 | G21: =F21/E21 -> 1.0245436 | H21: 16700000 | I21: =P21+Q21 -> 15739006 | J21: =I21/H21 -> 0.94245545 | L21: 9685 | M21: 814 | N21: 45577 | O21: 3806 | P21: 14490500 | Q21: 1248506
A22: Szegedi út összesen | B22: =SUM(B3:B21) -> 239340 | C22: =SUM(C3:C21) -> 241623 | D22: =C22/B22 -> 1.0095387 | E22: =SUM(E3:E21) -> 1074320 | F22: =SUM(F3:F21) -> 1061475 | G22: =F22/E22 -> 0.9880436 | H22: =SUM(H3:H21) -> 330738300 | I22: =SUM(I3:I21) -> 314726249 | J22: =I22/H22 -> 0.95158695 | L22: =SUM(L3:L21) -> 225642 | M22: =SUM(M3:M21) -> 15981 | N22: =SUM(N3:N21) -> 992457 | O22: =SUM(O3:O21) -> 69018 | P22: =SUM(P3:P21) -> 293258579 | Q22: =SUM(Q3:Q21) -> 21467670
A24: Allergológia | B24: 1465 | C24: =L24+M24 -> 1563 | D24: =C24/B24 -> 1.0668942 | E24: 17350 | F24: =N24+O24 -> 19589 | G24: =F24/E24 -> 1.129049 | H24: 6380000 | I24: =P24+Q24 -> 6479354 | J24: =I24/H24 -> 1.0155727 | L24: 1487 | M24: 76 | N24: 18564 | O24: 1025 | P24: 6145744 | Q24: 333610
A25: Bőrgyógyászat | B25: 14800 | C25: =L25+M25 -> 13927 | D25: =C25/B25 -> 0.94101351 | E25: 51490 | F25: =N25+O25 -> 67608 | G25: =F25/E25 -> 1.3130317 | H25: 19900000 | I25: =P25+Q25 -> 16027394 | J25: =I25/H25 -> 0.80539668 | L25: 13197 | M25: 730 | N25: 64004 | O25: 3604 | P25: 15192687 | Q25: 834707
A26: Fizikoterápia | B26: 23600 | C26: =L26+M26 -> 29096 | D26: =C26/B26 -> 1.2328814 | E26: 79600 | F26: =N26+O26 -> 71549 | G26: =F26/E26 -> 0.89885678 | H26: 21100000 | I26: =P26+Q26 -> 16138028 | J26: =I26/H26 -> 0.76483545 | L26: 27466 | M26: 1630 | N26: 67476 | O26: 4073 | P26: 15238353 | Q26: 899675
A27: Fül-orr-gége | B27: 10170 | C27: =L27+M27 -> 11321 | D27: =C27/B27 -> 1.113176 | E27: 30030 | F27: =N27+O27 -> 37598 | G27: =F27/E27 -> 1.2520147 | H27: 9660000 | I27: =P27+Q27 -> 10873192 | J27: =I27/H27 -> 1.1255892 | L27: 10506 | M27: 815 | N27: 34820 | O27: 2778 | P27: 10043498 | Q27: 829694
A28: Gyógytorna | B28: 20800 | C28: =L28+M28 -> 17610 | D28: =C28/B28 -> 0.84663462 | E28: 135000 | F28: =N28+O28 -> 118650 | G28: =F28/E28 -> 0.87888889 | H28: 19200000 | I28: =P28+Q28 -> 15783482 | J28: =I28/H28 -> 0.82205635 | L28: 16359 | M28: 1251 | N28: 109299 | O28: 9351 | P28: 14434979 | Q28: 1348503
A29: Ideggyógyászat | B29: 9100 | C29: =L29+M29 -> 9353 | D29: =C29/B29 -> 1.0278022 | E29: 45500 | F29: =N29+O29 -> 58299 | G29: =F29/E29 -> 1.2812967 | H29: 12700000 | I29: =P29+Q29 -> 16212888 | J29: =I29/H29 -> 1.2766054 | L29: 8729 | M29: =471+153 -> 624 | N29: 54487 | O29: =3301+511 -> 3812 | P29: 15130772 | Q29: =842395+239721 -> 1082116
A30: Nőgyógyászat | B30: 11550 | C30: =L30+M30 -> 9684 | D30: =C30/B30 -> 0.83844156 | E30: 41000 | F30: =N30+O30 -> 37847 | G30: =F30/E30 -> 0.92309756 | H30: 15150000 | I30: =P30+Q30 -> 12466638 | J30: =I30/H30 -> 0.8228804 | L30: 8942 | M30: 742 | N30: 34987 | O30: 2860 | P30: 11560304 | Q30: 906334
A31: Reuma | B31: 18450 | C31: =L31+M31 -> 16767 | D31: =C31/B31 -> 0.90878049 | E31: 156700 | F31: =N31+O31 -> 140723 | G31: =F31/E31 -> 0.89804084 | H31: 28450000 | I31: =P31+Q31 -> 25626854 | J31: =I31/H31 -> 0.90076815 | L31: 15558 | M31: 1209 | N31: 129995 | O31: 10728 | P31: 23652903 | Q31: 1973951
A32: Szemészet | B32: 12550 | C32: =L32+M32 -> 12262 | D32: =C32/B32 -> 0.97705179 | E32: 125500 | F32: =N32+O32 -> 128182 | G32: =F32/E32 -> 1.0213705 | H32: 22214000 | I32: =P32+Q32 -> 20339852 | J32: =I32/H32 -> 0.91563212 | L32: 11406 | M32: 856 | N32: 119156 | O32: 9026 | P32: 18914210 | Q32: 1425642
A33: Urológia | B33: 12100 | C33: =L33+M33 -> 13309 | D33: =C33/B33 -> 1.0999174 | E33: 42700 | F33: =N33+O33 -> 40218 | G33: =F33/E33 -> 0.94187354 | H33: 16000000 | I33: =P33+Q33 -> 14066413 | J33: =I33/H33 -> 0.87915081 | L33: 12297 | M33: 1012 | N33: 36995 | O33: 3223 | P33: 13002261 | Q33: 1064152
A34: Visegrádi u. összesen | B34: =SUM(B24:B33) -> 134585 | C34: =SUM(C24:C33) -> 134892 | D34: =C34/B34 -> 1.0022811 | E34: =SUM(E24:E33) -> 724870 | F34: =SUM(F24:F33) -> 720263 | G34: =F34/E34 -> 0.99364438 | H34: =SUM(H24:H33) -> 170754000 | I34: =SUM(I24:I33) -> 154014095 | J34: =I34/H34 -> 0.90196479 | L34: =SUM(L24:L33) -> 125947 | M34: =SUM(M24:M33) -> 8945 | N34: =SUM(N24:N33) -> 669783 | O34: =SUM(O24:O33) -> 50480 | P34: =SUM(P24:P33) -> 143315711 | Q34: =SUM(Q24:Q33) -> 10698384
A36: Járóbeteg összesen | B36: =SUM(B22,B34) -> 373925 | C36: =SUM(C34,C22) -> 376515 | D36: =C36/B36 -> 1.0069265 | E36: =SUM(E22,E34) -> 1799190 | F36: =SUM(F34,F22) -> 1781738 | G36: =F36/E36 -> 0.99030008 | H36: =SUM(H22,H34) -> 501492300 | I36: =SUM(I34,I22) -> 468740344 | J36: =I36/H36 -> 0.93469101 | L36: =SUM(L34,L22) -> 351589 | M36: =SUM(M34,M22) -> 24926 | N36: =SUM(N34,N22) -> 1662240 | O36: =SUM(O34,O22) -> 119498 | P36: =SUM(P34,P22) -> 436574290 | Q36: =SUM(Q34,Q22) -> 32166054
A38: Labor | B38: 75000 | C38: =L38+M38 -> 72541 | D38: =C38/B38 -> 0.96721333 | E38: 1170000 | F38: =N38+O38 -> 1308692 | G38: =F38/E38 -> 1.1185402 | H38: 215000000 | I38: =P38+Q38 -> 220917677 | J38: =I38/H38 -> 1.0275241 | L38: 67371 | M38: 5170 | N38: 1220145 | O38: 88547 | P38: 205833556 | Q38: 15084121
A40: Fogászat | B40: 6710 | C40: =L40+M40 -> 6940 | D40: =C40/B40 -> 1.0342772 | E40: 16450 | F40: =N40+O40 -> 15084 | G40: =F40/E40 -> 0.91696049 | H40: 7930000 | I40: =P40+Q40 -> 6414430 | J40: =I40/H40 -> 0.80888146 | L40: 6555 | M40: 385 | N40: 14212 | O40: 872 | P40: 5924230 | Q40: 490200
A42: December hónapban a jelentett teljesítmény szerepel | L42: =SUM(L36,L38,L40) -> 425515 | M42: =SUM(M36,M38,M40) -> 30481 | N42: =SUM(N36,N38,N40) -> 2896597 | O42: =SUM(O36,O38,O40) -> 208917 | P42: =SUM(P36,P38,P40) -> 648332076 | Q42: =SUM(Q36,Q38,Q40) -> 47740375

Sheet 3
A1: Hónap | B1: Elvégzett műtétek száma szakmai bontásban | N1: Jelentett HBCS súly | P1: Műtétek száma
B2: sebészet | D2: ortopédia | F2: szemészet | H2: urológia | J2: nőgyógyászat | L2: fül-orr-gége
B3: 2015 | C3: 2016 | D3: 2015 | E3: 2016 | F3: 2015 | G3: 2016 | H3: 2015 | I3: 2016 | J3: 2015 | K3: 2016 | L3: 2015 | M3: 2016 | N3: 2015 | O3: 2016 | P3: 2015 | Q3: 2016
A4: Január | B4: 19 | C4: =7+1+2+5+4+2+7+3 -> 31 | D4: 23 | E4: =7+2+3+2 -> 14 | F4: 29 | G4: =11+20+1 -> 32 | H4: 10 | I4: =2+3 -> 5 | J4: 8 | K4: =4+2 -> 6 | L4: 1 | M4: =3 -> 3 | N4: 45.58786 | O4: =47.33702+0.53028 -> 47.8673 | P4: =SUM(B4,D4,F4,H4,J4,L4) -> 90 | Q4: =SUM(C4,E4,G4,I4,K4,M4) -> 91
A5: Február | B5: 23 | C5: =4+1+2+3+2+2+1+1+2 -> 18 | D5: 26 | E5: =7+1+5+3+1 -> 17 | F5: 24 | G5: =9+36+3 -> 48 | H5: 7 | I5: =1+1+1 -> 3 | J5: 11 | K5: =6+7+4+1 -> 18 | L5: 3 | M5: =1+1 -> 2 | N5: 48.35071 | O5: =53.36523+1.51261 -> 54.87784 | P5: =SUM(B5,D5,F5,H5,J5,L5) -> 94 | Q5: =SUM(C5,E5,G5,I5,K5,M5) -> 106
A6: Március | B6: 27 | C6: =8+2+1+4+5+1+2+1+3+1+1+1+1 -> 31 | D6: 29 | E6: =6+8+3+3+1+2+3+2 -> 28 | F6: 29 | G6: =1+22 -> 23 | H6: 6 | I6: =3+1+2 -> 6 | J6: 16 | K6: =2+1+4+2+1 -> 10 | L6: 1 | M6: =1+2 -> 3 | N6: 52.7316 | O6: =40.2824+11.78998 -> 52.07238 | P6: =SUM(B6,D6,F6,H6,J6,L6) -> 108 | Q6: =SUM(C6,E6,G6,I6,K6,M6) -> 101
A7: Április | B7: 25 | C7: =2+2+2+1+5+3+3+3+1 -> 22 | D7: 28 | E7: =6+8+4+2+1+1 -> 22 | F7: 29 | G7: =14+21+1 -> 36 | H7: 7 | I7: =2+1+2+2 -> 7 | J7: 17 | K7: =4+1+4+2+3 -> 14 | L7: 3 | M7: =1 -> 1 | N7: 52.77343 | O7: =51.82707+0.89565 -> 52.72272 | P7: =SUM(B7,D7,F7,H7,J7,L7) -> 109 | Q7: =SUM(C7,E7,G7,I7,K7,M7) -> 102
A8: Május | B8: 30 | C8: =3+3+3+5+1+1+1+2+1+2+1 -> 23 | D8: 23 | E8: =2+5+6+5+1+3+1+1+2 -> 26 | F8: 27 | G8: =8+29+1+1 -> 39 | H8: 6 | I8: =2+3+1 -> 6 | J8: 10 | K8: =2+1+3+2+1 -> 9 | L8: 1 | M8: =2 -> 2 | N8: 51.35147 | O8: =53.87122+3.26892 -> 57.14014 | P8: =SUM(B8,D8,F8,H8,J8,L8) -> 97 | Q8: =SUM(C8,E8,G8,I8,K8,M8) -> 105
A9: Június | B9: 19 | C9: =1+1+1+3+3+2+1+2+2+2 -> 18 | D9: 25 | E9: =1+4+1+10+3+2+4+1+2+1 -> 29 | F9: 35 | G9: =5+19+1 -> 25 | H9: 3 | I9: =1+2+2+1 -> 6 | J9: 15 | K9: =5+1+7+3+4+2 -> 22 | L9: 2 | N9: 49.304 | O9: =49.53403 -> 49.53403 | P9: =SUM(B9,D9,F9,H9,J9,L9) -> 99 | Q9: =SUM(C9,E9,G9,I9,K9,M9) -> 100
A10: Július | B10: 20 | C10: =2+1+4+1+1+1+1+2+1 -> 14 | D10: 23 | E10: =2+7+6+5+1+2+1+2 -> 26 | F10: 30 | G10: =6+21+1 -> 28 | H10: 5 | I10: =1+1+2+1+2 -> 7 | J10: 11 | K10: =1+9+4+2+1+2 -> 19 | M10: =1 -> 1 | N10: 47.97632 | O10: 47.43409 | P10: =SUM(B10,D10,F10,H10,J10,L10) -> 89 | Q10: =SUM(C10,E10,G10,I10,K10,M10) -> 95
A11: Augusztus | B11: 9 | C11: =1+2+1 -> 4 | D11: 26 | E11: =9+3+2+2 -> 16 | F11: 17 | G11: =4+20 -> 24 | H11: 4 | I11: =1 -> 1 | J11: 3 | K11: =6+5+4 -> 15 | N11: 35.5592 | O11: 34.93205 | P11: =SUM(B11,D11,F11,H11,J11,L11) -> 59 | Q11: =SUM(C11,E11,G11,I11,K11,M11) -> 60
A12: Szeptember | B12: 25 | C12: =3+3+1+4+1+3+1+2+5+1+1 -> 25 | D12: 37 | E12: =1+12+11+5+1+4+1 -> 35 | F12: 21 | G12: =6+19+1 -> 26 | H12: 8 | I12: =1+3+1+3 -> 8 | J12: 19 | K12: =3+4+2+1+8+1 -> 19 | L12: 3 | M12: =3 -> 3 | N12: 57.00788 | O12: 60.11179 | P12: =SUM(B12,D12,F12,H12,J12,L12) -> 113 | Q12: =SUM(C12,E12,G12,I12,K12,M12) -> 116
A13: Október | B13: 41 | C13: =5+1+8+5+3+2+5 -> 29 | D13: 30 | E13: =11+15+2+2+5+2 -> 37 | F13: 30 | G13: =12+21 -> 33 | H13: 5 | I13: =1+3+2+2 -> 8 | J13: 14 | K13: =9+4+3+3+13+1+1 -> 34 | L13: 4 | M13: =1 -> 1 | N13: 62.30145 | O13: 70.65325 | P13: =SUM(B13,D13,F13,H13,J13,L13) -> 124 | Q13: =SUM(C13,E13,G13,I13,K13,M13) -> 142
A14: November | B14: 32 | C14: =4+2+2+5+1+2+2+8+3+3 -> 32 | D14: 26 | E14: =4+4+5+2+2+5 -> 22 | F14: 29 | G14: =9+22+1+1 -> 33 | H14: 5 | I14: =1+7+2+1 -> 11 | J14: 15 | K14: =1+9+3+6 -> 19 | L14: 3 | M14: =2+1+1 -> 4 | N14: 54.53269 | O14: =66.41192 -> 66.41192 | P14: =SUM(B14,D14,F14,H14,J14,L14) -> 110 | Q14: =SUM(C14,E14,G14,I14,K14,M14) -> 121
A15: December | B15: 16 | C15: =4+1+4+2+2+3+1 -> 17 | D15: 17 | E15: =6+11+1+2 -> 20 | F15: 24 | G15: =4+18 -> 22 | H15: 7 | I15: =1+5+1 -> 7 | J15: 12 | K15: =6+2 -> 8 | L15: 1 | N15: 40.56431 | O15: 43.50109 | P15: =SUM(B15,D15,F15,H15,J15,L15) -> 77 | Q15: =SUM(C15,E15,G15,I15,K15,M15) -> 74
A16: összesen | B16: =SUM(B4:B15) -> 286 | C16: =SUM(C4:C15) -> 264 | D16: =SUM(D4:D15) -> 313 | E16: =SUM(E4:E15) -> 292 | F16: =SUM(F4:F15) -> 324 | G16: =SUM(G4:G15) -> 369 | H16: =SUM(H4:H15) -> 73 | I16: =SUM(I4:I15) -> 75 | ... Q16: =SUM(Q4:Q15) -> 1213

Sheet 4
B1: 2016-ban jelenthető pontok | C1: 2016-ban jelentett pontok | F1: 2016-ban elfogadott pontok | G1: eltérés a jelentett és jelenthető pontok között
C2: tárgyhavi | D2: hibajavítás | E2: összesen | G2: tárgyhavi | H2: halmozott
A3: november | B3: 43953446 | C3: 43713178 | D3: 21440 | E3: =SUM(C3:D3) -> 43734618 | F3: 43734469 | G3: =E3-B3 -> -218828 | H3: =G3 -> -218828
A4: december | B4: 35961910 | C4: 34406179 | D4: 9215 | E4: =SUM(C4:D4) -> 34415394 | F4: 34503755 | G4: =E4-B4 -> -1546516 | H4: =G4+H3 -> -1765344
A5: január | B5: 37957678 | C5: 39573961 | D5: 10143 | E5: =SUM(C5:D5) -> 39584104 | F5: 39837172 | G5: =E5-B5 -> 1626426 | H5: =G5+H4 -> -138918
A6: február | B6: 41955562 | C6: 42768303 | D6: 17145 | E6: =SUM(C6:D6) -> 42785448 | F6: 42874213 | G6: =E6-B6 -> 829886 | H6: =G6+H5 -> 690968
A7: március | B7: 41955562 | C7: 39836536 | D7: 23223 | E7: =SUM(C7:D7) -> 39859759 | F7: 39966535 | G7: =E7-B7 -> -2095803 | H7: =G7+H6 -> -1404835
A8: április | B8: 41955562 | C8: 44031264 | D8: 9200 | E8: =SUM(C8:D8) -> 44040464 | F8: 44184063 | G8: =E8-B8 -> 2084902 | H8: =G8+H7 -> 680067
A9: május | B9: 41955562 | C9: 43279621 | D9: 4285 | E9: =SUM(C9:D9) -> 43283906 | F9: 43491765 | G9: =E9-B9 -> 1328344 | H9: =G9+H8 -> 2008411
A10: június | B10: 42955562 | C10: 42056333 | D10: 878 | E10: =SUM(C10:D10) -> 42057211 | F10: 42176871 | G10: =E10-B10 -> -898351 | H10: =G10+H9 -> 1110060
A11: július | B11: 32966142 | C11: 29066022 | D11: 26023 | E11: =SUM(C11:D11) -> 29092045 | F11: 29302364 | G11: =E11-B11 -> -3874097 | H11: =G11+H10 -> -2764037
A12: augusztus | B12: 29302297 | C12: 37291346 | D12: 14589 | E12: =SUM(C12:D12) -> 37305935 | F12: =37572418+17665 -> 37590083 | G12: =E12-B12 -> 8003638 | H12: =G12+H11 -> 5239601
A13: szeptember | B13: 40290659 | C13: 40929677 | D13: 21555 | E13: =SUM(C13:D13) -> 40951232 | F13: 40925288 | G13: =E13-B13 -> 660573 | H13: =G13+H12 -> 5900174
A14: október | B14: 38459265 | C14: 39928450 | D14: 6434 | E14: =SUM(C14:D14) -> 39934884 | F14: 39688268 | G14: =E14-B14 -> 1475619 | H14: =G14+H13 -> 7375793
A15: november | B15: 40627871 | C15: 44179482 | D15: 4995 | E15: =SUM(C15:D15) -> 44184477 | F15: 43502423 | G15: =E15-B15 -> 3556606 | H15: =G15+H14 -> 10932399
A16: december | B16: 32627871 | C16: 32166054 | D16: 24613 | E16: =SUM(C16:D16) -> 32190667 | F16: 31644219 | G16: =E16-B16 -> -437204 | H16: =G16+H15 -> 10495195
A17: összesen | B17: =SUM(B3:B16) -> 542924949 | C17: =SUM(C3:C16) -> 553226406 | D17: =SUM(D3:D16) -> 193738 | E17: =SUM(E3:E16) -> 553420144 | F17: =SUM(F3:F16) -> 553421488 | G17: =SUM(G3:G16) -> 10495195

Sheet 5
A1: Megnevezés | C1: 2015. év | F1: 2016 évi terv (adatok e Ft-ban) | I1: 2016. év | L1: 2016. év aránya a tervhez képest
C2: OEP | D2: Saját | E2: Össz. | F2: OEP | G2: Saját | H2: Össz. | I2: OEP | J2: Saját | K2: Össz. | L2: OEP | M2: Saját | N2: Össz.
A3: 1 | B3: Betegellátás bevételei összesen | C3: =SUM(C4:C18) -> 1460847 | D3: =SUM(D4:D18) -> 30094 | E3: =SUM(C3:D3) -> 1490941 | F3: =SUM(F4:F18) -> 1486500 | G3: =SUM(G4:G18) -> 41500 | H3: =SUM(F3:G3) -> 1528000 | I3: =SUM(I4:I18) -> 1559343 | J3: =SUM(J4:J18) -> 38987 | K3: =SUM(I3:J3) -> 1598330 | L3: =I3/F3 -> 1.049003 | M3: =J3/G3 -> 0.93944578 | N3: =K3/H3 -> 1.0460275
B4: - Járóbetegellátás | C4: 724262 | D4: 5037 | E4: =SUM(C4:D4) -> 729299 | F4: 745000 | G4: 8000 | H4: =SUM(F4:G4) -> 753000 | I4: 761420 | J4: 5234 | K4: =SUM(I4:J4) -> 766654 | L4: =I4/F4 -> 1.0220403 | M4: =J4/G4 -> 0.65425 | N4: =K4/H4 -> 1.0181328
B5: - Egynapos sebészet | C5: 87085 | D5: 1151 | E5: =SUM(C5:D5) -> 88236 | F5: 90000 | G5: 1500 | H5: =SUM(F5:G5) -> 91500 | I5: 100766 | J5: 1720 | K5: =SUM(I5:J5) -> 102486 | L5: =I5/F5 -> 1.1196222 | M5: =J5/G5 -> 1.1466667 | N5: =K5/H5 -> 1.1200656
B6: - Sportorvos | D6: 25 | E6: =SUM(C6:D6) -> 25 | H6: =SUM(F6:G6) -> 0 | J6: 43 | K6: =SUM(I6:J6) -> 43
B7: - Labor | C7: 151303 | D7: 528 | E7: =SUM(C7:D7) -> 151831 | F7: 158000 | G7: 2000 | H7: =SUM(F7:G7) -> 160000 | I7: 157626 | J7: 509 | K7: =SUM(I7:J7) -> 158135 | L7: =I7/F7 -> 0.99763291 | M7: =J7/G7 -> 0.2545 | N7: =K7/H7 -> 0.98834375
B8: - Ügyeleti ellátás | C8: 71586 | E8: =SUM(C8:D8) -> 71586 | F8: 70000 | H8: =SUM(F8:G8) -> 70000 | I8: 71579 | K8: =SUM(I8:J8) -> 71579 | L8: =I8/F8 -> 1.0225571 | N8: =K8/H8 -> 1.0225571
B9: - Fogászat | C9: 18056 | D9: 3 | E9: =SUM(C9:D9) -> 18059 | F9: 19000 | H9: =SUM(F9:G9) -> 19000 | I9: 16819 | K9: =SUM(I9:J9) -> 16819 | L9: =I9/F9 -> 0.88521053 | N9: =K9/H9 -> 0.88521053
B10: -Fogászat (privatizált) | C10: 5223 | E10: =SUM(C10:D10) -> 5223 | F10: 5500 | H10: =SUM(F10:G10) -> 5500 | I10: 5734 | K10: =SUM(I10:J10) -> 5734 | L10: =I10/F10 -> 1.0425455 | N10: =K10/H10 -> 1.0425455
B11: - Házi szakorvos | C11: 4590 | I11: 7214 | K11: =SUM(I11:J11) -> 7214
B12: - Házi szakápolás | C12: 9129 | E12: =SUM(C12:D12) -> 9129 | F12: 10000 | H12: =SUM(F12:G12) -> 10000 | I12: 7087 | K12: =SUM(I12:J12) -> 7087 | L12: =I12/F12 -> 0.7087 | N12: =K12/H12 -> 0.7087
B13: - Védőnők | C13: 195897 | E13: =SUM(C13:D13) -> 195897 | F13: 193000 | H13: =SUM(F13:G13) -> 193000 | I13: 220334 | K13: =SUM(I13:J13) -> 220334 | L13: =I13/F13 -> 1.1416269 | N13: =K13/H13 -> 1.1416269
B14: - Iskola, ifjúsági egészségügy | C14: 36787 | E14: =SUM(C14:D14) -> 36787 | F14: 36000 | H14: =SUM(F14:G14) -> 36000 | I14: 38671 | K14: =SUM(I14:J14) -> 38671 | L14: =I14/F14 -> 1.0741944 | N14: =K14/H14 -> 1.0741944
B15: - Foglalkozás-egészségügy | D15: 15762 | E15: =SUM(C15:D15) -> 15762 | G15: 19000 | H15: =SUM(F15:G15) -> 19000 | J15: 17600 | K15: =SUM(I15:J15) -> 17600 | M15: =J15/G15 -> 0.92631579 | N15: =K15/H15 -> 0.92631579
B16: - Menedzser szűrés (szűrővizsgálat) | D16: 7588 | E16: =SUM(C16:D16) -> 7588 | G16: 11000 | H16: =SUM(F16:G16) -> 11000 | J16: 13881 | K16: =SUM(I16:J16) -> 13881 | M16: =J16/G16 -> 1.2619091 | N16: =K16/H16 -> 1.2619091
B17: Jogviszony ellenőrzés | C17: 20228 | E17: =SUM(C17:D17) -> 20228 | F17: 20000 | H17: =SUM(F17:G17) -> 20000 | I17: 20308 | K17: =SUM(I17:J17) -> 20308 | L17: =I17/F17 -> 1.0154 | N17: =K17/H17 -> 1.0154
B18: OEP bértámogatás, EÜ dolg. bérkiegészítés | C18: 136701 | E18: =SUM(C18:D18) -> 136701 | F18: 140000 | H18: =SUM(F18:G18) -> 140000 | I18: 151785 | K18: =SUM(I18:J18) -> 151785 | N18: =K18/H18 -> 1.0841786
A19: 3 | B19: Bérleti díjak bevételei | D19: 102889 | E19: =SUM(C19:D19) -> 102889 | G19: =50115-15977 -> 34138 | H19: =SUM(F19:G19) -> 34138 | J19: 30527 | K19: =SUM(I19:J19) -> 30527 | M19: =J19/G19 -> 0.89422345 | N19: =K19/H19 -> 0.89422345
A20: 4 | B20: Háziorvos praxisüzemeltetés | E20: =SUM(C20:D20) -> 0 | G20: 60885 | H20: =SUM(F20:G20) -> 60885 | J20: 60821 | K20: =SUM(I20:J20) -> 60821 | M20: =J20/G20 -> 0.99894884 | N20: =K20/H20 -> 0.99894884
A21: 5 | B21: Fogorvosi bérleti díj; praxisüzemeltetés | E21: =SUM(C21:D21) -> 0 | G21: 15977 | H21: =SUM(F21:G21) -> 15977 | J21: 15392 | K21: =SUM(I21:J21) -> 15392 | M21: =J21/G21 -> 0.96338487 | N21: =K21/H21 -> 0.96338487
A22: 6 | B22: Továbbszámlázott szolgáltatások bevételei | D22: 12821 | E22: =SUM(C22:D22) -> 12821 | G22: 13000 | H22: =SUM(F22:G22) -> 13000 | J22: 12417 | K22: =SUM(I22:J22) -> 12417 | M22: =J22/G22 -> 0.95515385 | N22: =K22/H22 -> 0.95515385
A23: 7 | B23: Egyéb bevételek (pl. pályázat, stb.) | D23: 4726 | E23: =SUM(C23:D23) -> 4726 | G23: 1000 | H23: =SUM(F23:G23) -> 1000 | J23: 1548 | K23: =SUM(I23:J23) -> 1548 | M23: =J23/G23 -> 1.548 | N23: =K23/H23 -> 1.548
A24: 8 | B24: Saját bevételek összesen | C24: =SUM(C4:C18) -> 1460847 | D24: =SUM(D4:D23) -> 150530 | E24: =SUM(C24:D24) -> 1611377 | F24: =SUM(F4:F18) -> 1486500 | G24: =SUM(G4:G23) -> 166500 | H24: =SUM(F24:G24) -> 1653000 | I24: =SUM(I3,I19:I23) -> 1559343 | J24: =SUM(J3,J19:J23) -> 159692 | K24: =SUM(I24:J24) -> 1719035 | L24: =I24/F24 -> 1.049003 | M24: =J24/G24 -> 0.95911111 | N24: =K24/H24 -> 1.0399486
A25: 9 | B25: Önkormányzati támogatás | E25: 164000 | H25: 140000 | K25: 158556 | N25: =K25/H25 -> 1.1325429
A26: 10 | B26: Pénzforgalom nélküli egyéb bevétel | E26: 92549 | H26: 90000 | K26: 97117 | N26: =K26/H26 -> 1.0790778
A27: 11 | B27: Összes bevétel | C27: =SUM(C24:C26) -> 1460847 | D27: =SUM(D24:D26) -> 150530 | E27: =SUM(E24:E26) -> 1867926 | F27: =SUM(F24:F26) -> 1486500 | G27: =SUM(G24:G26) -> 166500 | H27: =SUM(H24:H26) -> 1883000 | I27: =SUM(I24:I26) -> 1559343 | J27: =SUM(J24:J26) -> 159692 | K27: =SUM(K24:K26) -> 1974708 | L27: =I27/F27 -> 1.049003 | M27: =J27/G27 -> 0.95911111 | N27: =K27/H27 -> 1.0487031

Sheet 6 (állományi)
A1: Szakfeladat | B1: Teljes munkaidő | J1: Részmunkaidő
B2: orvos | D2: felsőfokú végzettségű | F2: szakdolgozó | H2: egyéb | J2: orvos | L2: felsőfokú végzettségű | N2: szakdolgozó | P2: egyéb
B3: 2016 terv | C3: 2016 tény | D3: =B3 -> 2016 terv | E3: =C3 -> 2016 tény | F3: =D3 -> 2016 terv | G3: =E3 -> 2016 tény | H3: =F3 -> 2016 terv | I3: =G3 -> 2016 tény | J3: =H3 -> 2016 terv | K3: =I3 -> 2016 tény | ... Q3: =O3 -> 2016 tény
A4: Igazgatás | D4: 8 | E4: 8 | H4: 9 | I4: 8 | P4: 1.25 | Q4: 2
A5: Otthoni szakápolás | D5: 1 | E5: 1.67 | H5: 1 | I5: 1
A6: Járóbeteg | B6: 37 | C6: 35 | D6: 12 | E6: 11.46 | F6: 96 | G6: 104.21 | H6: 21 | I6: 23 | J6: 15.97 | K6: 22.43 | L6: 0.58 | M6: 0.2 | N6: 12.12 | O6: 10.65 | P6: 2.25 | Q6: 2.25
A7: Egynapos sebészet | B7: 2 | C7: 2 | D7: 1 | E7: 1 | F7: 6 | G7: 6 | H7: 2 | I7: 1.92 | J7: 0.4 | K7: 0.4
A8: Fogászat (szakellátás) | B8: 1 | C8: 1 | F8: 2 | G8: 2
A9: Védőnői szolgálat | D9: 46 | E9: 45
A10: Iskola-egészségügy | B10: 5 | C10: 4
A11: Összesen | B11: =SUM(B4:B10) -> 45 | C11: =SUM(C4:C10) -> 42 | D11: =SUM(D4:D10) -> 68 | E11: =SUM(E4:E10) -> 67.13 | F11: =SUM(F4:F10) -> 104 | G11: =SUM(G4:G10) -> 112.21 | H11: =SUM(H4:H10) -> 33 | I11: =SUM(I4:I10) -> 33.92 | ... Q11: =SUM(Q4:Q10) -> 4.25
A13: Szakfeladat | B13: Közreműködői szerződés | J13: Összesen | R13: Összesen | T13: Megbízási szerződés
B14: orvos | D14: felsőfokú végzettségű | F14: szakdolgozó | H14: egyéb | J14: orvos | L14: felsőfokú végzettségű | N14: szakdolgozó | P14: egyéb
B15: =B3 -> 2016 terv | C15: =C3 -> 2016 tény | D15: =D3 -> 2016 terv | E15: =E3 -> 2016 tény | F15: =F3 -> 2016 terv | G15: =G3 -> 2016 tény | H15: =F15 -> 2016 terv | I15: =G15 -> 2016 tény | J15: =L3 -> 2016 terv | K15: =M3 -> 2016 tény | L15: =N3 -> 2016 terv | M15: =O3 -> 2016 tény | N15: =P3 -> 2016 terv | O15: =Q3 -> 2016 tény | P15: =N15 -> 2016 terv | Q15: =O15 -> 2016 tény | R15: =P15 -> 2016 terv | S15: =Q15 -> 2016 tény | T15: =R15 -> 2016 terv | U15: =S15 -> 2016 tény
A16: Igazgatás | J16: =SUM(B4,J4,B16) -> 0 | L16: =SUM(D4,L4,D16) -> 8 | M16: =SUM(E4,M4,E16) -> 8 | N16: =SUM(F4,N4,F16) -> 0 | O16: =SUM(G4,O4,G16) -> 0 | P16: =SUM(H4,P4,H16) -> 10.25 | Q16: =SUM(I4,Q4,I16) -> 10 | R16: =IF(SUM(J16,L16,N16,P16)>0,SUM(J16,L16,N16,P16),"") -> 18.25 | S16: =IF(SUM(K16,M16,O16,Q16)>0,SUM(K16,M16,O16,Q16),"") -> 18 | T16: 0.5 | U16: 0.4
A17: Otthoni szakápolás | J17: =SUM(B5,J5,B17) -> 0 | L17: =SUM(D5,L5,D17) -> 1 | M17: =SUM(E5,M5,E17) -> 1.67 | N17: =SUM(F5,N5,F17) -> 0 | O17: =SUM(G5,O5,G17) -> 0 | P17: =SUM(H5,P5,H17) -> 1 | Q17: =SUM(I5,Q5,I17) -> 1 | R17: =IF(SUM(J17,L17,N17,P17)>0,SUM(J17,L17,N17,P17),"") -> 2 | S17: =IF(SUM(K17,M17,O17,Q17)>0,SUM(K17,M17,O17,Q17),"") -> 2.67
A18: Járóbeteg | B18: 3.23 | C18: 2.33 | D18: 0.2 | E18: 0.2 | J18: =SUM(B6,J6,B18) -> 56.2 | K18: =C6+K6+C18 -> 59.76 | L18: =SUM(D6,L6,D18) -> 12.78 | M18: =SUM(E6,M6,E18) -> 11.86 | N18: =SUM(F6,N6,F18) -> 108.12 | O18: =SUM(G6,O6,G18) -> 114.86 | P18: =SUM(H6,P6,H18) -> 23.25 | Q18: =SUM(I6,Q6,I18) -> 25.25 | R18: =IF(SUM(J18,L18,N18,P18)>0,SUM(J18,L18,N18,P18),"") -> 200.35 | S18: =IF(SUM(K18,M18,O18,Q18)>0,SUM(K18,M18,O18,Q18),"") -> 211.73 | T18: 0.4 | U18: 1.4
A19: Egynapos sebészet | J19: =SUM(B7,J7,B19) -> 2.4 | K19: =C7+K7+C19 -> 2.4 | L19: =SUM(D7,L7,D19) -> 1 | M19: =SUM(E7,M7,E19) -> 1 | N19: =SUM(F7,N7,F19) -> 6 | O19: =SUM(G7,O7,G19) -> 6 | P19: =SUM(H7,P7,H19) -> 2 | Q19: =SUM(I7,Q7,I19) -> 1.92 | R19: =IF(SUM(J19,L19,N19,P19)>0,SUM(J19,L19,N19,P19),"") -> 11.4 | S19: =IF(SUM(K19,M19,O19,Q19)>0,SUM(K19,M19,O19,Q19),"") -> 11.32
A20: Fogászat (szakellátás) | B20: 1 | C20: 1 | J20: =SUM(B8,J8,B20) -> 2 | K20: =C8+K8+C20 -> 2 | L20: =SUM(D8,L8,D20) -> 0 | M20: =SUM(E8,M8,E20) -> 0 | N20: =SUM(F8,N8,F20) -> 2 | O20: =SUM(G8,O8,G20) -> 2 | P20: =SUM(H8,P8,H20) -> 0 | Q20: =SUM(I8,Q8,I20) -> 0 | R20: =IF(SUM(J20,L20,N20,P20)>0,SUM(J20,L20,N20,P20),"") -> 4 | S20: =IF(SUM(K20,M20,O20,Q20)>0,SUM(K20,M20,O20,Q20),"") -> 4
A21: Védőnői szolgálat | J21: =SUM(B9,J9,B21) -> 0 | K21: =C9+K9+C21 -> 0 | L21: =SUM(D9,L9,D21) -> 46 | M21: =SUM(E9,M9,E21) -> 45 | N21: =SUM(F9,N9,F21) -> 0 | O21: =SUM(G9,O9,G21) -> 0 | P21: =SUM(H9,P9,H21) -> 0 | Q21: =SUM(I9,Q9,I21) -> 0 | R21: =IF(SUM(J21,L21,N21,P21)>0,SUM(J21,L21,N21,P21),"") -> 46 | S21: =IF(SUM(K21,M21,O21,Q21)>0,SUM(K21,M21,O21,Q21),"") -> 45 | T21: 0.2 | U21: 0.2
A22: Iskola-egészségügy | J22: =SUM(B10,J10,B22) -> 5 | K22: =C10+K10+C22 -> 4 | L22: =SUM(D10,L10,D22) -> 0 | M22: =SUM(E10,M10,E22) -> 0 | N22: =SUM(F10,N10,F22) -> 0 | O22: =SUM(G10,O10,G22) -> 0 | P22: =SUM(H10,P10,H22) -> 0 | Q22: =SUM(I10,Q10,I22) -> 0 | R22: =IF(SUM(J22,L22,N22,P22)>0,SUM(J22,L22,N22,P22),"") -> 5 | S22: =IF(SUM(K22,M22,O22,Q22)>0,SUM(K22,M22,O22,Q22),"") -> 4
A23: Összesen | B23: =SUM(B16:B22) -> 4.23 | C23: =SUM(C16:C22) -> 3.33 | D23: =SUM(D16:D22) -> 0.2 | E23: =SUM(E16:E22) -> 0.2 | F23: =SUM(F16:F22) -> 0 | G23: =SUM(G16:G22) -> 0 | H23: =SUM(H16:H22) -> 0 | I23: =SUM(I16:I22) -> 0 | ... U23: =SUM(U16:U22) -> 2

Sheet 6 (statisztikai)
A1: Szakfeladat | B1: Teljes munkaidő | J1: Részmunkaidő
B2: orvos | D2: felsőfokú végzettségű | F2: szakdolgozó | H2: egyéb | J2: orvos | L2: felsőfokú végzettségű | N2: szakdolgozó | P2: egyéb
B3: 2016 terv | C3: 2016 tény | D3: =B3 -> 2016 terv | E3: =C3 -> 2016 tény | F3: =D3 -> 2016 terv | G3: =E3 -> 2016 tény | H3: =F3 -> 2016 terv | I3: =G3 -> 2016 tény | J3: =H3 -> 2016 terv | K3: =I3 -> 2016 tény | ... Q3: =O3 -> 2016 tény
A4: Igazgatás | D4: 8 | E4: 8 | H4: 9 | I4: 8 | P4: 1.25 | Q4: 2
A5: Otthoni szakápolás | D5: 1 | E5: 0.68 | H5: 1 | I5: 1
A6: Járóbeteg | B6: 37 | C6: 35 | D6: 12 | E6: 10.65 | F6: 96 | G6: 98.16 | H6: 21 | I6: 21.69 | J6: 15.97 | K6: 22.43 | L6: 0.58 | M6: 0.2 | N6: 12.12 | O6: 10.65 | P6: 2.25 | Q6: 2.25
A7: Egynapos sebészet | B7: 2 | C7: 2 | D7: 1 | E7: 1 | F7: 6 | G7: 6 | H7: 2 | I7: 1.8 | J7: 0.4 | K7: 0.95
A8: Fogászat (szakellátás) | B8: 1 | C8: 1 | F8: 2 | G8: 1.84
A9: Védőnői szolgálat | D9: 46 | E9: 42.77
A10: Iskola-egészségügy | B10: 5 | C10: 4
A11: Összesen | B11: =SUM(B4:B10) -> 45 | C11: =SUM(C4:C10) -> 42 | D11: =SUM(D4:D10) -> 68 | E11: =SUM(E4:E10) -> 63.1 | F11: =SUM(F4:F10) -> 104 | G11: =SUM(G4:G10) -> 106 | H11: =SUM(H4:H10) -> 33 | I11: =SUM(I4:I10) -> 32.49 | ... Q11: =SUM(Q4:Q10) -> 4.25
A13: Szakfeladat | B13: Közreműködői szerződés | J13: Összesen | R13: Összesen | T13: Megbízási szerződés
B14: orvos | D14: felsőfokú végzettségű | F14: szakdolgozó | H14: egyéb | J14: orvos | L14: felsőfokú végzettségű | N14: szakdolgozó | P14: egyéb
B15: =B3 -> 2016 terv | C15: =C3 -> 2016 tény | D15: =D3 -> 2016 terv | E15: =E3 -> 2016 tény | F15: =F3 -> 2016 terv | G15: =G3 -> 2016 tény | H15: =F15 -> 2016 terv | I15: =G15 -> 2016 tény | J15: =L3 -> 2016 terv | K15: =M3 -> 2016 tény | L15: =N3 -> 2016 terv | M15: =O3 -> 2016 tény | N15: =P3 -> 2016 terv | O15: =Q3 -> 2016 tény | P15: =N15 -> 2016 terv | Q15: =O15 -> 2016 tény | R15: =P15 -> 2016 terv | S15: =Q15 -> 2016 tény | T15: =R15 -> 2016 terv | U15: =S15 -> 2016 tény
A16: Igazgatás | J16: =SUM(B4,J4,B16) -> 0 | L16: =SUM(D4,L4,D16) -> 8 | M16: =SUM(E4,M4,E16) -> 8 | N16: =SUM(F4,N4,F16) -> 0 | O16: =SUM(G4,O4,G16) -> 0 | P16: =SUM(H4,P4,H16) -> 10.25 | Q16: =SUM(I4,Q4,I16) -> 10 | R16: =IF(SUM(J16,L16,N16,P16)>0,SUM(J16,L16,N16,P16),"") -> 18.25 | S16: =IF(SUM(K16,M16,O16,Q16)>0,SUM(K16,M16,O16,Q16),"") -> 18 | T16: 0.5 | U16: 0.4
A17: Otthoni szakápolás | J17: =SUM(B5,J5,B17) -> 0 | L17: =SUM(D5,L5,D17) -> 1 | M17: =SUM(E5,M5,E17) -> 0.68 | N17: =SUM(F5,N5,F17) -> 0 | O17: =SUM(G5,O5,G17) -> 0 | P17: =SUM(H5,P5,H17) -> 1 | Q17: =SUM(I5,Q5,I17) -> 1 | R17: =IF(SUM(J17,L17,N17,P17)>0,SUM(J17,L17,N17,P17),"") -> 2 | S17: =IF(SUM(K17,M17,O17,Q17)>0,SUM(K17,M17,O17,Q17),"") -> 1.68
A18: Járóbeteg | B18: 3.23 | C18: 2.33 | D18: 0.2 | E18: 0.2 | J18: =SUM(B6,J6,B18) -> 56.2 | K18: =C6+K6+C18 -> 59.76 | L18: =SUM(D6,L6,D18) -> 12.78 | M18: =SUM(E6,M6,E18) -> 11.05 | N18: =SUM(F6,N6,F18) -> 108.12 | O18: =SUM(G6,O6,G18) -> 108.81 | P18: =SUM(H6,P6,H18) -> 23.25 | Q18: =SUM(I6,Q6,I18) -> 23.94 | R18: =IF(SUM(J18,L18,N18,P18)>0,SUM(J18,L18,N18,P18),"") -> 200.35 | S18: =IF(SUM(K18,M18,O18,Q18)>0,SUM(K18,M18,O18,Q18),"") -> 203.56 | T18: 0.4 | U18: 1.4
A19: Egynapos sebészet | J19: =SUM(B7,J7,B19) -> 2.4 | K19: =C7+K7+C19 -> 2.95 | L19: =SUM(D7,L7,D19) -> 1 | M19: =SUM(E7,M7,E19) -> 1 | N19: =SUM(F7,N7,F19) -> 6 | O19: =SUM(G7,O7,G19) -> 6 | P19: =SUM(H7,P7,H19) -> 2 | Q19: =SUM(I7,Q7,I19) -> 1.8 | R19: =IF(SUM(J19,L19,N19,P19)>0,SUM(J19,L19,N19,P19),"") -> 11.4 | S19: =IF(SUM(K19,M19,O19,Q19)>0,SUM(K19,M19,O19,Q19),"") -> 11.75
A20: Fogászat (szakellátás) | B20: 1 | C20: 1 | J20: =SUM(B8,J8,B20) -> 2 | K20: =C8+K8+C20 -> 2 | L20: =SUM(D8,L8,D20) -> 0 | M20: =SUM(E8,M8,E20) -> 0 | N20: =SUM(F8,N8,F20) -> 2 | O20: =SUM(G8,O8,G20) -> 1.84 | P20: =SUM(H8,P8,H20) -> 0 | Q20: =SUM(I8,Q8,I20) -> 0 | R20: =IF(SUM(J20,L20,N20,P20)>0,SUM(J20,L20,N20,P20),"") -> 4 | S20: =IF(SUM(K20,M20,O20,Q20)>0,SUM(K20,M20,O20,Q20),"") -> 3.84
A21: Védőnői szolgálat | J21: =SUM(B9,J9,B21) -> 0 | L21: =SUM(D9,L9,D21) -> 46 | M21: =SUM(E9,M9,E21) -> 42.77 | N21: =SUM(F9,N9,F21) -> 0 | O21: =SUM(G9,O9,G21) -> 0 | P21: =SUM(H9,P9,H21) -> 0 | Q21: =SUM(I9,Q9,I21) -> 0 | R21: =IF(SUM(J21,L21,N21,P21)>0,SUM(J21,L21,N21,P21),"") -> 46 | S21: =IF(SUM(K21,M21,O21,Q21)>0,SUM(K21,M21,O21,Q21),"") -> 42.77 | T21: 0.2 | U21: 0.2
A22: Iskola-egészségügy | J22: =SUM(B10,J10,B22) -> 5 | K22: =C10+K10+C22 -> 4 | L22: =SUM(D10,L10,D22) -> 0 | M22: =SUM(E10,M10,E22) -> 0 | N22: =SUM(F10,N10,F22) -> 0 | O22: =SUM(G10,O10,G22) -> 0 | P22: =SUM(H10,P10,H22) -> 0 | Q22: =SUM(I10,Q10,I22) -> 0 | R22: =IF(SUM(J22,L22,N22,P22)>0,SUM(J22,L22,N22,P22),"") -> 5 | S22: =IF(SUM(K22,M22,O22,Q22)>0,SUM(K22,M22,O22,Q22),"") -> 4
A23: Összesen | B23: =SUM(B16:B22) -> 4.23 | C23: =SUM(C16:C22) -> 3.33 | D23: =SUM(D16:D22) -> 0.2 | E23: =SUM(E16:E22) -> 0.2 | F23: =SUM(F16:F22) -> 0 | G23: =SUM(G16:G22) -> 0 | H23: =SUM(H16:H22) -> 0 | I23: =SUM(I16:I22) -> 0 | ... U23: =SUM(U16:U22) -> 2

Sheet 7
C1: 2015. év | F1: 2016 évi terv | I1: 2016. év | L1: 2016. év aránya a tervhez képest
C2: Teljes és Részmunkaidős | D2: További munkaviszony/ Megbízási szerződéses | E2: Összesen | F2: Teljes és Részmunkaidős | G2: További munkaviszony/ Megbízási szerződéses | H2: Összesen | I2: Teljes és Részmunkaidős | J2: További munkaviszony/ Megbízási szerződéses | K2: Összesen | L2: Teljes és Részmunkaidős | M2: További munkaviszony/ Megbízási szerződéses | N2: Összesen
A3: 1 | B3: alapbér | C3: 652594 | D3: 6931 | E3: =SUM(C3:D3) -> 659525 | F3: 680576 | G3: 4824 | H3: =SUM(F3:G3) -> 685400 | I3: 677157 | J3: 8163 | K3: =SUM(I3:J3) -> 685320 | L3: =I3/F3 -> 0.99497631 | M3: =J3/G3 -> 1.6921642 | N3: =K3/H3 -> 0.99988328
B4: bérkompenzáció közhasznú munkavállalóknak | C4: 20045 | E4: =SUM(C4:D4) -> 20045 | H4: =SUM(F4:G4) -> 0 | K4: =SUM(I4:J4) -> 0
B5: OEP bértámogatás | C5: 92491 | E5: =SUM(C5:D5) -> 92491 | F5: 112430 | H5: =SUM(F5:G5) -> 112430 | I5: 91996 | K5: =SUM(I5:J5) -> 91996 | L5: =I5/F5 -> 0.81825136 | N5: =K5/H5 -> 0.81825136
B6: Illetménykiegészítés 2014.11.01.-től (védőnő, iskolaorvos) | C6: 5876 | E6: =SUM(C6:D6) -> 5876 | F6: 36677 | H6: =SUM(F6:G6) -> 36677 | I6: 6190 | K6: =SUM(I6:J6) -> 6190 | L6: =I6/F6 -> 0.16877062 | N6: =K6/H6 -> 0.16877062
B7: Rendszeres ágazati bérpótlék | I7: 36834 | K7: =SUM(I7:J7) -> 36834
B8: EÜ dolgozók OEP bérkiegészítése | C8: 1035 | E8: =SUM(C8:D8) -> 1035 | H8: =SUM(F8:G8) -> 0 | I8: 183 | K8: =SUM(I8:J8) -> 183
A9: 2 | B9: bérpótlékok | C9: 34071 | E9: =SUM(C9:D9) -> 34071 | F9: 33488 | H9: =SUM(F9:G9) -> 33488 | I9: 36514 | K9: =SUM(I9:J9) -> 36514 | L9: =I9/F9 -> 1.0903607 | N9: =K9/H9 -> 1.0903607
B10: Területi pótlék, ágazati pótlék (védőnő) | C10: 12861 | E10: =SUM(C10:D10) -> 12861 | I10: 32430 | K10: =SUM(I10:J10) -> 32430
A11: 3 | B11: túlóra, helyettesítési, készenléti, ügyeleti díj | C11: 2212 | E11: =SUM(C11:D11) -> 2212 | F11: 1116 | H11: =SUM(F11:G11) -> 1116 | I11: 7079 | K11: =SUM(I11:J11) -> 7079 | L11: =I11/F11 -> 6.34319 | N11: =K11/H11 -> 6.34319
A12: 4 | B12: Egynapos sebészeti jutalék | C12: 5555 | E12: =SUM(C12:D12) -> 5555 | F12: 5300 | H12: =SUM(F12:G12) -> 5300 | I12: 5558 | K12: =SUM(I12:J12) -> 5558 | L12: =I12/F12 -> 1.0486792 | N12: =K12/H12 -> 1.0486792
A13: 5 | B13: keresetkiegészítés | C13: 20814 | E13: =SUM(C13:D13) -> 20814 | F13: 26400 | H13: =SUM(F13:G13) -> 26400 | I13: 21444 | K13: =SUM(I13:J13) -> 21444 | L13: =I13/F13 -> 0.81227273 | N13: =K13/H13 -> 0.81227273
B14: OEP eseti keresetkiegésztés | C14: 10849 | E14: =SUM(C14:D14) -> 10849 | H14: =SUM(F14:G14) -> 0 | I14: 10385 | K14: =SUM(I14:J14) -> 10385
A15: 6 | B15: prémium keret | C15: 24918 | E15: =SUM(C15:D15) -> 24918 | F15: 16848 | H15: =SUM(F15:G15) -> 16848 | I15: 25217 | K15: =SUM(I15:J15) -> 25217 | L15: =I15/F15 -> 1.4967355 | N15: =K15/H15 -> 1.4967355
A16: 7 | B16: jutalom | C16: 6893 | E16: =SUM(C16:D16) -> 6893 | H16: =SUM(F16:G16) -> 0 | I16: 6895 | K16: =SUM(I16:J16) -> 6895
A17: 8 | B17: jubileumi jutalom | C17: 4315 | E17: =SUM(C17:D17) -> 4315 | F17: 5795 | H17: =SUM(F17:G17) -> 5795 | I17: 9987 | K17: =SUM(I17:J17) -> 9987 | L17: =I17/F17 -> 1.7233822 | N17: =K17/H17 -> 1.7233822
A18: 9 | B18: végkielégítés, felmentési időre juttatás | C18: 422 | E18: =SUM(C18:D18) -> 422 | H18: =SUM(F18:G18) -> 0 | K18: =SUM(I18:J18) -> 0
B19: munkaviszony megszűnése miatti bér | E19: =SUM(C19:D19) -> 0 | H19: =SUM(F19:G19) -> 0 | K19: =SUM(I19:J19) -> 0 | N19: =SUM(L19:M19) -> 0
A20: 10 | B20: Közhasznú munkavállalók bérköltsége | C20: =SUM(C3:C19) -> 894951 | D20: =SUM(D3:D19) -> 6931 | E20: =SUM(E3:E19) -> 901882 | F20: =SUM(F3:F19) -> 918630 | G20: =SUM(G3:G19) -> 4824 | H20: =SUM(H3:H19) -> 923454 | I20: =SUM(I3:I19) -> 967869 | J20: =SUM(J3:J19) -> 8163 | K20: =SUM(K3:K19) -> 976032 | L20: =I20/F20 -> 1.0536005 | M20: =J20/G20 -> 1.6921642 | N20: =K20/H20 -> 1.0569362
A21: 11 | B21: cafetéria | C21: 25928 | E21: =SUM(C21:D21) -> 25928 | F21: 26750 | H21: =SUM(F21:G21) -> 26750 | I21: 26306 | K21: =SUM(I21:J21) -> 26306 | L21: =I21/F21 -> 0.98340187 | N21: =K21/H21 -> 0.98340187
B22: kultúra utalvány | E22: =SUM(C22:D22) -> 0 | K22: =SUM(I22:J22) -> 0
A23: 12 | B23: továbbképzési hozzájárulás | C23: 953 | E23: =SUM(C23:D23) -> 953 | F23: 2080 | H23: =SUM(F23:G23) -> 2080 | I23: 940 | K23: =SUM(I23:J23) -> 940 | L23: =I23/F23 -> 0.45192308 | N23: =K23/H23 -> 0.45192308
A24: 13 | B24: betegszabadság | C24: 7615 | E24: =SUM(C24:D24) -> 7615 | F24: 8000 | H24: =SUM(F24:G24) -> 8000 | I24: 8271 | K24: =SUM(I24:J24) -> 8271 | L24: =I24/F24 -> 1.033875 | N24: =K24/H24 -> 1.033875
A25: 14 | B25: ruházati költségtérítés | E25: =SUM(C25:D25) -> 0 | H25: =SUM(F25:G25) -> 0 | K25: =SUM(I25:J25) -> 0
A26: 15 | B26: közlekedési költségtérítés | C26: 4746 | E26: =SUM(C26:D26) -> 4746 | F26: 4900 | H26: =SUM(F26:G26) -> 4900 | I26: 5029 | K26: =SUM(I26:J26) -> 5029 | L26: =I26/F26 -> 1.0263265 | N26: =K26/H26 -> 1.0263265
A27: 16 | B27: választott tisztségviselők díja (FB, ügyvezető ig.) | D27: 1890 | E27: =SUM(C27:D27) -> 1890 | G27: 2040 | H27: =SUM(F27:G27) -> 2040 | J27: 1740 | K27: =SUM(I27:J27) -> 1740 | M27: =J27/G27 -> 0.85294118 | N27: =K27/H27 -> 0.85294118
A28: 17 | B28: reprezentáció, egyéb személyi jellegű kifizetés | C28: 1878 | E28: =SUM(C28:D28) -> 1878 | H28: =SUM(F28:G28) -> 0 | I28: 2804 | K28: =SUM(I28:J28) -> 2804
A29: 18 | B29: Szociális jellegű juttatások | C29: 1802 | E29: =SUM(C29:D29) -> 1802 | F29: 2000 | H29: =SUM(F29:G29) -> 2000 | I29: 1775 | K29: =SUM(I29:J29) -> 1775 | L29: =I29/F29 -> 0.8875 | N29: =K29/H29 -> 0.8875
A30: 19 | B30: Táppénz hozzájárulás | C30: 913 | E30: =SUM(C30:D30) -> 913 | H30: =SUM(F30:G30) -> 0 | I30: 1862 | K30: =SUM(I30:J30) -> 1862
A31: 20 | B31: Személyi jellegű egyéb kifizetések | C31: =SUM(C21:C30) -> 43835 | D31: =SUM(D21:D30) -> 1890 | E31: =SUM(E21:E30) -> 45725 | F31: =SUM(F21:F30) -> 43730 | G31: =SUM(G21:G30) -> 2040 | H31: =SUM(H21:H30) -> 45770 | I31: =SUM(I21:I30) -> 46987 | J31: =SUM(J21:J30) -> 1740 | K31: =SUM(K21:K30) -> 48727 | L31: =I31/F31 -> 1.0744798 | N31: =K31/H31 -> 1.0646056
A32: 21 | B32: Személyi juttatások összesen | C32: =SUM(C31,C20) -> 938786 | D32: =SUM(D31,D20) -> 8821 | E32: =SUM(E31,E20) -> 947607 | F32: =SUM(F31,F20) -> 962360 | G32: =SUM(G31,G20) -> 6864 | H32: =SUM(H31,H20) -> 969224 | I32: =SUM(I31,I20) -> 1014856 | J32: =SUM(J31,J20) -> 9903 | K32: =SUM(K31,K20) -> 1024759 | L32: =I32/F32 -> 1.0545492 | M32: =J32/G32 -> 1.4427448 | N32: =K32/H32 -> 1.0572984
A33: 22 | B33: Szociális hozzájárulási adó (Nyugdíjbiztosítási járulék) | C33: 222675 | E33: =SUM(C33:D33) -> 222675 | F33: 232043 | H33: =SUM(F33:G33) -> 232043 | I33: 242332 | K33: =SUM(I33:J33) -> 242332 | L33: =I33/F33 -> 1.0443409 | N33: =K33/H33 -> 1.0443409
B34: Egészségügyi hozzájárulás | C34: 5166 | E34: =SUM(C34:D34) -> 5166 | F34: 5803 | H34: =SUM(F34:G34) -> 5803 | I34: 5385 | K34: =SUM(I34:J34) -> 5385 | L34: =I34/F34 -> 0.92796829 | N34: =K34/H34 -> 0.92796829
B35: Egyszerűsített foglalkoztatásból eredő közteher | D35: 10 | E35: =SUM(C35:D35) -> 10 | J35: 18 | K35: =SUM(I35:J35) -> 18
A36: 28 | B36: Szakképzési hozzájárulás | C36: 2969 | E36: =SUM(C36:D36) -> 2969 | F36: 3000 | H36: =SUM(F36:G36) -> 3000 | I36: 3095 | K36: =SUM(I36:J36) -> 3095 | L36: =I36/F36 -> 1.0316667 | N36: =K36/H36 -> 1.0316667
A37: 29 | B37: Rehabilitációs hozzájárulás | C37: 7002 | E37: =SUM(C37:D37) -> 7002 | F37: 6000 | H37: =SUM(F37:G37) -> 6000 | I37: 5094 | K37: =SUM(I37:J37) -> 5094 | L37: =I37/F37 -> 0.849 | N37: =K37/H37 -> 0.849
A38: 30 | B38: Munkáltató által fizetett SZJA | C38: 5404 | E38: =SUM(C38:D38) -> 5404 | F38: 6390 | H38: =SUM(F38:G38) -> 6390 | I38: 5145 | K38: =SUM(I38:J38) -> 5145 | L38: =I38/F38 -> 0.80516432 | N38: =K38/H38 -> 0.80516432
A39: 31 | B39: Bérbeadás SZJA | C39: 7 | E39: =SUM(C39:D39) -> 7 | H39: =SUM(F39:G39) -> 0 | K39: =SUM(I39:J39) -> 0
A40: 32 | B40: Reprezentáció | C40: 274 | E40: =SUM(C40:D40) -> 274 | F40: 400 | H40: =SUM(F40:G40) -> 400 | I40: 365 | K40: =SUM(I40:J40) -> 365 | L40: =I40/F40 -> 0.9125 | N40: =K40/H40 -> 0.9125
A41: 33 | B41: Bérjárulékok összesen | C41: =SUM(C33:C40) -> 243497 | D41: =SUM(D33:D40) -> 10 | E41: =SUM(E33:E40) -> 243507 | F41: =SUM(F33:F40) -> 253636 | G41: =SUM(G33:G40) -> 0 | H41: =SUM(H33:H40) -> 253636 | I41: =SUM(I33:I40) -> 261416 | J41: =SUM(J33:J40) -> 18 | K41: =SUM(I41:J41) -> 261434 | L41: =I41/F41 -> 1.0306739 | N41: =K41/H41 -> 1.0307448
A42: 34 | B42: Személyi jellegű ráfordítás összesen | C42: =C32+C41 -> 1182283 | D42: =D32+D41 -> 8831 | E42: =E32+E41 -> 1191114 | F42: =F32+F41 -> 1215996 | G42: =G32+G41 -> 6864 | H42: =H32+H41 -> 1222860 | I42: =I32+I41 -> 1276272 | J42: =J32+J41 -> 9921 | K42: =K32+K41 -> 1286193 | L42: =I42/F42 -> 1.0495692 | M42: =J42/G42 -> 1.4453671 | N42: =K42/H42 -> 1.0517909

Sheet 8
A1: Megnevezés | C1: 2015. év | D1: 2016 évi terv | E1: 2016. év | F1: 2016. év aránya a tervhez képest
A2: 1 | B2: Egészségügyi szakmai anyagok | C2: 163568 | D2: 160000 | E2: 167500 | F2: =E2/D2 -> 1.046875
A3: 2 | B3: Gyógyszer felhasználás | C3: 10615 | D3: 13000 | E3: 9881 | F3: =E3/D3 -> 0.76007692
A4: 3 | B4: Irodaszer, nyomtatvány | C4: 9015 | D4: 10000 | E4: 8098 | F4: =E4/D4 -> 0.8098
A5: 4 | B5: Műszaki anyagok felhasználása | C5: 1964 | D5: 2500 | E5: 2303 | F5: =E5/D5 -> 0.9212
A6: 5 | B6: Munkaruha, védőruha | C6: 947 | D6: 1000 | E6: 1489 | F6: =E6/D6 -> 1.489
A7: 6 | B7: Egyéb anyagköltség | C7: 3022 | D7: 2500 | E7: 3415 | F7: =E7/D7 -> 1.366
A8: 7 | B8: Összesen | C8: =SUM(C2:C7) -> 189131 | D8: =SUM(D2:D7) -> 189000 | E8: =SUM(E2:E7) -> 192686 | F8: =E8/D8 -> 1.0195026

Sheet 9
A1: Megnevezés | C1: 2015. év | D1: 2016 évi terv | E1: 2016. év | F1: 2016. év aránya a tervhez képest
A2: 1 | B2: Igénybe veendő egészségügyi szolgáltatások | C2: 52320 | D2: 61356 | E2: 56156 | F2: =E2/D2 -> 0.91524871
A3: 2 | B3: Kommunikációs eszközök működtetése | C3: 6603 | D3: 8000 | E3: 6746 | F3: =E3/D3 -> 0.84325
A4: 3 | B4: Informatikai szolgáltatások, rendszerkövetés, bérszámfejtés | C4: 23548 | D4: 23000 | E4: 23976 | F4: =E4/D4 -> 1.0424348
A5: 4 | B5: Műszaki, karbantartási, takarítási szolgáltatások | C5: 61153 | D5: 53369 | E5: 73145 | F5: =E5/D5 -> 1.3705522
B6: ebből - veszélyes hulladék kezelése | C6: 5112 | D6: 5500 | E6: 5725 | F6: =E6/D6 -> 1.0409091
B7: - takarítás | C7: 17714 | D7: 16140 | E7: 18294 | F7: =E7/D7 -> 1.1334572
B8: - szemétszállítás | C8: 1847 | D8: 2160 | E8: 1863 | F8: =E8/D8 -> 0.8625
B9: - bérleti díj | C9: 11043 | D9: 9520 | E9: 11512 | F9: =E9/D9 -> 1.2092437
A10: 5 | B10: Szegedi út, Visegrádi u. Társasház közös költsége | C10: 98016 | D10: 98015 | E10: 98016 | F10: =E10/D10 -> 1.0000102
A11: 6 | B11: Háziorvosi felnőtt és gyermekügyelet működtetése | C11: 72503 | D11: 69000 | E11: 72502 | F11: =E11/D11 -> 1.0507536
A12: 7 | B12: Közüzemi szolgáltatások igénybevétele (áram, gáz, távhő, víz-csatorna) | C12: 16984 | D12: 20000 | E12: 19135 | F12: =E12/D12 -> 0.95675
A13: 8 | B13: Postai szolgáltatások | C13: 750 | D13: 1000 | E13: 760 | F13: =E13/D13 -> 0.76
A14: 9 | B14: Szakkönyv, folyóirat előfizetés | C14: 956 | D14: 1000 | E14: 694 | F14: =E14/D14 -> 0.694
A15: 10 | B15: Tanfolyamok, továbbképzések költségei | C15: 612 | D15: 700 | E15: 1501 | F15: =E15/D15 -> 2.1442857
A16: 11 | B16: Számlázott szellemi tevékenységek (ügyvéd, könyvvizsgáló, stb.) | C16: 5845 | D16: 6000 | E16: 5900 | F16: =E16/D16 -> 0.98333333
A17: 12 | B17: Rendezvények költségei
A18: 13 | B18: Egyéb igénybevett szakmai szolgáltatás (pályázat, tender, hirdetés) | C18: 11978 | D18: 6500 | E18: 8848 | F18: =E18/D18 -> 1.3612308
B19: Védőnői bérlet | C19: 4715 | D19: 5300 | E19: 4941 | F19: =E19/D19 -> 0.93226415
A20: 15 | B20: Egyéb szolgáltatások költségei (gépjármű műszaki, banki ktg, hatósági díj, vagyon és orvos felelőségbiztosítás) | C20: 9211 | D20: 10000 | E20: 12732 | F20: =E20/D20 -> 1.2732
A21: 15 | B21: Igénybe vett szolgáltatások értéke | C21: =SUM(C10:C20,C2:C5) -> 365194 | D21: =SUM(D10:D20,D2:D5) -> 363240 | E21: =SUM(E10:E20,E2:E5) -> 385052 | F21: =E21/D21 -> 1.0600485
A22: 16 | B22: Eladott (közvetített) szolgáltatások értéke | C22: 7094 | D22: 6000 | E22: 8266 | F22: =E22/D22 -> 1.3776667
A23: 17 | B23: Összesen | C23: =SUM(C21:C22) -> 372288 | D23: =SUM(D21:D22) -> 369240 | E23: =SUM(E21:E22) -> 393318 | F23: =E23/D23 -> 1.0652096

Sheet 10
A1: Megnevezés | C1: 2015. év | D1: 2016 évi terv | E1: 2016. év | F1: 2016. év aránya a tervhez képest
A2: 1 | B2: költségek (ráfordítások) ellentételezése (hgy) | C2: 2465 | D2: 2400 | E2: 2527 | F2: =E2/D2 -> 1.0529167
A3: 2 | B3: Költségvetéssel elszámolt adók illetékek | C3: 1562 | D3: 2000 | E3: 1796 | F3: =E3/D3 -> 0.898
A4: 3 | B4: Tárgyi eszköz értékesítés nettó kivezetés | D4: 500 | F4: =E4/D4 -> 0
A5: 4 | B5: egyéb ki nem emelt ráfordítások | C5: 14553 | D5: 7000 | E5: 13399 | F5: =E5/D5 -> 1.9141429
B6: Összesen | C6: =SUM(C2:C5) -> 18580 | D6: =SUM(D2:D5) -> 11900 | E6: =SUM(E2:E5) -> 17722 | F6: =E6/D6 -> 1.4892437

Sheet 10 (egyenleg)
A1: Megnevezés | B1: 2015. év | C1: 2016 évi terv | D1: 2016. év | E1: 2016. év aránya a tervhez képest
A2: Bérköltség | B2: ='7'!E20 -> 901882 | C2: ='7'!H20 -> 923454 | D2: ='7'!K20 -> 976032 | E2: =D2/C2 -> 1.0569362
A3: Személyi jellegű egyéb kifizetés | B3: ='7'!E31 -> 45725 | C3: ='7'!H31 -> 45770 | D3: ='7'!K31 -> 48727 | E3: =D3/C3 -> 1.0646056
A4: Bérjárulék | B4: ='7'!E41 -> 243507 | C4: ='7'!H41 -> 253636 | D4: ='7'!K41 -> 261434 | E4: =D4/C4 -> 1.0307448
A5: Anyagköltség | B5: ='8'!C8 -> 189131 | C5: ='8'!D8 -> 189000 | D5: ='8'!E8 -> 192686 | E5: =D5/C5 -> 1.0195026
A6: Igénybe vett szolgáltatás | B6: ='9'!C21 -> 365194 | C6: ='9'!D21 -> 363240 | D6: ='9'!E21 -> 385052 | E6: =D6/C6 -> 1.0600485
A7: Eladott (közvetített) szolgáltatás | B7: ='9'!C22 -> 7094 | C7: ='9'!D22 -> 6000 | D7: ='9'!E22 -> 8266 | E7: =D7/C7 -> 1.3776667
A8: Egyéb ráfordítás | B8: ='10'!C6 -> 18580 | C8: ='10'!D6 -> 11900 | D8: ='10'!E6 -> 17722 | E8: =D8/C8 -> 1.4892437
A9: Értékcsökkenés | B9: 112301 | C9: 125000 | D9: 115469 | E9: =D9/C9 -> 0.923752
A10: Összes kiadás | B10: =SUM(B2:B9) -> 1883414 | C10: =SUM(C2:C9) -> 1918000 | D10: =SUM(D2:D9) -> 2005388 | E10: =D10/C10 -> 1.045562
A12: OEP bevétel | B12: ='5'!C3 -> 1460847 | C12: ='5'!F3 -> 1486500 | D12: ='5'!I3 -> 1559343 | E12: =D12/C12 -> 1.049003
A13: járóbeteg | B13: ='5'!C4 -> 724262 | C13: ='5'!F4 -> 745000 | D13: ='5'!I4 -> 761420 | E13: =D13/C13 -> 1.0220403
A14: egynapos sebészet | B14: ='5'!C5 -> 87085 | C14: ='5'!F5 -> 90000 | D14: ='5'!I5 -> 100766 | E14: =D14/C14 -> 1.1196222
A15: labor | B15: ='5'!C7 -> 151303 | C15: ='5'!F7 -> 158000 | D15: ='5'!I7 -> 157626 | E15: =D15/C15 -> 0.99763291
A16: ügyelet | B16: ='5'!C8 -> 71586 | C16: ='5'!F8 -> 70000 | D16: ='5'!I8 -> 71579 | E16: =D16/C16 -> 1.0225571
A17: fogászat | B17: ='5'!C9 -> 18056 | C17: ='5'!F9 -> 19000 | D17: ='5'!I9 -> 16819 | E17: =D17/C17 -> 0.88521053
A18: fogászat (privatizált) | B18: ='5'!C10 -> 5223 | C18: ='5'!F10 -> 5500 | D18: ='5'!I10 -> 5734 | E18: =D18/C18 -> 1.0425455
A19: házi szakorvos | B19: ='5'!C11 -> 4590 | C19: ='5'!F11 -> 0 | D19: ='5'!I11 -> 7214
A20: házi szakápolás | B20: ='5'!C12 -> 9129 | C20: ='5'!F12 -> 10000 | D20: ='5'!I12 -> 7087 | E20: =D20/C20 -> 0.7087
A21: védőnő | B21: ='5'!C13 -> 195897 | C21: ='5'!F13 -> 193000 | D21: ='5'!I13 -> 220334 | E21: =D21/C21 -> 1.1416269
A22: iskola, ifjúsági egészségügy | B22: ='5'!C14 -> 36787 | C22: ='5'!F14 -> 36000 | D22: ='5'!I14 -> 38671 | E22: =D22/C22 -> 1.0741944
A23: Saját betegellátási bevétel | B23: ='5'!D3 -> 30094 | C23: ='5'!G3 -> 41500 | D23: ='5'!J3 -> 38987 | E23: =D23/C23 -> 0.93944578
A24: járóbeteg | B24: ='5'!D4 -> 5037 | C24: ='5'!G4 -> 8000 | D24: ='5'!J4 -> 5234 | E24: =D24/C24 -> 0.65425
A25: egynapos sebészet | B25: ='5'!D5 -> 1151 | C25: ='5'!G5 -> 1500 | D25: ='5'!J5 -> 1720 | E25: =D25/C25 -> 1.1466667
A26: sportorvos | B26: ='5'!D6 -> 25 | C26: ='5'!G6 -> 0 | D26: ='5'!J6 -> 43
A27: labor | B27: ='5'!D7 -> 528 | C27: ='5'!G7 -> 2000 | D27: ='5'!J7 -> 509 | E27: =D27/C27 -> 0.2545
A28: fogászat | B28: ='5'!D9 -> 3
A29: foglalkozás-egészségügyi bevétel | B29: ='5'!D15 -> 15762 | C29: ='5'!G15 -> 19000 | D29: ='5'!J15 -> 17600 | E29: =D29/C29 -> 0.92631579
A30: menedzserszűrés (szűrővizsgálat) | B30: ='5'!D16 -> 7588 | C30: ='5'!G16 -> 11000 | D30: ='5'!J16 -> 13881 | E30: =D30/C30 -> 1.2619091
A31: Betegellátás bevétel | B31: =SUM(B23,B12) -> 1490941 | C31: =SUM(C23,C12) -> 1528000 | D31: =SUM(D23,D12) -> 1598330 | E31: =D31/C31 -> 1.0460275
A32: Jogviszony ellenőrzés | B32: ='5'!C17 -> 20228 | C32: ='5'!H17 -> 20000 | D32: ='5'!I17 -> 20308 | E32: =D32/C32 -> 1.0154
A33: OEP bértámogatás, EÜ dolg. bérkiegészítés | B33: ='5'!C18 -> 136701 | C33: ='5'!F18 -> 140000 | D33: ='5'!I18 -> 151785 | E33: =D33/C33 -> 1.0841786
A34: Bérleti díj bevétel | B34: ='5'!D19 -> 102889 | C34: ='5'!H19 -> 34138 | D34: ='5'!J19 -> 30527 | E34: =D34/C34 -> 0.89422345
A35: Házirovos praxisüzemeltetés | C35: ='5'!H20 -> 60885 | D35: ='5'!J20 -> 60821 | E35: =D35/C35 -> 0.99894884
A36: Fogorvosi bérleti díj; praxisüzemeltetés | C36: ='5'!H21 -> 15977 | D36: ='5'!J21 -> 15392 | E36: =D36/C36 -> 0.96338487
A37: Továbbszámlázott bevétel | B37: ='5'!D22 -> 12821 | C37: ='5'!H22 -> 13000 | D37: ='5'!J22 -> 12417 | E37: =D37/C37 -> 0.95515385
A38: Egyéb nem eü bevétel | B38: ='5'!D23 -> 4726 | C38: ='5'!H23 -> 1000 | D38: ='5'!J23 -> 1548 | E38: =D38/C38 -> 1.548
A39: Önkormányzati támogatás | B39: ='5'!E25 -> 164000 | C39: ='5'!H25 -> 140000 | D39: ='5'!K25 -> 158556 | E39: =D39/C39 -> 1.1325429
A40: Pénzforgalom nélküli egyéb bevétel | B40: ='5'!E26 -> 92549 | C40: ='5'!H26 -> 90000 | D40: ='5'!K26 -> 97117 | E40: =D40/C40 -> 1.0790778
A41: Összes bevétel | B41: =SUM(B31:B40)-B32-B33 -> 1867926 | C41: =SUM(C31:C40)-C32-C33 -> 1883000 | D41: =SUM(D31:D40)-D32-D33 -> 1974708 | E41: =D41/C41 -> 1.0487031
A43: Egyenleg | B43: =B41-B10 -> -15488 | C43: =C41-C10 -> -35000 | D43: =D41-D10 -> -30680

Sheet beruházás
D1: 11. sz. melléklet
A3: BERUHÁZÁS 2016.01.01. - 2016.12.31.
C4: Megnevezés | D4: Érték Ft
B5: JÁRÓBETEG
A6: vagyonért.jog
C7: ESET NOD ANTIVIRÚS 1 ÉVES LICENC | D7: 349250
C8: RTG PROGRAM KÉTIRÁNYÚ KAPCS.KIFEJL. | D8: 190500
C9: OFFICE + WINDOWS 10-10 DB | D9: 1214323
E10: 1754073
A12: gép,-müszer
B13: Szegedi Fizikó | C13: INHALÁTOR | D13: 253873
B14: Szegedi út Gyógytorna | C14: LÁBMOZGATÓ BERENDEZÉS | D14: 2431415
B15: Szegedi Egynapos | C15: MÜTŐASZTALHOZ PEDÁL | D15: 186690
C16: FÉNYKÁBEL ÜVEGSZÁLAS | D16: 152044
C17: STORZ ESZKÖZÖK | D17: 2798694
C18: ALTATÓGÉP | D18: 7390130
C19: MÜTŐLÁMPA MENNYEZETI | D19: 3905250
C20: MÜTŐASZTAL | D20: 7448550
B21: Szegedi Sebészet | C21: FÜSTELSZIVÓ KÉSZÜLÉK LÉZERHEZ | D21: 594360
B22: Szegedi Szemészet | C22: FÓLIA HEGESZTŐ | D22: 165100
C23: PRÓBAKERET | D23: 224028
C24: KRITIKUS FÚZIÓS FREKVENCIAMÉRŐ | D24: 233680
C25: HŐLÉGSTERILIZÁLÓ | D25: 260350
B26: Visegrádi Urológia | C26: VIZELET ANALIZÁTOR | D26: 162560
C27: CYSTOSCOPOS TORONY | D27: 7783830
C28: ULTRAHANG KÉSZÜLÉK | D28: 15868650
B29: Visegrádi Szemészet | C29: PRÓBAKERET | D29: 224028
C30: PERIMÉTER | D30: 4914392
C31: HŐLÉGSTERILIZÁLÓ | D31: 260350
B32: Visegrádi Fül-orr-gége | C32: NASOPHARYNGOSZKOP | D32: 2052320
C33: MAROK FÉNYFORRÁS | D33: 116840
C34: KEZELŐEGYSÉG FELÚJÍTÁSA | D34: 1894248
B35: Visegrádi Fizikó | C35: INHALÁTOR | D35: 253873
B36: Szegedi út Fül-orr-gége | C36: OTOACUSTIKUS EMISSZIÓMÉRŐ | D36: 1195070
C37: EMISSZIÓMÉRŐHÖZ NYOMTATÓ | D37: 105410
C38: AUDIOMÉTERHEZ FEJHALLGATÓ+ FEJPÁNT | D38: 55626
C39: ENDOSZKOP 3 DB | D39: 1501140
C40: NASOPHARYNGOSZKOP | D40: 2052320
C41: MAROK FÉNYFORRÁS | D41: 116840
B42: Szegedi Gasztro | C42: FOGÓ BIOPSZIÁS 8 DB | D42: 1178632
C43: H2 KILÉGZÉSI TESZT KÉSZÜLÉK | D43: 756920
C44: SZÁLOPTIKA | D44: 457789
B45: Szegedi RTG | C45: MAMMOGRÁFIÁHOZ HÜTŐEGYSÉG | D45: 2081967
B46: Visegrádi Nőgyógy | C46: HŐLÉGSTERILIZÁLÓ | D46: 260350
B47: Visegrádi Bőrgyógy | C47: HŐLÉGSTERILIZÁLÓ | D47: 260350
E48: =SUM(D13:D47) -> 69597669
A50: ügyvitel,-számt.
C51: SZÁMÍTÓGÉP + MONITOR 10-10 DB | D51: 1725016
C52: NYOMTATÓ 20 DB | D52: 1247140
B53: Szegedi Diabetológia | C53: NYOMTATÓ | D53: 89154
B54: Szegedi Labor | C54: SZÜNETMENTES ÁRAMFORRÁS | D54: 1830134
E55: =SUM(D51:D54) -> 4891444
C57: Járóbeteg összesen: | D57: =SUM(D6:D56) -> 76243186
B66: Központi írányítás
A68: vagyonért.jog | B68: munkaügy | C68: BER-HENYIR ADATSZOLG.INTERFÉSZ | D68: 158750 | E68: 158750
A71: gép-műszer | B71: gondnokság | C71: FŰNYIRÓ GÉP | D71: 141200 | E71: 141200
A73: ügyvit.számt
B74: Igazgatás | C74: MOBIL TELEFONHOZ AUTÓS TARTÓ- TÖLTŐ | D74: 10591
C75: ÜVEGFÓLIA TELEFONHOZ | D75: 3000
C76: SZKENNER | D76: 181610 | E76: =SUM(D74:D76) -> 195201
A78: gépkocsi | B78: gondnokság | C78: akkumulátor | D78: 33290 | E78: 33290
C80: Központi irányítás összesen: | D80: =SUM(D67:D79) -> 528441
B85: Védőnői szolg.
A87: vagyonért.jog
B88: ISKOLA VÉDŐNŐ | C88: MS OFFICE 2016 HOME | D88: 72110
B89: Ipoly u védőnő | C89: SOFTVER 1XVÉDŐNŐ-ről 2-re | D89: 20320 | E89: =SUM(D88:D89) -> 92430
A90: ügyvit.számt.
B91: ISKOLA VÉDŐNŐ | C91: NOTEBOOK | D91: 82525
B92: NŐVÉR U | C92: SWITCH | D92: 54483
E93: =SUM(D91:D92) -> 137008
C95: Központi irányítás összesen: | D95: =SUM(D88:D94) -> 229438
B100: Háziorvos
A102: gép-müszer
B103: Esküvő köz | C103: VÁRÓTERMI PAD 16 DB | D103: 1440320
C106: Központi irányítás összesen: | D106: =SUM(D101:D105) -> 1440320 | E106: 1440320
B111: Fogorvosi ellátás
A113: gép-müszer
B114: Szájsebészet | C114: HŐLÉGSTERILIZÁLÓ | D114: 260350
C117: Központi irányítás összesen: | D117: =SUM(D112:D116) -> 260350 | E117: 260350
B124: Nővér utcai rendelő bútorzata
A126: gép, műszer
B127: Védőnői Szolgálat | C127: HÜTŐSZEKRÉNY 6 DB | D127: 744220
C128: EKG KÉSZÜLÉK | D128: 320040
C129: LÁTÁSVIZSGÁLÓ TÁBLA | D129: 64008
C130: SZÜRŐAUDIOMÉTER 2 DB | D130: 699999
C131: MAGZATI SZÍVHANGVIZSGÁLÓ 2 DB | D131: 264008
C132: SÜRGŐSSÉGI TÁSKA | D132: 61951
C133: KÉZSZÁRÍTÓ 3 DB | D133: 304800
C134: FÜGGÖNY TÉRELVÁLASZTÓ 2 DB | D134: 120420
C135: UTCAI HULLADÉKGYŰJTŐ | D135: 81280
C136: TAKARITÓ KOCSI | D136: 112014
C137: BÚTORZAT | D137: 2885175
C138: Összesen: | D138: =SUM(D127:D137) -> 5657915 | E138: 5657915
A141: gép, műszer
B142: Gyermekorvosi rendelők | C142: HÜTŐSZEKRÉNY 10 DB | D142: 1176020
C143: EKG KÉSZÜLÉK | D143: 320040
C144: LÁTÁSVIZSGÁLÓ TÁBLA 5 DB | D144: 320040
C145: SZÜRŐAUDIOMÉTER | D145: 349999
C146: MAGZATI SZÍVHANGVIZSGÁLÓ | D146: 132003
C147: SÜRGŐSSÉGI TÁSKA 5 DB | D147: 309753
...

Sheet beruházás A
H1: 11/a sz. melléklet
B2: Beszerzés pénzmozgással
A4: 2016.01.01 - 2016.12,31
B5: gép-,müszer | C5: bútor | D5: ügyvitel-,számt. | E5: gépkocsi | F5: vagyonért.jog | G5: épület | H5: összesen
A7: Járóbeteg | B7: 69597669 | D7: 4891444 | F7: 1754073 | H7: =SUM(B7:G7) -> 76243186
A8: Védőnői Szolg. | B8: 2772740 | C8: 2885175 | D8: 137008 | F8: 92430 | H8: =SUM(B8:G8) -> 5887353
A9: Fogászati ell. | B9: 260350 | H9: 260350
A10: központi irányitás | B10: 141200 | D10: 195201 | E10: 33290 | F10: 158750 | H10: =SUM(B10:G10) -> 528441
A11: Gyermekorvosi | B11: 3828479 | C11: 3968202 | H11: =SUM(B11:G11) -> 7796681
A12: Háziorvosi | C12: 1440320 | H12: =SUM(B12:G12) -> 1440320
A13: összesen | B13: =SUM(B7:B11) -> 76600438 | C13: =SUM(C6:C12) -> 8293697 | D13: =SUM(D7:D11) -> 5223653 | E13: 33290 | F13: =SUM(F7:F12) -> 2005253 | G13: =SUM(G7:G12) -> 0 | H13: =SUM(B13:G13) -> 92156331
A19: Beszerzés pénzmozgás nélkül
A21: 2016.01.01 - 2016.12,31
B22: gép-,müszer | C22: bútor | D22: ügyvitel-,számt. | E22: gépkocsi | F22: vagyonért.jog | G22: épület | H22: összesen
A24: Járóbeteg | D24: 1496673 | F24: 180340 | H24: =SUM(D24:G24) -> 1677013
A25: Védőnői Szolg. | B25: 430000 | H25: =SUM(B25:G25) -> 430000
A26: Fogászati ell.
A27: központi irányitás
A28: Gyermekorvosi
A29: Háziorvosi
A30: összesen | B30: =SUM(B24:B28) -> 430000 | C30: =SUM(C23:C29) -> 0 | D30: =SUM(D24:D28) -> 1496673 | E30: 0 | F30: =SUM(F24:F29) -> 180340 | H30: =SUM(H24:H29) -> 2107013
E35: Mindösszesen: | H35: 94263344

Sheet Eredmény
A1: XIII. ker. Egészségügyi Szolgálat Közhasznú Nonprofit Kft.
A2: EREDMÉNYKIMUTATÁS ÖSSZKÖLTSÉG "A"
B4: Megnevezés / E Ft | C4: 2016.01.01 Nyitó | D4: 2016.12.31 Záró
A5: 1 | B5: Belföldi értékesítés nettó árbevétele | C5: 1606657 | D5: 1717489
B6: OEP elszámolás | C6: 1460847 | D6: 1559343
B7: saját tevékenység | C7: 145810 | D7: 158144
A8: 2 | B8: Export értékesítés nettó árbevétele
A9: I. | B9: ÉRTÉKESÍTÉS NETTÓ ÁRBEVÉTELE | C9: =SUM(C5,C8) -> 1606657 | D9: =SUM(D5,D8) -> 1717489
A10: 3 | B10: Saját termelésű készletek állományváltozása
A11: 4 | B11: Saját előállítású eszközök aktívált értéke
A12: II. | B12: AKTÍVÁLT SAJÁT TELJESÍTMÉNYEK ÉRTÉKE
A13: III. | B13: EGYÉB BEVÉTELEK | C13: =SUM(C14:C15) -> 260951 | D13: =SUM(D14:D15) -> 257130
B14: Önkormányzati működési támogatás | C14: 164000 | D14: 158556
B15: Egyéb bevétel | C15: =4402+92549 -> 96951 | D15: 98574
B16: ebből visszaírt értékvesztés
A17: 5 | B17: Anyagköltség | C17: 189131 | D17: 192686
A18: 6 | B18: Igénybe vett szolgáltatások | C18: 355983 | D18: 372320
A19: 7 | B19: Egyéb szolgáltatások értéke | C19: 9211 | D19: 12732
A20: 8 | B20: Eladott áruk beszerzési értéke
A21: 9 | B21: Eladott (közvetített) szolgáltatások értéke | C21: 7094 | D21: 8266
A22: IV. | B22: ANYAGJELLEGŰ RÁFORDÍTÁSOK | C22: =SUM(C17:C21) -> 561419 | D22: =SUM(D17:D21) -> 586004
A23: 10 | B23: Bérköltség | C23: 901882 | D23: 976032
A24: 11 | B24: Személyi jellegű egyéb kifizetések | C24: 45725 | D24: 48727
A25: 12 | B25: Bérjárulékok | C25: 243507 | D25: 261434
A26: V. | B26: SZEMÉLYI JELLEGŰ RÁFORDÍTÁSOK | C26: =SUM(C23:C25) -> 1191114 | D26: =SUM(D23:D25) -> 1286193
A27: VI. | B27: ÉRTÉKCSÖKKENÉSI LEÍRÁS | C27: 112301 | D27: 115469
A28: VII. | B28: EGYÉB RÁFORDÍTÁSOK | C28: 18580 | D28: 17722
B29: ebből értékvesztés
A30: A | B30: ÜZEMI (ÜZLETI) TEVÉKENYSÉG EREDMÉNYE | C30: =C9+C13-C22-C26-C27-C28 -> -15806 | D30: =D9+D13-D22-D26-D27-D28 -> -30769
A31: 13 | B31: Kapott osztalék és részesedés
B32: ebből kapcsolt vállalkozástól kapott
A33: 14 | B33: Részesedésekből származó bevételek, árfolyamnyereségek
B34: ebből kapcsolt vállalkozástól kapott
A35: 15 | B35: Befektetett pénzügyi eszközökből származó bevételek, árfolyamnyereségek
B36: ebből kapcsolt vállalkozástól kapott
A37: 16 | B37: Egyéb kapott kamatok és kamatjellegű bevételek | C37: 318 | D37: 89
B38: ebből kapcsolt vállalkozástól kapott
A39: 17 | B39: Pénzügyi műveletek egyéb bevételei
B40: ebből: értékelési különbözet
A41: VIII. | B41: PÉNZÜGYI MŰVELETEK BEVÉTELEI | C41: =SUM(C31,C33,C35,C37,C39) -> 318 | D41: =SUM(D31,D33,D35,D37,D39) -> 89
A42: 18 | B42: Részesedésekből származó ráfordítások, árfolyamveszteségek
B43: ebből kapcsolt vállalkozásnak adott
A44: 19 | B44: Befektetett pénzügyi eszközökből származó ráfordítások, árfolyamveszteségek
B45: ebből kapcsolt vállalkozásnak adott
A46: 20 | B46: Fizetendő kamatok és kamatjellegű ráfordítások
B47: ebből kapcsolt vállalkozásnak adott
A48: 21 | B48: Részesedések, értékpapírok, bankbetétek értékvesztése
A49: 22 | B49: Pénzügyi műveletek egyéb ráfordításai
B50: ebből: értékelési különbözet
A51: IX. | B51: PÉNZÜGYI MŰVELETEK RÁFORDÍTÁSAI | C51: =SUM(C42,C46,C48,C49) -> 0 | D51: =SUM(D42,D46,D48,D49) -> 0
A52: B | B52: Pénzügyi műveletek eredménye | C52: =C41-C51 -> 318 | D52: =D41-D51 -> 89
A53: C | B53: ADÓZÁS ELŐTTI EREDMÉNY | C53: =C30+C52 -> -15488 | D53: =D30+D52 -> -30680
A54: X | B54: ADÓFIZETÉSI KÖTELEZETTSÉG
A55: D | B55: ADÓZOTT EREDMÉNY | C55: =C53-C54 -> -15488 | D55: =D53-D54 -> -30680

Sheet Eszközök (átsorolás után)
A1: XIII. ker. Egészségügyi Szolgálat Közhasznú Nonprofit Kft.
A2: MÉRLEG "A" változat ESZKÖZÖK
D3: 2016
C4: Megnevezés / E Ft | D4: 2016.01.01 Nyitó | E4: 2016.12.31 Záró
A5: 1 | B5: A | C5: BEFEKTETETT ESZKÖZÖK | D5: =SUM(D6,D14,D22) -> 389459 | E5: =SUM(E6,E14,E22) -> 375106
A6: 2 | B6: I. | C6: IMMATERIÁLIS JAVAK | D6: =SUM(D7:D13) -> 7811 | E6: =SUM(E7:E13) -> 2251
A7: =+A6+1 -> 3 | B7: I.1 | C7: Alapítás-átszervezés aktivált értéke
A8: =+A7+1 -> 4 | B8: I.2 | C8: Kísérleti fejlesztés aktivált értéke
A9: =+A8+1 -> 5 | B9: I.3 | C9: Vagyoni értékű jogok | D9: 7811 | E9: 2251
A10: =+A9+1 -> 6 | B10: I.4 | C10: Szellemi termékek
A11: =+A10+1 -> 7 | B11: I.5 | C11: Üzleti vagy cégérték
A12: =+A11+1 -> 8 | B12: I.6 | C12: Immateriális javakra adott előlegek
A13: =+A12+1 -> 9 | B13: I.7 | C13: Immateriális javak értékhelyesbítése
A14: =+A13+1 -> 10 | B14: II. | C14: TÁRGYI ESZKÖZÖK | D14: =SUM(D15:D21) -> 381648 | E14: =SUM(E15:E21) -> 372855
A15: =+A14+1 -> 11 | B15: II.1 | C15: Ingatlanok és kapcsolódó vagyoni értékű jogok | D15: 45394 | E15: 44384
A16: =+A15+1 -> 12 | B16: II.2 | C16: Műszaki berendezések, gépek, járművek
A17: =+A16+1 -> 13 | B17: II.3 | C17: Egyéb berendezések, felszerelések, járművek | D17: 336254 | E17: 328471
A18: =+A17+1 -> 14 | B18: II.4 | C18: Tenyészállatok
A19: =+A18+1 -> 15 | B19: II.5 | C19: Beruházások
A20: =+A19+1 -> 16 | B20: II.6 | C20: Beruházásokra adott előleg
A21: =+A20+1 -> 17 | B21: II.7 | C21: Tárgyi eszközök értékhelyesbítése
A22: =+A21+1 -> 18 | B22: III. | C22: BEFEKTETETT PÉNZÜGYI ESZKÖZÖK. | D22: =SUM(D23:D32) -> 0 | E22: =SUM(E23:E32) -> 0
A23: =+A22+1 -> 19 | B23: III.1 | C23: Tartós részesedések kapcsolt vállalkozásban
A24: =+A23+1 -> 20 | B24: III.2 | C24: Tartósan adott kölcsön kapcsolt vállalkozásban
A25: =+A24+1 -> 21 | B25: III.3 | C25: Tartós jelentős tulajdoni részesedés
A26: =+A25+1 -> 22 | B26: III.4 | C26: Tartósan adott kölcsön jelentős tulajdoni részesedési viszonyban álló vállalkozásban
A27: =+A26+1 -> 23 | B27: III.5 | C27: Egyéb tartós részesedés
A28: =+A27+1 -> 24 | B28: III.6 | C28: Tartósan adott kölcsön egyéb részesedési viszonyban álló vállalkozásban
A29: =+A28+1 -> 25 | B29: III.7 | C29: Egyéb tartósan adott kölcsön
A30: =+A29+1 -> 26 | B30: III.8 | C30: Tartós hitelviszonyt megtestesítő értékpapír
A31: =+A30+1 -> 27 | B31: III.9 | C31: Befektetett pénzügyi eszközök értékhelyesbítése
A32: =+A31+1 -> 28 | B32: III.10 | C32: Befektetett pénzügyi eszközök értékelési különbözete
A33: =+A32+1 -> 29 | B33: B | C33: FORGÓESZKÖZÖK | D33: =SUM(D34,D41,D57) -> 38163 | E33: =SUM(E34,E41,E57) -> 52126
A34: =+A33+1 -> 30 | B34: I | C34: KÉSZLETEK | D34: =SUM(D35) -> 19219 | E34: =SUM(E35) -> 12310
A35: =+A34+1 -> 31 | B35: I.1 | C35: Anyagok | D35: 19219 | E35: 12310
A36: =+A35+1 -> 32 | B36: I.2 | C36: Befejezetlen termelés és félkész termék
A37: =+A36+1 -> 33 | B37: I.3 | C37: Növendék-, hízó- és egyéb állatok
A38: =+A37+1 -> 34 | B38: I.4 | C38: Késztermékek
A39: =+A38+1 -> 35 | B39: I.5 | C39: Áruk
A40: =+A39+1 -> 36 | B40: I.6 | C40: Készletre adott előlegek
A41: =+A40+1 -> 37 | B41: II. | C41: KÖVETELÉSEK | D41: =SUM(D42:D49) -> 8089 | E41: =SUM(E42:E49) -> 8473
A42: =+A41+1 -> 38 | B42: II.1 | C42: Követelések áruszállításból és szolgáltatásból | D42: 2987 | E42: 3365
A43: =+A42+1 -> 39 | B43: II.2 | C43: Követelések kapcsolt vállalkozással szemben
A44: =+A43+1 -> 40 | B44: II.3 | C44: Követelések jelentős tulajdoni részesedési viszonyban lévő vállalkozásokkal szemben
A45: =+A44+1 -> 41 | B45: II.4 | C45: Követelések egyéb részesedési viszonyban lévő vállalkozással szemben
A46: =+A45+1 -> 42 | B46: II.5 | C46: Váltókövetelések
A47: =+A46+1 -> 43 | B47: II.6 | C47: Egyéb követelések | D47: 5102 | E47: =SUM(4668,440) -> 5108
A48: =+A47+1 -> 44 | B48: II.7 | C48: Követelések értékelési különbözete
A49: =+A48+1 -> 45 | B49: II.8 | C49: Származékos ügyletek pozitív értékelési különbözete
A50: =+A49+1 -> 46 | B50: III. | C50: ÉRTÉKPAPÍROK
A51: =+A50+1 -> 47 | B51: III.1 | C51: Részesedés kapcsolt vállalkozásban
A52: =+A51+1 -> 48 | B52: III.2 | C52: Jelentős tulajdoni részesedés
A53: =+A52+1 -> 49 | B53: III.3 | C53: Egyéb részesedés
A54: =+A53+1 -> 50 | B54: III.4 | C54: Saját részvények és részesedések
A55: =+A54+1 -> 51 | B55: III.5 | C55: Forgatási célú hitelviszonyt megtestesítő értékpapírok
A56: =+A55+1 -> 52 | B56: III.6 | C56: Értékpapírok értékelési különbözete
A57: =+A56+1 -> 53 | B57: IV. | C57: PÉNZESZKÖZÖK | D57: =SUM(D58:D59) -> 10855 | E57: =SUM(E58:E59) -> 31343
A58: =+A57+1 -> 54 | B58: IV.1 | C58: Pénztár, csekkek | D58: 74 | E58: 81
A59: =+A58+1 -> 55 | B59: IV.2 | C59: Bankbetétek | D59: 10781 | E59: 31262
A60: =+A59+1 -> 56 | B60: C | C60: AKTÍV IDŐBELI ELHATÁROLÁSOK | D60: =SUM(D61:D62) -> 178413 | E60: =SUM(E61:E62) -> 203738
A61: =+A60+1 -> 57 | B61: C.1 | C61: Bevételek aktív időbeli elhatárolása | D61: 175428 | E61: 200867
A62: =+A61+1 -> 58 | B62: C.2 | C62: Költségek, ráfordítások aktív időbeli elhatárolása | D62: 2985 | E62: 2871
A63: =+A62+1 -> 59 | B63: C.3 | C63: Halasztott ráfordítások
A64: =+A63+1 -> 60 | C64: ESZKÖZÖK ÖSSZESEN: | D64: =SUM(D5,D33,D60) -> 606035 | E64: =SUM(E5,E33,E60) -> 630970

Sheet Források (átsorolás után)
A1: XIII. ker. Egészségügyi Szolgálat Közhasznú Nonprofit Kft.
A2: MÉRLEG "A" változat FORRÁSOK
D3: 2016
C4: Megnevezés / E Ft | D4: 2016.01.01 Nyitó | E4: 2016.12.31 Záró
A5: 61 | B5: D. | C5: SAJÁT TŐKE | D5: =SUM(D6:D15) -> 185736 | E5: =SUM(E6:E15) -> 155056
A6: =+A5+1 -> 62 | B6: I. | C6: JEGYZETT TŐKE | D6: 5000 | E6: 5000
A7: =+A6+1 -> 63 | C7: ebből visszavásárolt tulajdoni részesedés névértéken
A8: =+A7+1 -> 64 | B8: II. | C8: JEGYZETT, DE MÉG BE NEM FIZ. TŐKE
A9: =+A8+1 -> 65 | B9: III. | C9: TŐKETARTALÉK | D9: 122752 | E9: 122752
A10: =+A9+1 -> 66 | B10: IV. | C10: EREDMÉNYTARTALÉK | D10: 73472 | E10: 57984
A11: =+A10+1 -> 67 | B11: V. | C11: LEKÖTÖTT TARTALÉK
A12: =+A11+1 -> 68 | B12: VI. | C12: ÉRTÉKELÉSI TARTALÉK
A13: =+A12+1 -> 69 | B13: VI.1 | C13: Értékhelyesbítés értékelési tartaléka
A14: =+A13+1 -> 70 | B14: VI.2 | C14: Valós értékelés értékelési tartaléka
A15: =+A14+1 -> 71 | B15: VII. | C15: ADÓZOTT EREDMÉNY | D15: -15488 | E15: -30680
A16: =+A15+1 -> 72 | B16: E. | C16: CÉLTARTALÉKOK
A17: =+A16+1 -> 73 | B17: E.1 | C17: Céltartalék a várható kötelezettségekre
A18: =+A17+1 -> 74 | B18: E.2 | C18: Céltartalék a jövőbeni költségekre
A19: =+A18+1 -> 75 | B19: E.3 | C19: Egyéb céltartalék
A20: =+A19+1 -> 76 | B20: F. | C20: KÖTELEZETTSÉGEK | D20: =SUM(D21,D26,D36) -> 90309 | E20: =SUM(E21,E26,E36) -> 87276
A21: =+A20+1 -> 77 | B21: I. | C21: HÁTRASOROLT KÖTELEZETTSÉGEK
A22: =+A21+1 -> 78 | B22: I.1 | C22: Hátrasorolt kötelezettségek kapcsolt vállalkozással szemben
A23: =+A22+1 -> 79 | B23: I.2 | C23: Hátrasorolt kötelezettségek jelentős tulajdoni viszonyban lévő vállalkozással szemben
A24: =+A23+1 -> 80 | B24: I.3 | C24: Hátrasorolt kötelezettségek egyéb részesedési viszonyban lévő vállalkozással szemben
A25: =+A24+1 -> 81 | B25: I.4 | C25: Hátrasorolt kötelezettségek egyéb gazdálkodóval szemben
A26: =+A25+1 -> 82 | B26: II. | C26: HOSSZÚ LEJÁRATÚ KÖTELEZETTSÉGEK
A27: =+A26+1 -> 83 | B27: II.1 | C27: Hosszú lejáratra kapott kölcsönök
A28: =+A27+1 -> 84 | B28: II.2 | C28: Átváltoztatható kötvény
A29: =+A28+1 -> 85 | B29: II.3 | C29: Tartozások kötvénykibocsátásból
A30: =+A29+1 -> 86 | B30: II.4 | C30: Beruházási és fejlesztési hitelek
A31: =+A30+1 -> 87 | B31: II.5 | C31: Egyéb hosszú lejáratú hitelek
A32: =+A31+1 -> 88 | B32: II.6 | C32: Tartós kötelezettségek kapcsolt vállalkozással szemben
... A35: =+A34+1 -> 91 | B35: II.9 | C35: Egyéb hosszú lejáratú kötelezettségek
A36: =+A35+1 -> 92 | B36: III. | C36: RÖVID LEJÁRATÚ KÖTELEZETTSÉGEK | D36: =SUM(D37:D49) -> 90309 | E36: =SUM(E37:E49) -> 87276
A37: =+A36+1 -> 93 | B37: III.1 | C37: Rövid lejáratú kölcsönök
A38: =+A37+1 -> 94 | C38: ebből az átváltoztatható és átváltozó kötvények
A39: =+A38+1 -> 95 | B39: III.2 | C39: Rövid lejáratú hitelek
A40: =+A39+1 -> 96 | B40: III.3 | C40: Vevőtől kapott előlegek
A41: =+A40+1 -> 97 | B41: III.4 | C41: Kötelezettségek áruszállításból és szolgáltatásból | D41: 39354 | E41: =SUM(19432,440) -> 19872
C42: Kötelezettségek anyavállalattal szemben
A43: =+A41+1 -> 98 | B43: III.5 | C43: Váltótartozások
A44: =+A43+1 -> 99 | B44: III.6 | C44: Rövid lejáratú kötelezettségek kapcsolt vállalkozással szemben
A45: =+A44+1 -> 100 | B45: III.7 | C45: Rövid lejáratú kötelezettségek jelentős tulajdoni viszonyban lévő vállalkozásokkal szemben
A46: =+A45+1 -> 101 | B46: III.8 | C46: Rövid lejáratú kötelezettségek egyéb részesedési viszonyban lévő vállalkozással szemben
A47: =+A46+1 -> 102 | B47: III.9 | C47: Egyéb rövid lejáratú kötelezettségek | D47: 50955 | E47: 67404
A48: =+A47+1 -> 103 | B48: III.10 | C48: Kötelezettségek értékelési különbözete
A49: =+A48+1 -> 104 | B49: III.11 | C49: Származékos ügyletek negatív értékelési különbözete
A50: =+A49+1 -> 105 | B50: G. | C50: PASSZÍV IDŐBELI ELHATÁROLÁSOK | D50: =SUM(D51:D53) -> 329990 | E50: =SUM(E51:E53) -> 388638
A51: =+A50+1 -> 106 | B51: G.1 | C51: Bevételek passzív időbeli elhatárolása | D51: 413 | E51: 50957
A52: =+A51+1 -> 107 | B52: G.2 | C52: Költségek, ráfordítások passzív időbeli elhatárolása | D52: 24758 | E52: 30070
A53: =+A52+1 -> 108 | B53: G.3 | C53: Halasztott bevételek | D53: 304819 | E53: 307611
A54: =+A53+1 -> 109 | C54: FORRÁSOK (PASSZÍVÁK ) ÖSSZESEN: | D54: =SUM(D5,D16,D20,D50) -> 606035 | E54: =SUM(E5,E16,E20,E50) -> 630970

Sheet Szegedi TH
G1: 14. sz. melléklet
A3: Budapest, XIII. kerület Szegedi út 17.sz.Egészségház Társasház
A7: 2016.év
A12: BEVÉTEL eFt
E13: Éves terv | F13: Éves tény | G13: %
A14: Közös költség | E14: 54232 | F14: 57797 | G14: =F14/E14 -> 1.0657361
A18: KIADÁS eFt
E19: Éves terv | F19: Éves tény | G19: %
A20: Közüzemi szolgáltatás | E20: 30552 | F20: 32471 | G20: =F20/E20 -> 1.0628109
A21: Takarítás | E21: 2220 | F21: 2020 | G21: =F21/E21 -> 0.90990991
A22: Őrzés-védelem | E22: 11040 | F22: 9691 | G22: =F22/E22 -> 0.87780797
A23: Ingatlan karbantartás | E23: 5100 | F23: 5957 | G23: =F23/E23 -> 1.1680392
A24: Lift karbantartás | E24: 1584 | F24: 2453 | G24: =F24/E24 -> 1.5486111
A25: Szemétszállítás | E25: 2160 | F25: 2241 | G25: =F25/E25 -> 1.0375
A26: Tranzakciós-bankköltség | E26: 300 | F26: 305 | G26: =F26/E26 -> 1.0166667
A27: Vagyonbiztosítás | E27: 820 | F27: 0 | G27: =F27/E27 -> 0
A28: Jogi tanácsadás-könyvvizsgálat | E28: 306 | F28: 306 | G28: =F28/E28 -> 1
A29: Közös képviseleti díj | E29: 150 | F29: 0 | G29: =F29/E29 -> 0
A30: Összesen: | E30: =SUM(E20:E29) -> 54232 | F30: =SUM(F20:F29) -> 55444 | G30: =F30/E30 -> 1.0223484
E33: Bevétel - Kiadás : | F33: 2353

Sheet Visegrádi TH
G1: 15. sz. melléklet
A3: Budapest, XIII. kerület Visegrádi u. 47/C- Alig u. 9.sz. Egészségház Társasház
A7: 2016. év
A12: BEVÉTEL eFt
E13: Éves terv | F13: Éves tény | G13: %
A14: Közös költség | E14: 43783 | F14: 43707 | G14: =F14/E14 -> 0.99826417
A18: KIADÁS eFt
E19: Éves terv | F19: Éves tény | G19: %
A20: Közüzemi szolgáltatás | E20: 22230 | F20: 21274 | G20: =F20/E20 -> 0.95699505
A21: Takarítás | E21: 2400 | F21: 2038 | G21: =F21/E21 -> 0.84916667
A22: Őrzés-védelem | E22: 13200 | F22: 11771 | G22: =F22/E22 -> 0.89174242
A23: Ingatlan karbantartás | E23: 3530 | F23: 4563 | G23: =F23/E23 -> 1.2926346
A24: Lift karbantartás | E24: 280 | F24: 482 | G24: =F24/E24 -> 1.7214286
A25: Szemétszállítás | E25: 1200 | F25: 1177 | G25: =F25/E25 -> 0.98083333
A26: Tranzakciós-bankköltség | E26: 240 | F26: 246 | G26: =F26/E26 -> 1.025
A27: Vagyonbiztosítás | E27: 247 | F27: 0 | G27: =F27/E27 -> 0
A28: Jogi tanácsadás-könyvvizsgálat | E28: 306 | F28: 306 | G28: =F28/E28 -> 1
A29: Közös képviseleti díj | E29: 150 | F29: 0 | G29: =F29/E29 -> 0
A30: Összesen: | E30: =SUM(E20:E29) -> 43783 | F30: =SUM(F20:F29) -> 41857 | G30: =F30/E30 -> 0.95601032
E33: Bevétel - Kiadás : | F33: 1850

Sheet Munka1

Sheet vis
C1: Fül-orr-gége | D1: Urológia | E1: Reumatológia | F1: Nőgyógyászat | G1: Szemészet | H1: Fizikoterápia | I1: Gyógytorna | J1: Ideggyógyászat | K1: CT | L1: Allergológia | M1: Gyógymasszőr | N1: Bőrgyógyászat | O1: Összesen
A2: Anyag közvetlen | B2: 51 | C2: 388 | D2: 1072 | E2: 355 | F2: 624 | G2: 605 | H2: 618 | I2: 93 | J2: 135 | L2: 515 | M2: 151 | N2: 311 | O2: =SUM(C2:N2) -> 4867
A3: Igénybevett szolgáltatás közvetlen | B3: 52 | C3: 2164 | D3: 2264 | E3: 4231 | F3: 3208 | G3: 3417 | H3: 7618 | I3: 5316 | J3: 3667 | L3: 1405 | M3: 1269 | N3: 3744 | O3: =SUM(C3:N3) -> 38303
A4: Egyéb szolgáltatás és közvetített szolgáltatás értéke közvetlen | B4: 53 | C4: 35 | D4: 109 | E4: 49 | F4: 36 | G4: 49 | H4: 35 | I4: 40 | J4: 48 | K4: 350 | L4: 14 | M4: 1 | N4: 53 | O4: =SUM(C4:N4) -> 819
A5: Bérköltség közvetlen | B5: 54 | C5: 15327 | D5: 17330 | E5: 22002 | F5: 16588 | G5: 24381 | H5: 9995 | I5: 10798 | J5: 19720 | L5: 7159 | M5: 3961 | N5: 16146 | O5: =SUM(C5:N5) -> 163407
A6: Személyi jellegű egyéb kifizetés közvetlen | B6: 55 | C6: 596 | D6: 643 | E6: 1585 | F6: 1049 | G6: 717 | H6: 667 | I6: 1278 | J6: 780 | L6: 227 | M6: 426 | N6: 380 | O6: =SUM(C6:N6) -> 8348
A7: Bérjárulékok közvetlen | B7: 56 | C7: 3947 | D7: 4388 | E7: 5693 | F7: 4278 | G7: 6165 | H7: 2744 | I7: 2977 | J7: 5120 | L7: 1682 | M7: 972 | N7: 4300 | O7: =SUM(C7:N7) -> 42266
A8: ÉCS közvetlen | B8: 57 | C8: 1807 | D8: 606 | E8: 237 | F8: 486 | G8: 1023 | H8: 2705 | I8: 73 | J8: 237 | K8: 67 | L8: 365 | M8: 88 | N8: 944 | O8: =SUM(C8:N8) -> 8638
A9: Eladott, közvetített szolgáltatás értéke közvetlen | B9: 815 | L9: 6 | N9: 1 | O9: =SUM(C9:N9) -> 7
A10: Egyéb ráfordítás közvetlen | B10: 86-88 | O10: =SUM(C10:N10) -> 0
A11: Összes közvetlen ráfordítás | C11: =SUM(C2:C10) -> 24264 | D11: =SUM(D2:D10) -> 26412 | E11: =SUM(E2:E10) -> 34152 | F11: =SUM(F2:F10) -> 26269 | G11: =SUM(G2:G10) -> 36357 | H11: =SUM(H2:H10) -> 24382 | I11: =SUM(I2:I10) -> 20575 | J11: =SUM(J2:J10) -> 29707 | ... N11: =SUM(N2:N10) -> 25879 | O11: =SUM(C11:N11) -> 266655
A12: Anyag közvetett | B12: 51 | C12: 115 | D12: 125 | E12: 162 | F12: 124 | G12: 172 | H12: 116 | I12: 97 | J12: 141 | L12: 54 | M12: 32 | N12: 123 | O12: =SUM(C12:N12) -> 1261
A13: Igénybevett szolgáltatás közvetett | B13: 52 | C13: 453 | D13: 502 | E13: 638 | F13: 495 | G13: 687 | H13: 465 | I13: 397 | J13: 562 | L13: 215 | M13: 130 | N13: 489 | O13: =SUM(C13:N13) -> 5033
A14: Egyéb szolgáltatás és közvetített szolgáltatás értéke közvetett | B14: 53 | C14: 110 | D14: 120 | E14: 156 | F14: 119 | G14: 166 | H14: 111 | I14: 94 | J14: 135 | L14: 51 | M14: 32 | N14: 117 | O14: =SUM(C14:N14) -> 1211
A15: Bérköltség közvetett | B15: 54 | C15: 1718 | D15: 1879 | E15: 2417 | F15: 1864 | G15: 2582 | H15: 1736 | I15: 1469 | J15: 2110 | L15: 808 | M15: 488 | N15: 1837 | O15: =SUM(C15:N15) -> 18908
A16: Személyi jellegű egyéb kifizetés közvetett | B16: 55 | C16: 100 | D16: 113 | E16: 140 | F16: 110 | G16: 152 | H16: 105 | I16: 90 | J16: 125 | L16: 48 | M16: 29 | N16: 108 | O16: =SUM(C16:N16) -> 1120
A17: Bérjárulékok közvetett | B17: 56 | C17: 532 | D17: 583 | E17: 748 | F17: 578 | G17: 800 | H17: 539 | I17: 457 | J17: 654 | L17: 251 | M17: 151 | N17: 570 | O17: =SUM(C17:N17) -> 5863
A18: ÉCS közvetett | B18: 57 | C18: 128 | D18: 139 | E18: 180 | F18: 138 | G18: 191 | H18: 128 | I18: 108 | J18: 156 | L18: 60 | M18: 36 | N18: 136 | O18: =SUM(C18:N18) -> 1400
A19: Eladott, közvetített szolgáltatás értéke közvetett | B19: 815 | C19: 2 | D19: 2 | E19: 2 | F19: 2 | G19: 2 | H19: 1 | I19: 1 | J19: 2 | L19: 1 | N19: 2 | O19: =SUM(C19:N19) -> 17
A20: Egyéb ráfordítás közvetett | B20: 86-88 | C20: 33 | D20: 36 | E20: 47 | F20: 36 | G20: 50 | H20: 33 | I20: 28 | J20: 41 | K20: 1 | L20: 16 | M20: 9 | N20: 35 | O20: =SUM(C20:N20) -> 365
A21: Összes közvetett ráfordítás | C21: =SUM(C12:C20) -> 3191 | D21: =SUM(D12:D20) -> 3499 | E21: =SUM(E12:E20) -> 4490 | F21: =SUM(F12:F20) -> 3466 | G21: =SUM(G12:G20) -> 4802 | H21: =SUM(H12:H20) -> 3234 | I21: =SUM(I12:I20) -> 2741 | J21: =SUM(J12:J20) -> 3926 | ... N21: =SUM(N12:N20) -> 3417 | O21: =SUM(C21:N21) -> 35178
A22: Összes ráfordítás | C22: =SUM(C21,C11) -> 27455 | D22: =SUM(D21,D11) -> 29911 | E22: =SUM(E21,E11) -> 38642 | F22: =SUM(F21,F11) -> 29735 | G22: =SUM(G21,G11) -> 41159 | H22: =SUM(H21,H11) -> 27616 | I22: =SUM(I21,I11) -> 23316 | J22: =SUM(J21,J11) -> 33633 | ... N22: =SUM(N21,N11) -> 29296 | O22: =SUM(C22:N22) -> 301833
A23: Értékesítés nettó árbevétele | B23: 91-94 | C23: 20735 | D23: 26944 | E23: 47457 | F23: 25544 | G23: 40534 | H23: 30009 | I23: 21686 | J23: 32897 | L23: 12574 | M23: 7121 | N23: 32216 | O23: =SUM(C23:N23) -> 297717
A24: -ebből OEP finanszírozás | B24: 9117 | C24: 20524 | D24: 26812 | E24: 47370 | F24: 25479 | G24: 39728 | H24: 29935 | I24: 21647 | J24: 32697 | L24: 12433 | M24: 7109 | N24: 30268 | O24: =SUM(C24:N24) -> 294002
A25: Saját bevétel | B25: (91-94)-9117 | C25: =C23-C24 -> 211 | D25: =D23-D24 -> 132 | E25: =E23-E24 -> 87 | F25: =F23-F24 -> 65 | G25: =G23-G24 -> 806 | H25: =H23-H24 -> 74 | I25: =I23-I24 -> 39 | J25: =J23-J24 -> 200 | ... N25: =N23-N24 -> 1948 | O25: =SUM(C25:N25) -> 3715
A26: Egyéb bevétel | B26: 96 (-9698) | C26: =2737-626 -> 2111 | D26: =4104-1687 -> 2417 | E26: =3351-377 -> 2974 | F26: =3140-802 -> 2338 | G26: =4358-1099 -> 3259 | H26: =4583-2329 -> 2254 | I26: =2196-241 -> 1955 | J26: =3116-442 -> 2674 | L26: =1189-165 -> 1024 | M26: =722-105 -> 617 | N26: =2910-590 -> 2320 | O26: =SUM(C26:N26) -> 23943
A27: -ebből önkormányzati támogatás | B27: 9635 | C27: 2094 | D27: 2398 | E27: 2936 | F27: 2318 | G27: 3231 | H27: 2234 | I27: 1939 | J27: 2652 | L27: 1015 | M27: 612 | N27: 2300 | O27: =SUM(C27:N27) -> 23729
A28: Pénzügyi műveletek bevételei | B28: 97 | C28: 1 | D28: 2 | E28: 2 | F28: 1 | G28: 2 | H28: 1 | I28: 1 | J28: 2 | L28: 1 | N28: 2 | O28: =SUM(C28:N28) -> 15
A29: Pénzforgalom nélküli bevételek | B29: 9698 | C29: 626 | D29: 1687 | E29: 377 | F29: 802 | G29: 1099 | H29: 2329 | I29: 241 | J29: 442 | K29: 100 | L29: 165 | M29: 105 | N29: 590 | O29: =SUM(C29:N29) -> 8563
A30: Összes bevétel | C30: =SUM(C23,C26,C28:C29) -> 23473 | D30: =SUM(D23,D26,D28:D29) -> 31050 | E30: =SUM(E23,E26,E28:E29) -> 50810 | F30: =SUM(F23,F26,F28:F29) -> 28685 | G30: =SUM(G23,G26,G28:G29) -> 44894 | H30: =SUM(H23,H26,H28:H29) -> 34593 | I30: =SUM(I23,I26,I28:I29) -> 23883 | J30: =SUM(J23,J26,J28:J29) -> 36015 | ... N30: =SUM(N23,N26,N28:N29) -> 35128 | O30: =SUM(C30:N30) -> 330238
A31: Eredmény | C31: =C30-C22 -> -3982 | D31: =D30-D22 -> 1139 | E31: =E30-E22 -> 12168 | F31: =F30-F22 -> -1050 | G31: =G30-G22 -> 3735 | H31: =H30-H22 -> 6977 | I31: =I30-I22 -> 567 | J31: =J30-J22 -> 2382 | ... N31: =N30-N22 -> 5832 | O31: =SUM(C31:N31) -> 28405
C34: =ROUND(C32,0) -> 0 | D34: =ROUND(D32,0) -> 0 | E34: =ROUND(E32,0) -> 0 | F34: =ROUND(F32,0) -> 0 | G34: =ROUND(G32,0) -> 0 | H34: =ROUND(H32,0) -> 0 | I34: =ROUND(I32,0) -> 0 | J34: =ROUND(J32,0) -> 0 | ... N34: =ROUND(N32,0) -> 0 | O34: =SUM(C34:M34) -> 0

Sheet szeg
C1: Fül-orr-gége | D1: Urológia | E1: Reumatológia | F1: Nőgyógyászat | G1: Sebészet | H1: Traumatológia | I1: Szemészet | J1: Kardiológia | K1: Fizikoterápia | L1: Gyógytorna | M1: Labor | N1: Ideggyógyászat | O1: ODM szűrés | P1: Oszteoporózis | Q1: Ált. belgyógyászat | R1: RTG | S1: Gyógymasszőr | T1: Belgyógyászat | U1: Ortopédia | V1: Gasztroenterológia | W1: Egynapos sebészet | X1: Audiológia | Y1: Aneszteziológia | Z1: Ultrahang | AA1: OMMF támogatás 2009 | AB1: Inf.terápia | AC1: Összesen
A2: Anyag közvetlen | B2: 51 | C2: 380 | D2: 1183 | E2: 357 | F2: 686 | G2: 7138 | H2: 4221 | I2: 530 | J2: 974 | K2: 608 | L2: 274 | M2: 117576 | N2: 253 | O2: 58 | Q2: 34 | R2: 922 | S2: 224 | T2: 171 | U2: 323 | V2: 3789 | W2: 34834 | AB2: 1352 | AC2: =SUM(C2:AB2) -> 175887
A3: Igénybevett szolgáltatás közvetlen | B3: 52 | C3: 1522 | D3: 2835 | E3: 3329 | F3: 3330 | G3: 7891 | H3: 1822 | I3: 5234 | J3: 4099 | K3: 4677 | L3: 3467 | M3: 17403 | N3: 2029 | O3: 34 | P3: 939 | Q3: 1531 | R3: 6702 | S3: 889 | T3: 925 | U3: 3013 | V3: 2473 | W3: 19980 | X3: 970 | Y3: 663 | Z3: 7923 | AB3: 1740 | AC3: =SUM(C3:AB3) -> 105420
A4: Egyéb szolgáltatás és közvetített szolgáltatás értéke közvetlen | B4: 53 | C4: 35 | D4: 115 | E4: 68 | F4: 29 | G4: 98 | H4: 42 | I4: 56 | J4: 57 | K4: 34 | L4: 47 | M4: 477 | N4: 48 | P4: 7 | Q4: 26 | R4: 143 | S4: 1 | T4: 21 | U4: 35 | V4: 29 | W4: 171 | X4: 7 | Z4: 1 | AB4: 8 | AC4: =SUM(C4:AB4) -> 1555
A5: Bérköltség közvetlen | B5: 54 | C5: 18465 | D5: 14334 | E5: 23524 | F5: 17163 | G5: 45894 | H5: 21065 | I5: 25718 | J5: 29029 | K5: 10361 | L5: 14857 | M5: 69226 | N5: 20056 | P5: 2302 | Q5: 4090 | R5: 65157 | S5: 4222 | T5: 12319 | U5: 14499 | V5: 11344 | W5: 41313 | X5: 4000 | Y5: 168 | AB5: 4724 | AC5: =SUM(C5:AB5) -> 473830
A6: Személyi jellegű egyéb kifizetés közvetlen | B6: 55 | C6: 709 | D6: 962 | E6: 1491 | F6: 1340 | G6: 1982 | H6: 880 | I6: 820 | J6: 905 | K6: 852 | L6: 793 | M6: 5651 | N6: 984 | P6: 70 | Q6: 119 | R6: 2674 | S6: 200 | T6: 365 | U6: 322 | V6: 1090 | W6: 2007 | X6: 321 | AB6: 86 | AC6: =SUM(C6:AB6) -> 24623
A7: Bérjárulékok közvetlen | B7: 56 | C7: 4487 | D7: 3945 | E7: 6060 | F7: 4596 | G7: 11491 | H7: 5197 | I7: 6737 | J7: 7516 | K7: 2944 | L7: 3823 | M7: 18177 | N7: 5647 | P7: 522 | Q7: 969 | R7: 16410 | S7: 995 | T7: 3427 | U7: 3677 | V7: 3306 | W7: 10897 | X7: 1074 | Y7: 41 | AB7: 1202 | AC7: =SUM(C7:AB7) -> 123140
A8: ÉCS közvetlen | B8: 57 | C8: 463 | D8: 3903 | E8: 75 | F8: 2185 | G8: 1348 | H8: 48 | I8: 1386 | J8: 7506 | K8: 1333 | L8: 794 | M8: 2825 | N8: 127 | O8: 29 | P8: 3 | Q8: 6 | R8: 43187 | S8: 10 | T8: 28 | U8: 43 | V8: 6204 | W8: 9453 | X8: 978 | Y8: 21 | Z8: 6 | AA8: 439 | AB8: 101 | AC8: =SUM(C8:AB8) -> 82501
A9: Eladott, közvetített szolgáltatás értéke közvetlen | B9: 815 | C9: 1 | M9: 1 | R9: 4 | W9: 7 | AC9: =SUM(C9:AB9) -> 13
A10: Egyéb ráfordítás közvetlen | B10: 86-88 | AC10: =SUM(C10:AB10) -> 0
A11: Összes közvetlen ráfordítás | C11: =SUM(C2:C10) -> 26062 | D11: =SUM(D2:D10) -> 27277 | E11: =SUM(E2:E10) -> 34904 | F11: =SUM(F2:F10) -> 29329 | G11: =SUM(G2:G10) -> 75842 | H11: =SUM(H2:H10) -> 33275 | I11: =SUM(I2:I10) -> 40481 | J11: =SUM(J2:J10) -> 50086 | ... AC11: =SUM(AC2:AC10) -> 986969
A12: Anyag közvetett | B12: 51 | C12: 123 | D12: 129 | E12: 165 | F12: 139 | G12: 359 | H12: 157 | I12: 192 | J12: 237 | K12: 99 | L12: 114 | M12: 1096 | N12: 138 | P12: 18 | Q12: 32 | R12: 641 | S12: 31 | T12: 82 | U12: 104 | V12: 134 | W12: 562 | X12: 35 | Y12: 4 | Z12: 38 | AB12: 44 | AC12: =SUM(C12:AB12) -> 4673
A13: Igénybevett szolgáltatás közvetett | B13: 52 | C13: 490 | D13: 509 | E13: 662 | F13: 551 | G13: 1437 | H13: 633 | I13: 766 | J13: 947 | K13: 396 | L13: 450 | M13: 4397 | N13: 551 | O13: 2 | P13: 73 | Q13: 130 | R13: 2559 | S13: 124 | T13: 326 | U13: 412 | V13: 532 | W13: 2252 | X13: 140 | Y13: 17 | Z13: 151 | AB13: 179 | AC13: =SUM(C13:AB13) -> 18686
A14: Egyéb szolgáltatás és közvetített szolgáltatás értéke közvetett | B14: 53 | C14: 118 | D14: 124 | E14: 159 | F14: 134 | G14: 345 | H14: 151 | I14: 184 | J14: 228 | K14: 95 | L14: 109 | M14: 1051 | N14: 132 | P14: 18 | Q14: 31 | R14: 615 | S14: 30 | T14: 79 | U14: 100 | V14: 128 | W14: 539 | X14: 34 | Y14: 4 | Z14: 35 | AB14: 42 | AC14: =SUM(C14:AB14) -> 4485
A15: Bérköltség közvetett | B15: 54 | C15: 1849 | D15: 1930 | E15: 2481 | F15: 2079 | G15: 5390 | H15: 2367 | I15: 2876 | J15: 3557 | K15: 1480 | L15: 1703 | M15: 16456 | N15: 2069 | O15: 9 | P15: 274 | Q15: 484 | R15: 9605 | S15: 466 | T15: 1225 | U15: 1554 | V15: 2003 | W15: 8437 | X15: 523 | Y15: 63 | Z15: 565 | AB15: 659 | AC15: =SUM(C15:AB15) -> 70104
A16: Személyi jellegű egyéb kifizetés közvetett | B16: 55 | C16: 109 | D16: 112 | E16: 148 | F16: 122 | G16: 320 | H16: 142 | I16: 171 | J16: 210 | K16: 89 | L16: 99 | M16: 984 | N16: 123 | O16: 1 | P16: 16 | Q16: 30 | R16: 570 | S16: 28 | T16: 72 | U16: 91 | V16: 118 | W16: 503 | X16: 31 | Y16: 4 | Z16: 34 | AB16: 41 | AC16: =SUM(C16:AB16) -> 4168
A17: Bérjárulékok közvetett | B17: 56 | C17: 573 | D17: 598 | E17: 770 | F17: 644 | G17: 1672 | H17: 735 | I17: 892 | J17: 1103 | K17: 459 | L17: 527 | M17: 5107 | N17: 642 | O17: 3 | P17: 85 | Q17: 150 | R17: 2979 | S17: 145 | T17: 380 | U17: 482 | V17: 621 | W17: 2618 | X17: 162 | Y17: 20 | Z17: 175 | AB17: 205 | AC17: =SUM(C17:AB17) -> 21747
A18: ÉCS közvetett | B18: 57 | C18: 137 | D18: 144 | E18: 184 | F18: 154 | G18: 399 | H18: 175 | I18: 213 | J18: 264 | K18: 109 | L18: 127 | M18: 1217 | N18: 153 | O18: 1 | P18: 20 | Q18: 36 | R18: 711 | S18: 34 | T18: 91 | U18: 115 | V18: 148 | W18: 625 | X18: 39 | Y18: 5 | Z18: 42 | AB18: 48 | AC18: =SUM(C18:AB18) -> 5191
A19: Eladott, közvetített szolgáltatás értéke közvetett | B19: 815 | C19: 2 | D19: 2 | E19: 2 | F19: 2 | G19: 5 | H19: 2 | I19: 3 | J19: 3 | K19: 1 | L19: 2 | M19: 15 | N19: 2 | R19: 9 | T19: 1 | U19: 1 | V19: 2 | W19: 8 | Z19: 1 | AC19: =SUM(C19:AB19) -> 63
A20: Egyéb ráfordítás közvetett | B20: 86-88 | C20: 36 | D20: 37 | E20: 48 | F20: 40 | G20: 104 | H20: 46 | I20: 55 | J20: 69 | K20: 28 | L20: 33 | M20: 316 | N20: 40 | O20: 0 | P20: 5 | Q20: 9 | R20: 185 | S20: 9 | T20: 24 | U20: 30 | V20: 39 | W20: 162 | X20: 10 | Y20: 1 | Z20: 11 | AA20: 0 | AB20: 13 | AC20: =SUM(C20:AB20) -> 1350
A21: Összes közvetett ráfordítás | C21: =SUM(C12:C20) -> 3437 | D21: =SUM(D12:D20) -> 3585 | E21: =SUM(E12:E20) -> 4619 | F21: =SUM(F12:F20) -> 3865 | G21: =SUM(G12:G20) -> 10031 | H21: =SUM(H12:H20) -> 4408 | I21: =SUM(I12:I20) -> 5352 | J21: =SUM(J12:J20) -> 6618 | ... AC21: =SUM(AC12:AC20) -> 130467
A22: Összes ráfordítás | C22: =SUM(C21,C11) -> 29499 | D22: =SUM(D21,D11) -> 30862 | E22: =SUM(E21,E11) -> 39523 | F22: =SUM(F21,F11) -> 33194 | G22: =SUM(G21,G11) -> 85873 | H22: =SUM(H21,H11) -> 37683 | I22: =SUM(I21,I11) -> 45833 | J22: =SUM(J21,J11) -> 56704 | ... AC22: =SUM(AC21,AC11) -> 1117436
A23: Értékesítés nettó árbevétele | B23: 91-94 | C23: 21900 | D23: 29206 | E23: 42407 | F23: 30091 | G23: 73573 | H23: 34785 | I23: 41035 | J23: 49188 | K23: 34419 | L23: 34084 | M23: 190481 | N23: 23020 | O23: 197 | P23: 14383 | Q23: 3905 | R23: 60745 | S23: 10415 | T23: 5865 | U23: 20639 | V23: 16150 | W23: 111420 | X23: 5102 | Y23: 2350 | Z23: 58517 | AB23: 535 | AC23: =SUM(C23:AB23) -> 914412
A24: -ebből OEP finanszírozás | B24: 9117 | C24: 21498 | D24: 28447 | E24: 42188 | F24: 29461 | G24: 73255 | H24: 34562 | I24: 39516 | J24: 48772 | K24: 34378 | L24: 34024 | M24: 189540 | N24: 22885 | P24: 14376 | Q24: 3887 | R24: 53886 | S24: 10402 | T24: 5631 | U24: 20492 | V24: 15825 | W24: 109490 | X24: 4976 | Y24: 2349 | Z24: 54361 | AB24: 498 | AC24: =SUM(C24:AB24) -> 894699
A25: Saját bevétel | B25: (91-94)-9117 | C25: =C23-C24 -> 402 | D25: =D23-D24 -> 759 | E25: =E23-E24 -> 219 | F25: =F23-F24 -> 630 | G25: =G23-G24 -> 318 | H25: =H23-H24 -> 223 | I25: =I23-I24 -> 1519 | J25: =J23-J24 -> 416 | ... AB25: =AB23-AB24 -> 37 | AC25: =SUM(C25:AB25) -> 19713
A26: Egyéb bevétel | B26: 96 (-9698) | C26: 2311 | D26: 2361 | E26: 3204 | F26: 2587 | G26: 6862 | H26: 3062 | I26: 3655 | J26: 4504 | K26: 1902 | L26: 2090 | M26: 21688 | N26: 2712 | O26: 12 | P26: 353 | Q26: 641 | R26: 12204 | S26: 602 | T26: 1549 | U26: 1940 | V26: 2561 | W26: 10797 | X26: 677 | Y26: 83 | Z26: 732 | AA26: 0 | AB26: 904 | AC26: =SUM(C26:AB26) -> 89993
A27: -ebből önkormányzati támogatás | B27: 9635 | C27: 2292 | D27: 2342 | E27: 3142 | F27: 2566 | G27: 6803 | H27: 3018 | I27: 3625 | J27: 4464 | K27: 1886 | L27: 2073 | M27: 21509 | N27: 2679 | O27: 12 | P27: 351 | Q27: 635 | R27: 12093 | S27: 596 | T27: 1536 | U27: 1923 | V27: 2488 | W27: 10705 | X27: 671 | Y27: 82 | Z27: 726 | AB27: 883 | AC27: =SUM(C27:AB27) -> 89100
A28: Pénzügyi műveletek bevételei | B28: 97 | C28: 1 | D28: 1 | E28: 2 | F28: 2 | G28: 4 | H28: 2 | I28: 2 | J28: 3 | K28: 1 | L28: 1 | M28: 13 | N28: 1 | R28: 8 | T28: 1 | U28: 1 | V28: 2 | W28: 7 | Z28: 1 | AB28: 1 | AC28: =SUM(C28:AB28) -> 54
A29: Pénzforgalom nélküli bevételek | B29: 9698 | C29: 910 | D29: 3205 | E29: 203 | F29: 299 | G29: 578 | H29: 195 | I29: 1822 | J29: 5280 | K29: 752 | L29: 691 | M29: 3027 | N29: 168 | O29: 1968 | P29: 23 | Q29: 41 | R29: 42255 | S29: 38 | T29: 106 | U29: 124 | V29: 2284 | W29: 7410 | X29: 43 | Y29: 5 | Z29: 47 | AA29: 279 | AB29: 57 | AC29: =SUM(C29:AB29) -> 71810
A30: Összes bevétel | C30: =SUM(C23,C26,C28:C29) -> 25122 | D30: =SUM(D23,D26,D28:D29) -> 34773 | E30: =SUM(E23,E26,E28:E29) -> 45816 | F30: =SUM(F23,F26,F28:F29) -> 32979 | G30: =SUM(G23,G26,G28:G29) -> 81017 | H30: =SUM(H23,H26,H28:H29) -> 38044 | I30: =SUM(I23,I26,I28:I29) -> 46514 | J30: =SUM(J23,J26,J28:J29) -> 58975 | ... AC30: =SUM(AC23,AC26,AC28:AC29) -> 1076269
A31: Eredmény | C31: =C30-C22 -> -4377 | D31: =D30-D22 -> 3911 | E31: =E30-E22 -> 6293 | F31: =F30-F22 -> -215 | G31: =G30-G22 -> -4856 | H31: =H30-H22 -> 361 | I31: =I30-I22 -> 681 | J31: =J30-J22 -> 2271 | ... AC31: =AC30-AC22 -> -41167

Sheet össz. járó
D1: Fül-orr-gége | E1: Urológia | F1: Reumatológia | G1: Nőgyógyászat | H1: Sebészet | I1: Traumatológia | J1: Szemészet | K1: Kardiológia, EKG | L1: Fizikoterápia | M1: Gyógytorna | N1: Labor | O1: Ideggyógyászat | P1: ODM szűrés | Q1: Oszteoporózis | R1: CT | S1: Ált. belgyógyászat | T1: RTG | U1: Allergológia | V1: Gyógymasszőr | W1: Belgyógyászat | X1: Ortopédia | Y1: Bőrgyógyászat | Z1: Gasztroenterológia | AA1: Egynapos sebészet | AB1: Audiológia | AC1: Aneszteziológia | AD1: Ultrahang | AE1: OMMF támogatás 2009 | AF1: Inf.terápia | AG1: Összesen
A2: Anyag közvetlen | B2: Visegrádi | C2: 51 | D2: =IF(vis!C2<>"",vis!C2,"") -> 388 | E2: =IF(vis!D2<>"",vis!D2,"") -> 1072 | F2: =IF(vis!E2<>"",vis!E2,"") -> 355 | G2: =IF(vis!F2<>"",vis!F2,"") -> 624 | J2: =IF(vis!G2<>"",vis!G2,"") -> 605 | L2: =IF(vis!H2<>"",vis!H2,"") -> 618 | M2: =IF(vis!I2<>"",vis!I2,"") -> 93 | O2: =IF(vis!J2<>"",vis!J2,"") -> 135 | R2: =IF(vis!K2<>"",vis!K2,"") | U2: =IF(vis!L2<>"",vis!L2,"") -> 515 | V2: =IF(vis!M2<>"",vis!M2,"") -> 151 | Y2: =IF(vis!N2<>"",vis!N2,"") -> 311 | AG2: =SUM(D2:AF2) -> 4867
B3: Szegedi | D3: =IF(szeg!C2<>"",szeg!C2,"") -> 380 | E3: =IF(szeg!D2<>"",szeg!D2,"") -> 1183 | F3: =IF(szeg!E2<>"",szeg!E2,"") -> 357 | G3: =IF(szeg!F2<>"",szeg!F2,"") -> 686 | H3: =IF(szeg!G2<>"",szeg!G2,"") -> 7138 | I3: =IF(szeg!H2<>"",szeg!H2,"") -> 4221 | J3: =IF(szeg!I2<>"",szeg!I2,"") -> 530 | K3: =IF(szeg!J2<>"",szeg!J2,"") -> 974 | ... Q3: =IF(szeg!P2<>"",szeg!P2,"") | S3: =IF(szeg!Q2<>"",szeg!Q2,"") -> 34 | T3: =IF(szeg!R2<>"",szeg!R2,"") -> 922 | V3: =IF(szeg!S2<>"",szeg!S2,"") -> 224 | W3: =IF(szeg!T2<>"",szeg!T2,"") -> 171 | X3: =IF(szeg!U2<>"",szeg!U2,"") -> 323 | Z3: =IF(szeg!V2<>"",szeg!V2,"") -> 3789 | AA3: =IF(szeg!W2<>"",szeg!W2,"") -> 34834 | AB3: =IF(szeg!X2<>"",szeg!X2,"") | AC3: =IF(szeg!Y2<>"",szeg!Y2,"") | AD3: =IF(szeg!Z2<>"",szeg!Z2,"") | AF3: =IF(szeg!AB2<>"",szeg!AB2,"") -> 1352 | AG3: =SUM(D3:AF3) -> 175887
A4: Igénybevett szolgáltatás közvetlen | B4: Visegrádi | C4: 52 | D4: =IF(vis!C3<>"",vis!C3,"") -> 2164 | E4: =IF(vis!D3<>"",vis!D3,"") -> 2264 | F4: =IF(vis!E3<>"",vis!E3,"") -> 4231 | G4: =IF(vis!F3<>"",vis!F3,"") -> 3208 | J4: =IF(vis!G3<>"",vis!G3,"") -> 3417 | L4: =IF(vis!H3<>"",vis!H3,"") -> 7618 | M4: =IF(vis!I3<>"",vis!I3,"") -> 5316 | O4: =IF(vis!J3<>"",vis!J3,"") -> 3667 | R4: =IF(vis!K3<>"",vis!K3,"") | U4: =IF(vis!L3<>"",vis!L3,"") -> 1405 | V4: =IF(vis!M3<>"",vis!M3,"") -> 1269 | Y4: =IF(vis!N3<>"",vis!N3,"") -> 3744 | AG4: =SUM(D4:AF4) -> 38303
B5: Szegedi | D5: =IF(szeg!C3<>"",szeg!C3,"") -> 1522 | E5: =IF(szeg!D3<>"",szeg!D3,"") -> 2835 | F5: =IF(szeg!E3<>"",szeg!E3,"") -> 3329 | G5: =IF(szeg!F3<>"",szeg!F3,"") -> 3330 | H5: =IF(szeg!G3<>"",szeg!G3,"") -> 7891 | I5: =IF(szeg!H3<>"",szeg!H3,"") -> 1822 | J5: =IF(szeg!I3<>"",szeg!I3,"") -> 5234 | K5: =IF(szeg!J3<>"",szeg!J3,"") -> 4099 | ... Q5: =IF(szeg!P3<>"",szeg!P3,"") -> 939 | S5: =IF(szeg!Q3<>"",szeg!Q3,"") -> 1531 | T5: =IF(szeg!R3<>"",szeg!R3,"") -> 6702 | V5: =IF(szeg!S3<>"",szeg!S3,"") -> 889 | W5: =IF(szeg!T3<>"",szeg!T3,"") -> 925 | X5: =IF(szeg!U3<>"",szeg!U3,"") -> 3013 | Z5: =IF(szeg!V3<>"",szeg!V3,"") -> 2473 | AA5: =IF(szeg!W3<>"",szeg!W3,"") -> 19980 | AB5: =IF(szeg!X3<>"",szeg!X3,"") -> 970 | AC5: =IF(szeg!Y3<>"",szeg!Y3,"") -> 663 | AD5: =IF(szeg!Z3<>"",szeg!Z3,"") -> 7923 | AE5: =IF(szeg!AA3<>"",szeg!AA3,"") | AF5: =IF(szeg!AB3<>"",szeg!AB3,"") -> 1740 | AG5: =SUM(D5:AF5) -> 105420
A6: Egyéb szolgáltatás és közvetített szolgáltatás értéke közvetlen | B6: Visegrádi | C6: 53 | D6: =IF(vis!C4<>"",vis!C4,"") -> 35 | E6: =IF(vis!D4<>"",vis!D4,"") -> 109 | F6: =IF(vis!E4<>"",vis!E4,"") -> 49 | G6: =IF(vis!F4<>"",vis!F4,"") -> 36 | J6: =IF(vis!G4<>"",vis!G4,"") -> 49 | L6: =IF(vis!H4<>"",vis!H4,"") -> 35 | M6: =IF(vis!I4<>"",vis!I4,"") -> 40 | O6: =IF(vis!J4<>"",vis!J4,"") -> 48 | R6: =IF(vis!K4<>"",vis!K4,"") -> 350 | U6: =IF(vis!L4<>"",vis!L4,"") -> 14 | V6: =IF(vis!M4<>"",vis!M4,"") -> 1 | Y6: =IF(vis!N4<>"",vis!N4,"") -> 53 | AG6: =SUM(D6:AF6) -> 819
B7: Szegedi | D7: =IF(szeg!C4<>"",szeg!C4,"") -> 35 | E7: =IF(szeg!D4<>"",szeg!D4,"") -> 115 | F7: =IF(szeg!E4<>"",szeg!E4,"") -> 68 | G7: =IF(szeg!F4<>"",szeg!F4,"") -> 29 | H7: =IF(szeg!G4<>"",szeg!G4,"") -> 98 | I7: =IF(szeg!H4<>"",szeg!H4,"") -> 42 | J7: =IF(szeg!I4<>"",szeg!I4,"") -> 56 | K7: =IF(szeg!J4<>"",szeg!J4,"") -> 57 | ... Q7: =IF(szeg!P4<>"",szeg!P4,"") -> 7 | S7: =IF(szeg!Q4<>"",szeg!Q4,"") -> 26 | T7: =IF(szeg!R4<>"",szeg!R4,"") -> 143 | V7: =IF(szeg!S4<>"",szeg!S4,"") -> 1 | W7: =IF(szeg!T4<>"",szeg!T4,"") -> 21 | X7: =IF(szeg!U4<>"",szeg!U4,"") -> 35 | Z7: =IF(szeg!V4<>"",szeg!V4,"") -> 29 | AA7: =IF(szeg!W4<>"",szeg!W4,"") -> 171 | AB7: =IF(szeg!X4<>"",szeg!X4,"") -> 7 | AC7: =IF(szeg!Y4<>"",szeg!Y4,"") | AD7: =IF(szeg!Z4<>"",szeg!Z4,"") -> 1 | AE7: =IF(szeg!AA4<>"",szeg!AA4,"") | AF7: =IF(szeg!AB4<>"",szeg!AB4,"") -> 8 | AG7: =SUM(D7:AF7) -> 1555
A8: Bérköltség közvetlen | B8: Visegrádi | C8: 54 | D8: =IF(vis!C5<>"",vis!C5,"") -> 15327 | E8: =IF(vis!D5<>"",vis!D5,"") -> 17330 | F8: =IF(vis!E5<>"",vis!E5,"") -> 22002 | G8: =IF(vis!F5<>"",vis!F5,"") -> 16588 | J8: =IF(vis!G5<>"",vis!G5,"") -> 24381 | L8: =IF(vis!H5<>"",vis!H5,"") -> 9995 | M8: =IF(vis!I5<>"",vis!I5,"") -> 10798 | O8: =IF(vis!J5<>"",vis!J5,"") -> 19720 | R8: =IF(vis!K5<>"",vis!K5,"") | U8: =IF(vis!L5<>"",vis!L5,"") -> 7159 | V8: =IF(vis!M5<>"",vis!M5,"") -> 3961 | Y8: =IF(vis!N5<>"",vis!N5,"") -> 16146 | AG8: =SUM(D8:AF8) -> 163407
B9: Szegedi | D9: =IF(szeg!C5<>"",szeg!C5,"") -> 18465 | E9: =IF(szeg!D5<>"",szeg!D5,"") -> 14334 | F9: =IF(szeg!E5<>"",szeg!E5,"") -> 23524 | G9: =IF(szeg!F5<>"",szeg!F5,"") -> 17163 | H9: =IF(szeg!G5<>"",szeg!G5,"") -> 45894 | I9: =IF(szeg!H5<>"",szeg!H5,"") -> 21065 | J9: =IF(szeg!I5<>"",szeg!I5,"") -> 25718 | K9: =IF(szeg!J5<>"",szeg!J5,"") -> 29029 | ... Q9: =IF(szeg!P5<>"",szeg!P5,"") -> 2302 | S9: =IF(szeg!Q5<>"",szeg!Q5,"") -> 4090 | T9: =IF(szeg!R5<>"",szeg!R5,"") -> 65157 | V9: =IF(szeg!S5<>"",szeg!S5,"") -> 4222 | W9: =IF(szeg!T5<>"",szeg!T5,"") -> 12319 | X9: =IF(szeg!U5<>"",szeg!U5,"") -> 14499 | Z9: =IF(szeg!V5<>"",szeg!V5,"") -> 11344 | AA9: =IF(szeg!W5<>"",szeg!W5,"") -> 41313 | AB9: =IF(szeg!X5<>"",szeg!X5,"") -> 4000 | AC9: =IF(szeg!Y5<>"",szeg!Y5,"") -> 168 | AD9: =IF(szeg!Z5<>"",szeg!Z5,"") | AE9: =IF(szeg!AA5<>"",szeg!AA5,"") | AF9: =IF(szeg!AB5<>"",szeg!AB5,"") -> 4724 | AG9: =SUM(D9:AF9) -> 473830
A10: Személyi jellegű egyéb kifizetés közvetlen | B10: Visegrádi | C10: 55 | D10: =IF(vis!C6<>"",vis!C6,"") -> 596 | E10: =IF(vis!D6<>"",vis!D6,"") -> 643 | F10: =IF(vis!E6<>"",vis!E6,"") -> 1585 | G10: =IF(vis!F6<>"",vis!F6,"") -> 1049 | J10: =IF(vis!G6<>"",vis!G6,"") -> 717 | L10: =IF(vis!H6<>"",vis!H6,"") -> 667 | M10: =IF(vis!I6<>"",vis!I6,"") -> 1278 | O10: =IF(vis!J6<>"",vis!J6,"") -> 780 | R10: =IF(vis!K6<>"",vis!K6,"") | U10: =IF(vis!L6<>"",vis!L6,"") -> 227 | V10: =IF(vis!M6<>"",vis!M6,"") -> 426 | Y10: =IF(vis!N6<>"",vis!N6,"") -> 380 | AG10: =SUM(D10:AF10) -> 8348
B11: Szegedi | D11: =IF(szeg!C6<>"",szeg!C6,"") -> 709 | E11: =IF(szeg!D6<>"",szeg!D6,"") -> 962 | F11: =IF(szeg!E6<>"",szeg!E6,"") -> 1491 | G11: =IF(szeg!F6<>"",szeg!F6,"") -> 1340 | H11: =IF(szeg!G6<>"",szeg!G6,"") -> 1982 | I11: =IF(szeg!H6<>"",szeg!H6,"") -> 880 | J11: =IF(szeg!I6<>"",szeg!I6,"") -> 820 | K11: =IF(szeg!J6<>"",szeg!J6,"") -> 905 | ... Q11: =IF(szeg!P6<>"",szeg!P6,"") -> 70 | S11: =IF(szeg!Q6<>"",szeg!Q6,"") -> 119 | T11: =IF(szeg!R6<>"",szeg!R6,"") -> 2674 | V11: =IF(szeg!S6<>"",szeg!S6,"") -> 200 | W11: =IF(szeg!T6<>"",szeg!T6,"") -> 365 | X11: =IF(szeg!U6<>"",szeg!U6,"") -> 322 | Z11: =IF(szeg!V6<>"",szeg!V6,"") -> 1090 | AA11: =IF(szeg!W6<>"",szeg!W6,"") -> 2007 | AB11: =IF(szeg!X6<>"",szeg!X6,"") -> 321 | AC11: =IF(szeg!Y6<>"",szeg!Y6,"") | AD11: =IF(szeg!Z6<>"",szeg!Z6,"") | AE11: =IF(szeg!AA6<>"",szeg!AA6,"") | AF11: =IF(szeg!AB6<>"",szeg!AB6,"") -> 86 | AG11: =SUM(D11:AF11) -> 24623
A12: Bérjárulékok közvetlen | B12: Visegrádi | C12: 56 | D12: =IF(vis!C7<>"",vis!C7,"") -> 3947 | E12: =IF(vis!D7<>"",vis!D7,"") -> 4388 | F12: =IF(vis!E7<>"",vis!E7,"") -> 5693 | G12: =IF(vis!F7<>"",vis!F7,"") -> 4278 | J12: =IF(vis!G7<>"",vis!G7,"") -> 6165 | L12: =IF(vis!H7<>"",vis!H7,"") -> 2744 | M12: =IF(vis!I7<>"",vis!I7,"") -> 2977 | O12: =IF(vis!J7<>"",vis!J7,"") -> 5120 | R12: =IF(vis!K7<>"",vis!K7,"") | U12: =IF(vis!L7<>"",vis!L7,"") -> 1682 | V12: =IF(vis!M7<>"",vis!M7,"") -> 972 | Y12: =IF(vis!N7<>"",vis!N7,"") -> 4300 | AG12: =SUM(D12:AF12) -> 42266
B13: Szegedi | D13: =IF(szeg!C7<>"",szeg!C7,"") -> 4487 | E13: =IF(szeg!D7<>"",szeg!D7,"") -> 3945 | F13: =IF(szeg!E7<>"",szeg!E7,"") -> 6060 | G13: =IF(szeg!F7<>"",szeg!F7,"") -> 4596 | H13: =IF(szeg!G7<>"",szeg!G7,"") -> 11491 | I13: =IF(szeg!H7<>"",szeg!H7,"") -> 5197 | J13: =IF(szeg!I7<>"",szeg!I7,"") -> 6737 | K13: =IF(szeg!J7<>"",szeg!J7,"") -> 7516 | ... Q13: =IF(szeg!P7<>"",szeg!P7,"") -> 522 | S13: =IF(szeg!Q7<>"",szeg!Q7,"") -> 969 | T13: =IF(szeg!R7<>"",szeg!R7,"") -> 16410 | V13: =IF(szeg!S7<>"",szeg!S7,"") -> 995 | W13: =IF(szeg!T7<>"",szeg!T7,"") -> 3427 | X13: =IF(szeg!U7<>"",szeg!U7,"") -> 3677 | Z13: =IF(szeg!V7<>"",szeg!V7,"") -> 3306 | AA13: =IF(szeg!W7<>"",szeg!W7,"") -> 10897 | AB13: =IF(szeg!X7<>"",szeg!X7,"") -> 1074 | AC13: =IF(szeg!Y7<>"",szeg!Y7,"") -> 41 | AD13: =IF(szeg!Z7<>"",szeg!Z7,"") | AE13: =IF(szeg!AA7<>"",szeg!AA7,"") | AF13: =IF(szeg!AB7<>"",szeg!AB7,"") -> 1202 | AG13: =SUM(D13:AF13) -> 123140
A14: ÉCS közvetlen | B14: Visegrádi | C14: 57 | D14: =IF(vis!C8<>"",vis!C8,"") -> 1807 | E14: =IF(vis!D8<>"",vis!D8,"") -> 606 | F14: =IF(vis!E8<>"",vis!E8,"") -> 237 | G14: =IF(vis!F8<>"",vis!F8,"") -> 486 | J14: =IF(vis!G8<>"",vis!G8,"") -> 1023 | L14: =IF(vis!H8<>"",vis!H8,"") -> 2705 | M14: =IF(vis!I8<>"",vis!I8,"") -> 73 | O14: =IF(vis!J8<>"",vis!J8,"") -> 237 | R14: =IF(vis!K8<>"",vis!K8,"") -> 67 | U14: =IF(vis!L8<>"",vis!L8,"") -> 365 | V14: =IF(vis!M8<>"",vis!M8,"") -> 88 | Y14: =IF(vis!N8<>"",vis!N8,"") -> 944 | AG14: =SUM(D14:AF14) -> 8638
B15: Szegedi | D15: =IF(szeg!C8<>"",szeg!C8,"") -> 463 | E15: =IF(szeg!D8<>"",szeg!D8,"") -> 3903 | F15: =IF(szeg!E8<>"",szeg!E8,"") -> 75 | G15: =IF(szeg!F8<>"",szeg!F8,"") -> 2185 | H15: =IF(szeg!G8<>"",szeg!G8,"") -> 1348 | I15: =IF(szeg!H8<>"",szeg!H8,"") -> 48 | J15: =IF(szeg!I8<>"",szeg!I8,"") -> 1386 | K15: =IF(szeg!J8<>"",szeg!J8,"") -> 7506 | ... Q15: =IF(szeg!P8<>"",szeg!P8,"") -> 3 | S15: =IF(szeg!Q8<>"",szeg!Q8,"") -> 6 | T15: =IF(szeg!R8<>"",szeg!R8,"") -> 43187 | V15: =IF(szeg!S8<>"",szeg!S8,"") -> 10 | W15: =IF(szeg!T8<>"",szeg!T8,"") -> 28 | X15: =IF(szeg!U8<>"",szeg!U8,"") -> 43 | Z15: =IF(szeg!V8<>"",szeg!V8,"") -> 6204 | AA15: =IF(szeg!W8<>"",szeg!W8,"") -> 9453 | AB15: =IF(szeg!X8<>"",szeg!X8,"") -> 978 | AC15: =IF(szeg!Y8<>"",szeg!Y8,"") -> 21 | AD15: =IF(szeg!Z8<>"",szeg!Z8,"") -> 6 | AE15: =IF(szeg!AA8<>"",szeg!AA8,"") -> 439 | AF15: =IF(szeg!AB8<>"",szeg!AB8,"") -> 101 | AG15: =SUM(D15:AF15) -> 82501
A16: Eladott, közvetített szolgáltatás értéke közvetlen | B16: Visegrádi | C16: 815 | D16: =IF(vis!C9<>"",vis!C9,"") | E16: =IF(vis!D9<>"",vis!D9,"") | F16: =IF(vis!E9<>"",vis!E9,"") | G16: =IF(vis!F9<>"",vis!F9,"") | J16: =IF(vis!G9<>"",vis!G9,"") | L16: =IF(vis!H9<>"",vis!H9,"") | M16: =IF(vis!I9<>"",vis!I9,"") | O16: =IF(vis!J9<>"",vis!J9,"") | R16: =IF(vis!K9<>"",vis!K9,"") | U16: =IF(vis!L9<>"",vis!L9,"") -> 6 | V16: =IF(vis!M9<>"",vis!M9,"") | Y16: =IF(vis!N9<>"",vis!N9,"") -> 1 | AG16: =SUM(D16:AF16) -> 7
B17: Szegedi | D17: =IF(szeg!C9<>"",szeg!C9,"") -> 1 | E17: =IF(szeg!D9<>"",szeg!D9,"") | F17: =IF(szeg!E9<>"",szeg!E9,"") | G17: =IF(szeg!F9<>"",szeg!F9,"") | H17: =IF(szeg!G9<>"",szeg!G9,"") | I17: =IF(szeg!H9<>"",szeg!H9,"") | J17: =IF(szeg!I9<>"",szeg!I9,"") | K17: =IF(szeg!J9<>"",szeg!J9,"") | ... Q17: =IF(szeg!P9<>"",szeg!P9,"") | S17: =IF(szeg!Q9<>"",szeg!Q9,"") | T17: =IF(szeg!R9<>"",szeg!R9,"") -> 4 | V17: =IF(szeg!S9<>"",szeg!S9,"") | W17: =IF(szeg!T9<>"",szeg!T9,"") | X17: =IF(szeg!U9<>"",szeg!U9,"") | Z17: =IF(szeg!V9<>"",szeg!V9,"") | AA17: =IF(szeg!W9<>"",szeg!W9,"") -> 7 | AB17: =IF(szeg!X9<>"",szeg!X9,"") | AC17: =IF(szeg!Y9<>"",szeg!Y9,"") | AD17: =IF(szeg!Z9<>"",szeg!Z9,"") | AE17: =IF(szeg!AA9<>"",szeg!AA9,"") | AF17: =IF(szeg!AB9<>"",szeg!AB9,"") | AG17: =SUM(D17:AF17) -> 13
A18: Egyéb ráfordítás közvetlen | B18: Visegrádi | C18: 86-88 | D18: =IF(vis!C10<>"",vis!C10,"") | E18: =IF(vis!D10<>"",vis!D10,"") | F18: =IF(vis!E10<>"",vis!E10,"") | G18: =IF(vis!F10<>"",vis!F10,"") | J18: =IF(vis!G10<>"",vis!G10,"") | L18: =IF(vis!H10<>"",vis!H10,"") | M18: =IF(vis!I10<>"",vis!I10,"") | O18: =IF(vis!J10<>"",vis!J10,"") | R18: =IF(vis!K10<>"",vis!K10,"") | U18: =IF(vis!L10<>"",vis!L10,"") | V18: =IF(vis!M10<>"",vis!M10,"") | Y18: =IF(vis!N10<>"",vis!N10,"") | AG18: =SUM(D18:AF18) -> 0
B19: Szegedi | D19: =IF(szeg!C10<>"",szeg!C10,"") | E19: =IF(szeg!D10<>"",szeg!D10,"") | F19: =IF(szeg!E10<>"",szeg!E10,"") | G19: =IF(szeg!F10<>"",szeg!F10,"") | H19: =IF(szeg!G10<>"",szeg!G10,"") | I19: =IF(szeg!H10<>"",szeg!H10,"") | J19: =IF(szeg!I10<>"",szeg!I10,"") | K19: =IF(szeg!J10<>"",szeg!J10,"") | ... Q19: =IF(szeg!P10<>"",szeg!P10,"") | S19: =IF(szeg!Q10<>"",szeg!Q10,"") | T19: =IF(szeg!R10<>"",szeg!R10,"") | V19: =IF(szeg!S10<>"",szeg!S10,"") | W19: =IF(szeg!T10<>"",szeg!T10,"") | X19: =IF(szeg!U10<>"",szeg!U10,"") | Z19: =IF(szeg!V10<>"",szeg!V10,"") | AA19: =IF(szeg!W10<>"",szeg!W10,"") | AB19: =IF(szeg!X10<>"",szeg!X10,"") | AC19: =IF(szeg!Y10<>"",szeg!Y10,"") | AD19: =IF(szeg!Z10<>"",szeg!Z10,"") | AE19: =IF(szeg!AA10<>"",szeg!AA10,"") | AF19: =IF(szeg!AB10<>"",szeg!AB10,"") | AG19: =SUM(D19:AF19) -> 0
A20: Összes közvetlen ráfordítás | B20: Visegrádi | D20: =SUM(D2,D4,D6,D8,D10,D12,D14,D16,D18) -> 24264 | E20: =SUM(E2,E4,E6,E8,E10,E12,E14,E16,E18) -> 26412 | F20: =SUM(F2,F4,F6,F8,F10,F12,F14,F16,F18) -> 34152 | G20: =SUM(G2,G4,G6,G8,G10,G12,G14,G16,G18) -> 26269 | H20: =SUM(H2,H4,H6,H8,H10,H12,H14,H16,H18) -> 0 | I20: =SUM(I2,I4,I6,I8,I10,I12,I14,I16,I18) -> 0 | J20: =SUM(J2,J4,J6,J8,J10,J12,J14,J16,J18) -> 36357 | K20: =SUM(K2,K4,K6,K8,K10,K12,K14,K16,K18) -> 0 | ... AF20: =SUM(AF2,AF4,AF6,AF8,AF10,AF12,AF14,AF16,AF18) -> 0 | AG20: =SUM(AG2,AG4,AG6,AG8,AG10,AG12,AG14,AG16,AG18,) -> 266655
B21: Szegedi | D21: =SUM(D3,D5,D7,D9,D11,D13,D15,D17,D19,) -> 26062 | E21: =SUM(E3,E5,E7,E9,E11,E13,E15,E17,E19,) -> 27277 | F21: =SUM(F3,F5,F7,F9,F11,F13,F15,F17,F19,) -> 34904 | G21: =SUM(G3,G5,G7,G9,G11,G13,G15,G17,G19,) -> 29329 | H21: =SUM(H3,H5,H7,H9,H11,H13,H15,H17,H19,) -> 75842 | I21: =SUM(I3,I5,I7,I9,I11,I13,I15,I17,I19,) -> 33275 | J21: =SUM(J3,J5,J7,J9,J11,J13,J15,J17,J19,) -> 40481 | K21: =SUM(K3,K5,K7,K9,K11,K13,K15,K17,K19,) -> 50086 | ... AF21: =SUM(AF3,AF5,AF7,AF9,AF11,AF13,AF15,AF17,AF19,) -> 9213 | AG21: =SUM(AG3,AG5,AG7,AG9,AG11,AG13,AG15,AG17,AG19) -> 986969
A22: Anyag közvetett | B22: Visegrádi | C22: 51 | D22: =IF(vis!C12<>"",vis!C12,"") -> 115 | E22: =IF(vis!D12<>"",vis!D12,"") -> 125 | F22: =IF(vis!E12<>"",vis!E12,"") -> 162 | G22: =IF(vis!F12<>"",vis!F12,"") -> 124 | J22: =IF(vis!G12<>"",vis!G12,"") -> 172 | L22: =IF(vis!H12<>"",vis!H12,"") -> 116 | M22: =IF(vis!I12<>"",vis!I12,"") -> 97 | O22: =IF(vis!J12<>"",vis!J12,"") -> 141 | R22: =IF(vis!K12<>"",vis!K12,"") | U22: =IF(vis!L12<>"",vis!L12,"") -> 54 | V22: =IF(vis!M12<>"",vis!M12,"") -> 32 | Y22: =IF(vis!N12<>"",vis!N12,"") -> 123 | AG22: =SUM(D22:AF22) -> 1261
B23: Szegedi | D23: =IF(szeg!C12<>"",szeg!C12,"") -> 123 | E23: =IF(szeg!D12<>"",szeg!D12,"") -> 129 | F23: =IF(szeg!E12<>"",szeg!E12,"") -> 165 | G23: =IF(szeg!F12<>"",szeg!F12,"") -> 139 | H23: =IF(szeg!G12<>"",szeg!G12,"") -> 359 | I23: =IF(szeg!H12<>"",szeg!H12,"") -> 157 | J23: =IF(szeg!I12<>"",szeg!I12,"") -> 192 | K23: =IF(szeg!J12<>"",szeg!J12,"") -> 237 | ... Q23: =IF(szeg!P12<>"",szeg!P12,"") -> 18 | S23: =IF(szeg!Q12<>"",szeg!Q12,"") -> 32 | T23: =IF(szeg!R12<>"",szeg!R12,"") -> 641 | V23: =IF(szeg!S12<>"",szeg!S12,"") -> 31 | W23: =IF(szeg!T12<>"",szeg!T12,"") -> 82 | X23: =IF(szeg!U12<>"",szeg!U12,"") -> 104 | Z23: =IF(szeg!V12<>"",szeg!V12,"") -> 134 | AA23: =IF(szeg!W12<>"",szeg!W12,"") -> 562 | AB23: =IF(szeg!X12<>"",szeg!X12,"") -> 35 | AC23: =IF(szeg!Y12<>"",szeg!Y12,"") -> 4 | AD23: =IF(szeg!Z12<>"",szeg!Z12,"") -> 38 | AE23: =IF(szeg!AA12<>"",szeg!AA12,"") | AF23: =IF(szeg!AB12<>"",szeg!AB12,"") -> 44 | AG23: =SUM(D23:AF23) -> 4673
A24: Igénybevett szolgáltatás közvetett | B24: Visegrádi | C24: 52 | D24: =IF(vis!C13<>"",vis!C13,"") -> 453 | E24: =IF(vis!D13<>"",vis!D13,"") -> 502 | F24: =IF(vis!E13<>"",vis!E13,"") -> 638 | G24: =IF(vis!F13<>"",vis!F13,"") -> 495 | J24: =IF(vis!G13<>"",vis!G13,"") -> 687 | L24: =IF(vis!H13<>"",vis!H13,"") -> 465 | M24: =IF(vis!I13<>"",vis!I13,"") -> 397 | O24: =IF(vis!J13<>"",vis!J13,"") -> 562 | R24: =IF(vis!K13<>"",vis!K13,"") | U24: =IF(vis!L13<>"",vis!L13,"") -> 215 | V24: =IF(vis!M13<>"",vis!M13,"") -> 130 | Y24: =IF(vis!N13<>"",vis!N13,"") -> 489 | AG24: =SUM(D24:AF24) -> 5033
B25: Szegedi | D25: =IF(szeg!C13<>"",szeg!C13,"") -> 490 | E25: =IF(szeg!D13<>"",szeg!D13,"") -> 509 | F25: =IF(szeg!E13<>"",szeg!E13,"") -> 662 | G25: =IF(szeg!F13<>"",szeg!F13,"") -> 551 | H25: =IF(szeg!G13<>"",szeg!G13,"") -> 1437 | I25: =IF(szeg!H13<>"",szeg!H13,"") -> 633 | J25: =IF(szeg!I13<>"",szeg!I13,"") -> 766 | K25: =IF(szeg!J13<>"",szeg!J13,"") -> 947 | ... Q25: =IF(szeg!P13<>"",szeg!P13,"") -> 73 | S25: =IF(szeg!Q13<>"",szeg!Q13,"") -> 130 | T25: =IF(szeg!R13<>"",szeg!R13,"") -> 2559 | V25: =IF(szeg!S13<>"",szeg!S13,"") -> 124 | W25: =IF(szeg!T13<>"",szeg!T13,"") -> 326 | X25: =IF(szeg!U13<>"",szeg!U13,"") -> 412 | Z25: =IF(szeg!V13<>"",szeg!V13,"") -> 532 | AA25: =IF(szeg!W13<>"",szeg!W13,"") -> 2252 | AB25: =IF(szeg!X13<>"",szeg!X13,"") -> 140 | AC25: =IF(szeg!Y13<>"",szeg!Y13,"") -> 17 | AD25: =IF(szeg!Z13<>"",szeg!Z13,"") -> 151 | AE25: =IF(szeg!AA13<>"",szeg!AA13,"") | AF25: =IF(szeg!AB13<>"",szeg!AB13,"") -> 179 | AG25: =SUM(D25:AF25) -> 18686
A26: Egyéb szolgáltatás és közvetített szolgáltatás értéke közvetett | B26: Visegrádi | C26: 53 | D26: =IF(vis!C14<>"",vis!C14,"") -> 110 | E26: =IF(vis!D14<>"",vis!D14,"") -> 120 | F26: =IF(vis!E14<>"",vis!E14,"") -> 156 | G26: =IF(vis!F14<>"",vis!F14,"") -> 119 | J26: =IF(vis!G14<>"",vis!G14,"") -> 166 | L26: =IF(vis!H14<>"",vis!H14,"") -> 111 | M26: =IF(vis!I14<>"",vis!I14,"") -> 94 | O26: =IF(vis!J14<>"",vis!J14,"") -> 135 | R26: =IF(vis!K14<>"",vis!K14,"") | U26: =IF(vis!L14<>"",vis!L14,"") -> 51 | V26: =IF(vis!M14<>"",vis!M14,"") -> 32 | Y26: =IF(vis!N14<>"",vis!N14,"") -> 117 | AG26: =SUM(D26:AF26) -> 1211
B27: Szegedi | D27: =IF(szeg!C14<>"",szeg!C14,"") -> 118 | E27: =IF(szeg!D14<>"",szeg!D14,"") -> 124 | F27: =IF(szeg!E14<>"",szeg!E14,"") -> 159 | G27: =IF(szeg!F14<>"",szeg!F14,"") -> 134 | H27: =IF(szeg!G14<>"",szeg!G14,"") -> 345 | I27: =IF(szeg!H14<>"",szeg!H14,"") -> 151 | J27: =IF(szeg!I14<>"",szeg!I14,"") -> 184 | K27: =IF(szeg!J14<>"",szeg!J14,"") -> 228 | ... Q27: =IF(szeg!P14<>"",szeg!P14,"") -> 18 | S27: =IF(szeg!Q14<>"",szeg!Q14,"") -> 31 | T27: =IF(szeg!R14<>"",szeg!R14,"") -> 615 | V27: =IF(szeg!S14<>"",szeg!S14,"") -> 30 | W27: =IF(szeg!T14<>"",szeg!T14,"") -> 79 | X27: =IF(szeg!U14<>"",szeg!U14,"") -> 100 | Z27: =IF(szeg!V14<>"",szeg!V14,"") -> 128 | AA27: =IF(szeg!W14<>"",szeg!W14,"") -> 539 | AB27: =IF(szeg!X14<>"",szeg!X14,"") -> 34 | AC27: =IF(szeg!Y14<>"",szeg!Y14,"") -> 4 | AD27: =IF(szeg!Z14<>"",szeg!Z14,"") -> 35 | AE27: =IF(szeg!AA14<>"",szeg!AA14,"") | AF27: =IF(szeg!AB14<>"",szeg!AB14,"") -> 42 | AG27: =SUM(D27:AF27) -> 4485
A28: Bérköltség közvetett | B28: Visegrádi | C28: 54 | D28: =IF(vis!C15<>"",vis!C15,"") -> 1718 | E28: =IF(vis!D15<>"",vis!D15,"") -> 1879 | F28: =IF(vis!E15<>"",vis!E15,"") -> 2417 | G28: =IF(vis!F15<>"",vis!F15,"") -> 1864 | J28: =IF(vis!G15<>"",vis!G15,"") -> 2582 | L28: =IF(vis!H15<>"",vis!H15,"") -> 1736 | M28: =IF(vis!I15<>"",vis!I15,"") -> 1469 | O28: =IF(vis!J15<>"",vis!J15,"") -> 2110 | R28: =IF(vis!K15<>"",vis!K15,"") | U28: =IF(vis!L15<>"",vis!L15,"") -> 808 | V28: =IF(vis!M15<>"",vis!M15,"") -> 488 | Y28: =IF(vis!N15<>"",vis!N15,"") -> 1837 | AG28: =SUM(D28:AF28) -> 18908
B29: Szegedi | D29: =IF(szeg!C15<>"",szeg!C15,"") -> 1849 | E29: =IF(szeg!D15<>"",szeg!D15,"") -> 1930 | F29: =IF(szeg!E15<>"",szeg!E15,"") -> 2481 | G29: =IF(szeg!F15<>"",szeg!F15,"") -> 2079 | H29: =IF(szeg!G15<>"",szeg!G15,"") -> 5390 | I29: =IF(szeg!H15<>"",szeg!H15,"") -> 2367 | J29: =IF(szeg!I15<>"",szeg!I15,"") -> 2876 | K29: =IF(szeg!J15<>"",szeg!J15,"") -> 3557 | ... Q29: =IF(szeg!P15<>"",szeg!P15,"") -> 274 | S29: =IF(szeg!Q15<>"",szeg!Q15,"") -> 484 | T29: =IF(szeg!R15<>"",szeg!R15,"") -> 9605 | V29: =IF(szeg!S15<>"",szeg!S15,"") -> 466 | W29: =IF(szeg!T15<>"",szeg!T15,"") -> 1225 | X29: =IF(szeg!U15<>"",szeg!U15,"") -> 1554 | Z29: =IF(szeg!V15<>"",szeg!V15,"") -> 2003 | AA29: =IF(szeg!W15<>"",szeg!W15,"") -> 8437 | AB29: =IF(szeg!X15<>"",szeg!X15,"") -> 523 | AC29: =IF(szeg!Y15<>"",szeg!Y15,"") -> 63 | AD29: =IF(szeg!Z15<>"",szeg!Z15,"") -> 565 | AE29: =IF(szeg!AA15<>"",szeg!AA15,"") | AF29: =IF(szeg!AB15<>"",szeg!AB15,"") -> 659 | AG29: =SUM(D29:AF29) -> 70104
A30: Személyi jellegű egyéb kifizetés közvetett | B30: Visegrádi | C30: 55 | D30: =IF(vis!C16<>"",vis!C16,"") -> 100 | E30: =IF(vis!D16<>"",vis!D16,"") -> 113 | F30: =IF(vis!E16<>"",vis!E16,"") -> 140 | G30: =IF(vis!F16<>"",vis!F16,"") -> 110 | J30: =IF(vis!G16<>"",vis!G16,"") -> 152 | L30: =IF(vis!H16<>"",vis!H16,"") -> 105 | M30: =IF(vis!I16<>"",vis!I16,"") -> 90 | O30: =IF(vis!J16<>"",vis!J16,"") -> 125 | R30: =IF(vis!K16<>"",vis!K16,"") | U30: =IF(vis!L16<>"",vis!L16,"") -> 48 | V30: =IF(vis!M16<>"",vis!M16,"") -> 29 | Y30: =IF(vis!N16<>"",vis!N16,"") -> 108 | AG30: =SUM(D30:AF30) -> 1120
B31: Szegedi | D31: =IF(szeg!C16<>"",szeg!C16,"") -> 109 | E31: =IF(szeg!D16<>"",szeg!D16,"") -> 112 | F31: =IF(szeg!E16<>"",szeg!E16,"") -> 148 | G31: =IF(szeg!F16<>"",szeg!F16,"") -> 122 | H31: =IF(szeg!G16<>"",szeg!G16,"") -> 320 | I31: =IF(szeg!H16<>"",szeg!H16,"") -> 142 | J31: =IF(szeg!I16<>"",szeg!I16,"") -> 171 | K31: =IF(szeg!J16<>"",szeg!J16,"") -> 210 | ... Q31: =IF(szeg!P16<>"",szeg!P16,"") -> 16 | S31: =IF(szeg!Q16<>"",szeg!Q16,"") -> 30 | T31: =IF(szeg!R16<>"",szeg!R16,"") -> 570 | V31: =IF(szeg!S16<>"",szeg!S16,"") -> 28 | W31: =IF(szeg!T16<>"",szeg!T16,"") -> 72 | X31: =IF(szeg!U16<>"",szeg!U16,"") -> 91 | Z31: =IF(szeg!V16<>"",szeg!V16,"") -> 118 | AA31: =IF(szeg!W16<>"",szeg!W16,"") -> 503 | AB31: =IF(szeg!X16<>"",szeg!X16,"") -> 31 | AC31: =IF(szeg!Y16<>"",szeg!Y16,"") -> 4 | AD31: =IF(szeg!Z16<>"",szeg!Z16,"") -> 34 | AE31: =IF(szeg!AA16<>"",szeg!AA16,"") | AF31: =IF(szeg!AB16<>"",szeg!AB16,"") -> 41 | AG31: =SUM(D31:AF31) -> 4168
A32: Bérjárulékok közvetett | B32: Visegrádi | C32: 56 | D32: =IF(vis!C17<>"",vis!C17,"") -> 532 | E32: =IF(vis!D17<>"",vis!D17,"") -> 583 | F32: =IF(vis!E17<>"",vis!E17,"") -> 748 | G32: =IF(vis!F17<>"",vis!F17,"") -> 578 | J32: =IF(vis!G17<>"",vis!G17,"") -> 800 | L32: =IF(vis!H17<>"",vis!H17,"") -> 539 | M32: =IF(vis!I17<>"",vis!I17,"") -> 457 | O32: =IF(vis!J17<>"",vis!J17,"") -> 654 | R32: =IF(vis!K17<>"",vis!K17,"") | U32: =IF(vis!L17<>"",vis!L17,"") -> 251 | V32: =IF(vis!M17<>"",vis!M17,"") -> 151 | Y32: =IF(vis!N17<>"",vis!N17,"") -> 570 | AG32: =SUM(D32:AF32) -> 5863
B33: Szegedi | D33: =IF(szeg!C17<>"",szeg!C17,"") -> 573 | E33: =IF(szeg!D17<>"",szeg!D17,"") -> 598 | F33: =IF(szeg!E17<>"",szeg!E17,"") -> 770 | G33: =IF(szeg!F17<>"",szeg!F17,"") -> 644 | H33: =IF(szeg!G17<>"",szeg!G17,"") -> 1672 | I33: =IF(szeg!H17<>"",szeg!H17,"") -> 735 | J33: =IF(szeg!I17<>"",szeg!I17,"") -> 892 | K33: =IF(szeg!J17<>"",szeg!J17,"") -> 1103 | ... Q33: =IF(szeg!P17<>"",szeg!P17,"") -> 85 | S33: =IF(szeg!Q17<>"",szeg!Q17,"") -> 150 | T33: =IF(szeg!R17<>"",szeg!R17,"") -> 2979 | V33: =IF(szeg!S17<>"",szeg!S17,"") -> 145 | W33: =IF(szeg!T17<>"",szeg!T17,"") -> 380 | X33: =IF(szeg!U17<>"",szeg!U17,"") -> 482 | Z33: =IF(szeg!V17<>"",szeg!V17,"") -> 621 | AA33: =IF(szeg!W17<>"",szeg!W17,"") -> 2618 | AB33: =IF(szeg!X17<>"",szeg!X17,"") -> 162 | AC33: =IF(szeg!Y17<>"",szeg!Y17,"") -> 20 | AD33: =IF(szeg!Z17<>"",szeg!Z17,"") -> 175 | AE33: =IF(szeg!AA17<>"",szeg!AA17,"") | AF33: =IF(szeg!AB17<>"",szeg!AB17,"") -> 205 | AG33: =SUM(D33:AF33) -> 21747
A34: ÉCS közvetett | B34: Visegrádi | C34: 57 | D34: =IF(vis!C18<>"",vis!C18,"") -> 128 | E34: =IF(vis!D18<>"",vis!D18,"") -> 139 | F34: =IF(vis!E18<>"",vis!E18,"") -> 180 | G34: =IF(vis!F18<>"",vis!F18,"") -> 138 | J34: =IF(vis!G18<>"",vis!G18,"") -> 191 | L34: =IF(vis!H18<>"",vis!H18,"") -> 128 | M34: =IF(vis!I18<>"",vis!I18,"") -> 108 | O34: =IF(vis!J18<>"",vis!J18,"") -> 156 | R34: =IF(vis!K18<>"",vis!K18,"") | U34: =IF(vis!L18<>"",vis!L18,"") -> 60 | V34: =IF(vis!M18<>"",vis!M18,"") -> 36 | Y34: =IF(vis!N18<>"",vis!N18,"") -> 136 | AG34: =SUM(D34:AF34) -> 1400
B35: Szegedi | D35: =IF(szeg!C18<>"",szeg!C18,"") -> 137 | E35: =IF(szeg!D18<>"",szeg!D18,"") -> 144 | F35: =IF(szeg!E18<>"",szeg!E18,"") -> 184 | G35: =IF(szeg!F18<>"",szeg!F18,"") -> 154 | H35: =IF(szeg!G18<>"",szeg!G18,"") -> 399 | I35: =IF(szeg!H18<>"",szeg!H18,"") -> 175 | J35: =IF(szeg!I18<>"",szeg!I18,"") -> 213 | K35: =IF(szeg!J18<>"",szeg!J18,"") -> 264 | ... Q35: =IF(szeg!P18<>"",szeg!P18,"") -> 20 | S35: =IF(szeg!Q18<>"",szeg!Q18,"") -> 36 | T35: =IF(szeg!R18<>"",szeg!R18,"") -> 711 | V35: =IF(szeg!S18<>"",szeg!S18,"") -> 34 | W35: =IF(szeg!T18<>"",szeg!T18,"") -> 91 | X35: =IF(szeg!U18<>"",szeg!U18,"") -> 115 | Z35: =IF(szeg!V18<>"",szeg!V18,"") -> 148 | AA35: =IF(szeg!W18<>"",szeg!W18,"") -> 625 | AB35: =IF(szeg!X18<>"",szeg!X18,"") -> 39 | AC35: =IF(szeg!Y18<>"",szeg!Y18,"") -> 5 | AD35: =IF(szeg!Z18<>"",szeg!Z18,"") -> 42 | AE35: =IF(szeg!AA18<>"",szeg!AA18,"") | AF35: =IF(szeg!AB18<>"",szeg!AB18,"") -> 48 | AG35: =SUM(D35:AF35) -> 5191
A36: Eladott, közvetített szolgáltatás értéke közvetett | B36: Visegrádi | C36: 815 | D36: =IF(vis!C19<>"",vis!C19,"") -> 2 | E36: =IF(vis!D19<>"",vis!D19,"") -> 2 | F36: =IF(vis!E19<>"",vis!E19,"") -> 2 | G36: =IF(vis!F19<>"",vis!F19,"") -> 2 | J36: =IF(vis!G19<>"",vis!G19,"") -> 2 | L36: =IF(vis!H19<>"",vis!H19,"") -> 1 | M36: =IF(vis!I19<>"",vis!I19,"") -> 1 | O36: =IF(vis!J19<>"",vis!J19,"") -> 2 | R36: =IF(vis!K19<>"",vis!K19,"") | U36: =IF(vis!L19<>"",vis!L19,"") -> 1 | V36: =IF(vis!M19<>"",vis!M19,"") | Y36: =IF(vis!N19<>"",vis!N19,"") -> 2 | AG36: =SUM(D36:AF36) -> 17
B37: Szegedi | D37: =IF(szeg!C19<>"",szeg!C19,"") -> 2 | E37: =IF(szeg!D19<>"",szeg!D19,"") -> 2 | F37: =IF(szeg!E19<>"",szeg!E19,"") -> 2 | G37: =IF(szeg!F19<>"",szeg!F19,"") -> 2 | H37: =IF(szeg!G19<>"",szeg!G19,"") -> 5 | I37: =IF(szeg!H19<>"",szeg!H19,"") -> 2 | J37: =IF(szeg!I19<>"",szeg!I19,"") -> 3 | K37: =IF(szeg!J19<>"",szeg!J19,"") -> 3 | ... Q37: =IF(szeg!P19<>"",szeg!P19,"") | S37: =IF(szeg!Q19<>"",szeg!Q19,"") | T37: =IF(szeg!R19<>"",szeg!R19,"") -> 9 | V37: =IF(szeg!S19<>"",szeg!S19,"") | W37: =IF(szeg!T19<>"",szeg!T19,"") -> 1 | X37: =IF(szeg!U19<>"",szeg!U19,"") -> 1 | Z37: =IF(szeg!V19<>"",szeg!V19,"") -> 2 | AA37: =IF(szeg!W19<>"",szeg!W19,"") -> 8 | AB37: =IF(szeg!X19<>"",szeg!X19,"") | AC37: =IF(szeg!Y19<>"",szeg!Y19,"") | AD37: =IF(szeg!Z19<>"",szeg!Z19,"") -> 1 | AE37: =IF(szeg!AA19<>"",szeg!AA19,"") | AF37: =IF(szeg!AB19<>"",szeg!AB19,"") | AG37: =SUM(D37:AF37) -> 63
A38: Egyéb ráfordítás közvetett | B38: Visegrádi | C38: 86-88 | D38: =IF(vis!C20<>"",vis!C20,"") -> 33 | E38: =IF(vis!D20<>"",vis!D20,"") -> 36 | F38: =IF(vis!E20<>"",vis!E20,"") -> 47 | G38: =IF(vis!F20<>"",vis!F20,"") -> 36 | J38: =IF(vis!G20<>"",vis!G20,"") -> 50 | L38: =IF(vis!H20<>"",vis!H20,"") -> 33 | M38: =IF(vis!I20<>"",vis!I20,"") -> 28 | O38: =IF(vis!J20<>"",vis!J20,"") -> 41 | R38: =IF(vis!K20<>"",vis!K20,"") -> 1 | U38: =IF(vis!L20<>"",vis!L20,"") -> 16 | V38: =IF(vis!M20<>"",vis!M20,"") -> 9 | Y38: =IF(vis!N20<>"",vis!N20,"") -> 35 | AG38: =SUM(D38:AF38) -> 365
B39: Szegedi | D39: =IF(szeg!C20<>"",szeg!C20,"") -> 36 | E39: =IF(szeg!D20<>"",szeg!D20,"") -> 37 | F39: =IF(szeg!E20<>"",szeg!E20,"") -> 48 | G39: =IF(szeg!F20<>"",szeg!F20,"") -> 40 | H39: =IF(szeg!G20<>"",szeg!G20,"") -> 104 | I39: =IF(szeg!H20<>"",szeg!H20,"") -> 46 | J39: =IF(szeg!I20<>"",szeg!I20,"") -> 55 | K39: =IF(szeg!J20<>"",szeg!J20,"") -> 69 | ... Q39: =IF(szeg!P20<>"",szeg!P20,"") -> 5 | S39: =IF(szeg!Q20<>"",szeg!Q20,"") -> 9 | T39: =IF(szeg!R20<>"",szeg!R20,"") -> 185 | V39: =IF(szeg!S20<>"",szeg!S20,"") -> 9 | W39: =IF(szeg!T20<>"",szeg!T20,"") -> 24 | X39: =IF(szeg!U20<>"",szeg!U20,"") -> 30 | Z39: =IF(szeg!V20<>"",szeg!V20,"") -> 39 | AA39: =IF(szeg!W20<>"",szeg!W20,"") -> 162 | AB39: =IF(szeg!X20<>"",szeg!X20,"") -> 10 | AC39: =IF(szeg!Y20<>"",szeg!Y20,"") -> 1 | AD39: =IF(szeg!Z20<>"",szeg!Z20,"") -> 11 | AE39: =IF(szeg!AA20<>"",szeg!AA20,"") -> 0 | AF39: =IF(szeg!AB20<>"",szeg!AB20,"") -> 13 | AG39: =SUM(D39:AF39) -> 1350
A40: Összes közvetett ráfordítás | B40: Visegrádi | D40: =SUM(D22,D24,D26,D28,D30,D32,D34,D36,D38,) -> 3191 | E40: =SUM(E22,E24,E26,E28,E30,E32,E34,E36,E38,) -> 3499 | F40: =SUM(F22,F24,F26,F28,F30,F32,F34,F36,F38,) -> 4490 | G40: =SUM(G22,G24,G26,G28,G30,G32,G34,G36,G38,) -> 3466 | H40: =SUM(H22,H24,H26,H28,H30,H32,H34,H36,H38,) -> 0 | I40: =SUM(I22,I24,I26,I28,I30,I32,I34,I36,I38,) -> 0 | J40: =SUM(J22,J24,J26,J28,J30,J32,J34,J36,J38,) -> 4802 | K40: =SUM(K22,K24,K26,K28,K30,K32,K34,K36,K38,) -> 0 | ... AF40: =SUM(AF22,AF24,AF26,AF28,AF30,AF32,AF34,AF36,AF38,) -> 0 | AG40: =SUM(AG22,AG24,AG26,AG28,AG30,AG32,AG34,AG36,AG38) -> 35178
B41: Szegedi | D41: =SUM(D23,D25,D27,D29,D31,D33,D35,D37,D39,) -> 3437 | E41: =SUM(E23,E25,E27,E29,E31,E33,E35,E37,E39,) -> 3585 | F41: =SUM(F23,F25,F27,F29,F31,F33,F35,F37,F39,) -> 4619 | G41: =SUM(G23,G25,G27,G29,G31,G33,G35,G37,G39,) -> 3865 | H41: =SUM(H23,H25,H27,H29,H31,H33,H35,H37,H39,) -> 10031 | I41: =SUM(I23,I25,I27,I29,I31,I33,I35,I37,I39,) -> 4408 | J41: =SUM(J23,J25,J27,J29,J31,J33,J35,J37,J39,) -> 5352 | K41: =SUM(K23,K25,K27,K29,K31,K33,K35,K37,K39,) -> 6618 | ... AF41: =SUM(AF23,AF25,AF27,AF29,AF31,AF33,AF35,AF37,AF39,) -> 1231 | AG41: =SUM(AG23,AG25,AG27,AG29,AG31,AG33,AG35,AG37,AG39) -> 130467
A42: Összes ráfordítás | B42: Visegrádi | D42: =SUM(D40,D20) -> 27455 | E42: =SUM(E40,E20) -> 29911 | F42: =SUM(F40,F20) -> 38642 | G42: =SUM(G40,G20) -> 29735 | H42: =SUM(H40,H20) -> 0 | I42: =SUM(I40,I20) -> 0 | J42: =SUM(J40,J20) -> 41159 | K42: =SUM(K40,K20) -> 0 | ... AG42: =SUM(AG40,AG20) -> 301833
B43: Szegedi | D43: =SUM(D41,D21) -> 29499 | E43: =SUM(E41,E21) -> 30862 | F43: =SUM(F41,F21) -> 39523 | G43: =SUM(G41,G21) -> 33194 | H43: =SUM(H41,H21) -> 85873 | I43: =SUM(I41,I21) -> 37683 | J43: =SUM(J41,J21) -> 45833 | K43: =SUM(K41,K21) -> 56704 | ... AG43: =SUM(AG41,AG21) -> 1117436
B44: Összesen | D44: =SUM(D42:D43) -> 56954 | E44: =SUM(E42:E43) -> 60773 | F44: =SUM(F42:F43) -> 78165 | G44: =SUM(G42:G43) -> 62929 | H44: =SUM(H42:H43) -> 85873 | I44: =SUM(I42:I43) -> 37683 | J44: =SUM(J42:J43) -> 86992 | K44: =SUM(K42:K43) -> 56704 | ... AG44: =SUM(AG42:AG43) -> 1419269
A45: Értékesítés nettó árbevétele | B45: Visegrádi | C45: 91-94 | D45: =IF(vis!C23<>"",vis!C23,"") -> 20735 | E45: =IF(vis!D23<>"",vis!D23,"") -> 26944 | F45: =IF(vis!E23<>"",vis!E23,"") -> 47457 | G45: =IF(vis!F23<>"",vis!F23,"") -> 25544 | J45: =IF(vis!G23<>"",vis!G23,"") -> 40534 | L45: =IF(vis!H23<>"",vis!H23,"") -> 30009 | M45: =IF(vis!I23<>"",vis!I23,"") -> 21686 | O45: =IF(vis!J23<>"",vis!J23,"") -> 32897 | R45: =IF(vis!K23<>"",vis!K23,"") | U45: =IF(vis!L23<>"",vis!L23,"") -> 12574 | V45: =IF(vis!M23<>"",vis!M23,"") -> 7121 | Y45: =IF(vis!N23<>"",vis!N23,"") -> 32216 | AG45: =SUM(D45:AF45) -> 297717
B46: Szegedi | D46: =IF(szeg!C23<>"",szeg!C23,"") -> 21900 | E46: =IF(szeg!D23<>"",szeg!D23,"") -> 29206 | F46: =IF(szeg!E23<>"",szeg!E23,"") -> 42407 | G46: =IF(szeg!F23<>"",szeg!F23,"") -> 30091 | H46: =IF(szeg!G23<>"",szeg!G23,"") -> 73573 | I46: =IF(szeg!H23<>"",szeg!H23,"") -> 34785 | J46: =IF(szeg!I23<>"",szeg!I23,"") -> 41035 | K46: =IF(szeg!J23<>"",szeg!J23,"") -> 49188 | ... Q46: =IF(szeg!P23<>"",szeg!P23,"") -> 14383 | S46: =IF(szeg!Q23<>"",szeg!Q23,"") -> 3905 | T46: =IF(szeg!R23<>"",szeg!R23,"") -> 60745 | V46: =IF(szeg!S23<>"",szeg!S23,"") -> 10415 | W46: =IF(szeg!T23<>"",szeg!T23,"") -> 5865 | X46: =IF(szeg!U23<>"",szeg!U23,"") -> 20639 | Z46: =IF(szeg!V23<>"",szeg!V23,"") -> 16150 | AA46: =IF(szeg!W23<>"",szeg!W23,"") -> 111420 | AB46: =IF(szeg!X23<>"",szeg!X23,"") -> 5102 | AC46: =IF(szeg!Y23<>"",szeg!Y23,"") -> 2350 | AD46: =IF(szeg!Z23<>"",szeg!Z23,"") -> 58517 | AE46: =IF(szeg!AA23<>"",szeg!AA23,"") | AF46: =IF(szeg!AB23<>"",szeg!AB23,"") -> 535 | AG46: =SUM(D46:AF46) -> 914412
A47: -ebből OEP finanszírozás | B47: Visegrádi | C47: 9117 | D47: =IF(vis!C24<>"",vis!C24,"") -> 20524 | E47: =IF(vis!D24<>"",vis!D24,"") -> 26812 | F47: =IF(vis!E24<>"",vis!E24,"") -> 47370 | G47: =IF(vis!F24<>"",vis!F24,"") -> 25479 | J47: =IF(vis!G24<>"",vis!G24,"") -> 39728 | L47: =IF(vis!H24<>"",vis!H24,"") -> 29935 | M47: =IF(vis!I24<>"",vis!I24,"") -> 21647 | O47: =IF(vis!J24<>"",vis!J24,"") -> 32697 | R47: =IF(vis!K24<>"",vis!K24,"") | U47: =IF(vis!L24<>"",vis!L24,"") -> 12433 | V47: =IF(vis!M24<>"",vis!M24,"") -> 7109 | Y47: =IF(vis!N24<>"",vis!N24,"") -> 30268 | AG47: =SUM(D47:AF47) -> 294002
B48: Szegedi | D48: =IF(szeg!C24<>"",szeg!C24,"") -> 21498 | E48: =IF(szeg!D24<>"",szeg!D24,"") -> 28447 | F48: =IF(szeg!E24<>"",szeg!E24,"") -> 42188 | G48: =IF(szeg!F24<>"",szeg!F24,"") -> 29461 | H48: =IF(szeg!G24<>"",szeg!G24,"") -> 73255 | I48: =IF(szeg!H24<>"",szeg!H24,"") -> 34562 | J48: =IF(szeg!I24<>"",szeg!I24,"") -> 39516 | K48: =IF(szeg!J24<>"",szeg!J24,"") -> 48772 | ... Q48: =IF(szeg!P24<>"",szeg!P24,"") -> 14376 | S48: =IF(szeg!Q24<>"",szeg!Q24,"") -> 3887 | T48: =IF(szeg!R24<>"",szeg!R24,"") -> 53886 | V48: =IF(szeg!S24<>"",szeg!S24,"") -> 10402 | W48: =IF(szeg!T24<>"",szeg!T24,"") -> 5631 | X48: =IF(szeg!U24<>"",szeg!U24,"") -> 20492 | Z48: =IF(szeg!V24<>"",szeg!V24,"") -> 15825 | AA48: =IF(szeg!W24<>"",szeg!W24,"") -> 109490 | AB48: =IF(szeg!X24<>"",szeg!X24,"") -> 4976 | AC48: =IF(szeg!Y24<>"",szeg!Y24,"") -> 2349 | AD48: =IF(szeg!Z24<>"",szeg!Z24,"") -> 54361 | AE48: =IF(szeg!AA24<>"",szeg!AA24,"") | AF48: =IF(szeg!AB24<>"",szeg!AB24,"") -> 498 | AG48: =SUM(D48:AF48) -> 894699
A49: Saját bevétel | B49: Visegrádi | C49: (91-94)-9117 | D49: =IF(vis!C25<>"",vis!C25,"") -> 211 | E49: =IF(vis!D25<>"",vis!D25,"") -> 132 | F49: =IF(vis!E25<>"",vis!E25,"") -> 87 | G49: =IF(vis!F25<>"",vis!F25,"") -> 65 | J49: =IF(vis!G25<>"",vis!G25,"") -> 806 | L49: =IF(vis!H25<>"",vis!H25,"") -> 74 | M49: =IF(vis!I25<>"",vis!I25,"") -> 39 | O49: =IF(vis!J25<>"",vis!J25,"") -> 200 | R49: =IF(vis!K25<>"",vis!K25,"") -> 0 | U49: =IF(vis!L25<>"",vis!L25,"") -> 141 | V49: =IF(vis!M25<>"",vis!M25,"") -> 12 | Y49: =IF(vis!N25<>"",vis!N25,"") -> 1948 | AG49: =SUM(D49:AF49) -> 3715
B50: Szegedi | D50: =IF(szeg!C25<>"",szeg!C25,"") -> 402 | E50: =IF(szeg!D25<>"",szeg!D25,"") -> 759 | F50: =IF(szeg!E25<>"",szeg!E25,"") -> 219 | G50: =IF(szeg!F25<>"",szeg!F25,"") -> 630 | H50: =IF(szeg!G25<>"",szeg!G25,"") -> 318 | I50: =IF(szeg!H25<>"",szeg!H25,"") -> 223 | J50: =IF(szeg!I25<>"",szeg!I25,"") -> 1519 | K50: =IF(szeg!J25<>"",szeg!J25,"") -> 416 | ... Q50: =IF(szeg!P25<>"",szeg!P25,"") -> 7 | S50: =IF(szeg!Q25<>"",szeg!Q25,"") -> 18 | T50: =IF(szeg!R25<>"",szeg!R25,"") -> 6859 | V50: =IF(szeg!S25<>"",szeg!S25,"") -> 13 | W50: =IF(szeg!T25<>"",szeg!T25,"") -> 234 | X50: =IF(szeg!U25<>"",szeg!U25,"") -> 147 | Z50: =IF(szeg!V25<>"",szeg!V25,"") -> 325 | AA50: =IF(szeg!W25<>"",szeg!W25,"") -> 1930 | AB50: =IF(szeg!X25<>"",szeg!X25,"") -> 126 | AC50: =IF(szeg!Y25<>"",szeg!Y25,"") -> 1 | AD50: =IF(szeg!Z25<>"",szeg!Z25,"") -> 4156 | AE50: =IF(szeg!AA25<>"",szeg!AA25,"") -> 0 | AF50: =IF(szeg!AB25<>"",szeg!AB25,"") -> 37 | AG50: =SUM(D50:AF50) -> 19713
A51: Egyéb bevétel | B51: Visegrádi | C51: 96 (-9698) | D51: =IF(vis!C26<>"",vis!C26,"") -> 2111 | E51: =IF(vis!D26<>"",vis!D26,"") -> 2417 | F51: =IF(vis!E26<>"",vis!E26,"") -> 2974 | G51: =IF(vis!F26<>"",vis!F26,"") -> 2338 | J51: =IF(vis!G26<>"",vis!G26,"") -> 3259 | L51: =IF(vis!H26<>"",vis!H26,"") -> 2254 | M51: =IF(vis!I26<>"",vis!I26,"") -> 1955 | O51: =IF(vis!J26<>"",vis!J26,"") -> 2674 | R51: =IF(vis!K26<>"",vis!K26,"") | U51: =IF(vis!L26<>"",vis!L26,"") -> 1024 | V51: =IF(vis!M26<>"",vis!M26,"") -> 617 | Y51: =IF(vis!N26<>"",vis!N26,"") -> 2320 | AG51: =SUM(D51:AF51) -> 23943
B52: Szegedi | D52: =IF(szeg!C26<>"",szeg!C26,"") -> 2311 | E52: =IF(szeg!D26<>"",szeg!D26,"") -> 2361 | F52: =IF(szeg!E26<>"",szeg!E26,"") -> 3204 | G52: =IF(szeg!F26<>"",szeg!F26,"") -> 2587 | H52: =IF(szeg!G26<>"",szeg!G26,"") -> 6862 | I52: =IF(szeg!H26<>"",szeg!H26,"") -> 3062 | J52: =IF(szeg!I26<>"",szeg!I26,"") -> 3655 | K52: =IF(szeg!J26<>"",szeg!J26,"") -> 4504 | ... Q52: =IF(szeg!P26<>"",szeg!P26,"") -> 353 | S52: =IF(szeg!Q26<>"",szeg!Q26,"") -> 641 | T52: =IF(szeg!R26<>"",szeg!R26,"") -> 12204 | V52: =IF(szeg!S26<>"",szeg!S26,"") -> 602 | W52: =IF(szeg!T26<>"",szeg!T26,"") -> 1549 | X52: =IF(szeg!U26<>"",szeg!U26,"") -> 1940 | Z52: =IF(szeg!V26<>"",szeg!V26,"") -> 2561 | AA52: =IF(szeg!W26<>"",szeg!W26,"") -> 10797 | AB52: =IF(szeg!X26<>"",szeg!X26,"") -> 677 | AC52: =IF(szeg!Y26<>"",szeg!Y26,"") -> 83 | AD52: =IF(szeg!Z26<>"",szeg!Z26,"") -> 732 | AE52: =IF(szeg!AA26<>"",szeg!AA26,"") -> 0 | AF52: =IF(szeg!AB26<>"",szeg!AB26,"") -> 904 | AG52: =SUM(D52:AF52) -> 89993
A53: -ebből önkormányzati támogatás | B53: Visegrádi | C53: 9635 | D53: =IF(vis!C27<>"",vis!C27,"") -> 2094 | E53: =IF(vis!D27<>"",vis!D27,"") -> 2398 | F53: =IF(vis!E27<>"",vis!E27,"") -> 2936 | G53: =IF(vis!F27<>"",vis!F27,"") -> 2318 | J53: =IF(vis!G27<>"",vis!G27,"") -> 3231 | L53: =IF(vis!H27<>"",vis!H27,"") -> 2234 | M53: =IF(vis!I27<>"",vis!I27,"") -> 1939 | O53: =IF(vis!J27<>"",vis!J27,"") -> 2652 | R53: =IF(vis!K27<>"",vis!K27,"") | U53: =IF(vis!L27<>"",vis!L27,"") -> 1015 | V53: =IF(vis!M27<>"",vis!M27,"") -> 612 | Y53: =IF(vis!N27<>"",vis!N27,"") -> 2300 | AG53: =SUM(D53:AF53) -> 23729
B54: Szegedi | D54: =IF(szeg!C27<>"",szeg!C27,"") -> 2292 | E54: =IF(szeg!D27<>"",szeg!D27,"") -> 2342 | F54: =IF(szeg!E27<>"",szeg!E27,"") -> 3142 | G54: =IF(szeg!F27<>"",szeg!F27,"") -> 2566 | H54: =IF(szeg!G27<>"",szeg!G27,"") -> 6803 | I54: =IF(szeg!H27<>"",szeg!H27,"") -> 3018 | J54: =IF(szeg!I27<>"",szeg!I27,"") -> 3625 | K54: =IF(szeg!J27<>"",szeg!J27,"") -> 4464 | ... Q54: =IF(szeg!P27<>"",szeg!P27,"") -> 351 | S54: =IF(szeg!Q27<>"",szeg!Q27,"") -> 635 | T54: =IF(szeg!R27<>"",szeg!R27,"") -> 12093 | V54: =IF(szeg!S27<>"",szeg!S27,"") -> 596 | W54: =IF(szeg!T27<>"",szeg!T27,"") -> 1536 | X54: =IF(szeg!U27<>"",szeg!U27,"") -> 1923 | Z54: =IF(szeg!V27<>"",szeg!V27,"") -> 2488 | AA54: =IF(szeg!W27<>"",szeg!W27,"") -> 10705 | AB54: =IF(szeg!X27<>"",szeg!X27,"") -> 671 | AC54: =IF(szeg!Y27<>"",szeg!Y27,"") -> 82 | AD54: =IF(szeg!Z27<>"",szeg!Z27,"") -> 726 | AE54: =IF(szeg!AA27<>"",szeg!AA27,"") | AF54: =IF(szeg!AB27<>"",szeg!AB27,"") -> 883 | AG54: =SUM(D54:AF54) -> 89100
A55: Pénzügyi műveletek bevételei | B55: Visegrádi | C55: 97 | D55: =IF(vis!C28<>"",vis!C28,"") -> 1 | E55: =IF(vis!D28<>"",vis!D28,"") -> 2 | F55: =IF(vis!E28<>"",vis!E28,"") -> 2 | G55: =IF(vis!F28<>"",vis!F28,"") -> 1 | J55: =IF(vis!G28<>"",vis!G28,"") -> 2 | L55: =IF(vis!H28<>"",vis!H28,"") -> 1 | M55: =IF(vis!I28<>"",vis!I28,"") -> 1 | O55: =IF(vis!J28<>"",vis!J28,"") -> 2 | R55: =IF(vis!K28<>"",vis!K28,"") | U55: =IF(vis!L28<>"",vis!L28,"") -> 1 | V55: =IF(vis!M28<>"",vis!M28,"") | Y55: =IF(vis!N28<>"",vis!N28,"") -> 2 | AG55: =SUM(D55:AF55) -> 15
B56: Szegedi | D56: =IF(szeg!C28<>"",szeg!C28,"") -> 1 | E56: =IF(szeg!D28<>"",szeg!D28,"") -> 1 | F56: =IF(szeg!E28<>"",szeg!E28,"") -> 2 | G56: =IF(szeg!F28<>"",szeg!F28,"") -> 2 | H56: =IF(szeg!G28<>"",szeg!G28,"") -> 4 | I56: =IF(szeg!H28<>"",szeg!H28,"") -> 2 | J56: =IF(szeg!I28<>"",szeg!I28,"") -> 2 | K56: =IF(szeg!J28<>"",szeg!J28,"") -> 3 | ... Q56: =IF(szeg!P28<>"",szeg!P28,"") | S56: =IF(szeg!Q28<>"",szeg!Q28,"") | T56: =IF(szeg!R28<>"",szeg!R28,"") -> 8 | V56: =IF(szeg!S28<>"",szeg!S28,"") | W56: =IF(szeg!T28<>"",szeg!T28,"") -> 1 | X56: =IF(szeg!U28<>"",szeg!U28,"") -> 1 | Z56: =IF(szeg!V28<>"",szeg!V28,"") -> 2 | AA56: =IF(szeg!W28<>"",szeg!W28,"") -> 7 | AB56: =IF(szeg!X28<>"",szeg!X28,"") | AC56: =IF(szeg!Y28<>"",szeg!Y28,"") | AD56: =IF(szeg!Z28<>"",szeg!Z28,"") -> 1 | AE56: =IF(szeg!AA28<>"",szeg!AA28,"") | AF56: =IF(szeg!AB28<>"",szeg!AB28,"") -> 1 | AG56: =SUM(D56:AF56) -> 54
A57: Pénzforgalom nélküli bevételek | B57: Visegrádi | C57: 9698 | D57: =IF(vis!C29<>"",vis!C29,"") -> 626 | E57: =IF(vis!D29<>"",vis!D29,"") -> 1687 | F57: =IF(vis!E29<>"",vis!E29,"") -> 377 | G57: =IF(vis!F29<>"",vis!F29,"") -> 802 | J57: =IF(vis!G29<>"",vis!G29,"") -> 1099 | L57: =IF(vis!H29<>"",vis!H29,"") -> 2329 | M57: =IF(vis!I29<>"",vis!I29,"") -> 241 | O57: =IF(vis!J29<>"",vis!J29,"") -> 442 | R57: =IF(vis!K29<>"",vis!K29,"") -> 100 | U57: =IF(vis!L29<>"",vis!L29,"") -> 165 | V57: =IF(vis!M29<>"",vis!M29,"") -> 105 | Y57: =IF(vis!N29<>"",vis!N29,"") -> 590 | AG57: =SUM(D57:AF57) -> 8563
B58: Szegedi | D58: =IF(szeg!C29<>"",szeg!C29,"") -> 910 | E58: =IF(szeg!D29<>"",szeg!D29,"") -> 3205 | F58: =IF(szeg!E29<>"",szeg!E29,"") -> 203 | G58: =IF(szeg!F29<>"",szeg!F29,"") -> 299 | H58: =IF(szeg!G29<>"",szeg!G29,"") -> 578 | I58: =IF(szeg!H29<>"",szeg!H29,"") -> 195 | J58: =IF(szeg!I29<>"",szeg!I29,"") -> 1822 | K58: =IF(szeg!J29<>"",szeg!J29,"") -> 5280 | ... Q58: =IF(szeg!P29<>"",szeg!P29,"") -> 23 | S58: =IF(szeg!Q29<>"",szeg!Q29,"") -> 41 | T58: =IF(szeg!R29<>"",szeg!R29,"") -> 42255 | V58: =IF(szeg!S29<>"",szeg!S29,"") -> 38 | W58: =IF(szeg!T29<>"",szeg!T29,"") -> 106 | X58: =IF(szeg!U29<>"",szeg!U29,"") -> 124 | Z58: =IF(szeg!V29<>"",szeg!V29,"") -> 2284 | AA58: =IF(szeg!W29<>"",szeg!W29,"") -> 7410 | AB58: =IF(szeg!X29<>"",szeg!X29,"") -> 43 | AC58: =IF(szeg!Y29<>"",szeg!Y29,"") -> 5 | AD58: =IF(szeg!Z29<>"",szeg!Z29,"") -> 47 | AE58: =IF(szeg!AA29<>"",szeg!AA29,"") -> 279 | AF58: =IF(szeg!AB29<>"",szeg!AB29,"") -> 57 | AG58: =SUM(D58:AF58) -> 71810
A59: Összes bevétel | B59: Visegrádi | D59: =SUM(D45,D51,D55,D57) -> 23473 | E59: =SUM(E45,E51,E55,E57) -> 31050 | F59: =SUM(F45,F51,F55,F57) -> 50810 | G59: =SUM(G45,G51,G55,G57) -> 28685 | H59: =SUM(H45,H51,H55,H57) -> 0 | I59: =SUM(I45,I51,I55,I57) -> 0 | J59: =SUM(J45,J51,J55,J57) -> 44894 | K59: =SUM(K45,K51,K55,K57) -> 0 | ... AG59: =SUM(AG45,AG51,AG55,AG57) -> 330238
B60: Szegedi | D60: =SUM(D46,D52,D56,D58) -> 25122 | E60: =SUM(E46,E52,E56,E58) -> 34773 | F60: =SUM(F46,F52,F56,F58) -> 45816 | G60: =SUM(G46,G52,G56,G58) -> 32979 | H60: =SUM(H46,H52,H56,H58) -> 81017 | I60: =SUM(I46,I52,I56,I58) -> 38044 | J60: =SUM(J46,J52,J56,J58) -> 46514 | K60: =SUM(K46,K52,K56,K58) -> 58975 | ... AG60: =SUM(AG46,AG52,AG56,AG58) -> 1076269
B61: Összesen | D61: =SUM(D59:D60) -> 48595 | E61: =SUM(E59:E60) -> 65823 | F61: =SUM(F59:F60) -> 96626 | G61: =SUM(G59:G60) -> 61664 | H61: =SUM(H59:H60) -> 81017 | I61: =SUM(I59:I60) -> 38044 | J61: =SUM(J59:J60) -> 91408 | K61: =SUM(K59:K60) -> 58975 | ... AG61: =SUM(AG59:AG60) -> 1406507
A62: Eredmény | B62: Visegrádi | D62: =D59-D42 -> -3982 | E62: =E59-E42 -> 1139 | F62: =F59-F42 -> 12168 | G62: =G59-G42 -> -1050 | H62: =H59-H42 -> 0 | I62: =I59-I42 -> 0 | J62: =J59-J42 -> 3735 | K62: =K59-K42 -> 0 | ... O62: =O59-O42 -> 2382 | R62: =R59-R42 -> -318 | T62: =T59-T42 -> 0 | U62: =U59-U42 -> 887 | V62: =V59-V42 -> 68 | Y62: =Y59-Y42 -> 5832 | AG62: =AG59-AG42 -> 28405
B63: Szegedi | D63: =D60-D43 -> -4377 | E63: =E60-E43 -> 3911 | F63: =F60-F43 -> 6293 | G63: =G60-G43 -> -215 | H63: =H60-H43 -> -4856 | I63: =I60-I43 -> 361 | J63: =J60-J43 -> 681 | K63: =K60-K43 -> 2271 | ... Q63: =Q60-Q43 -> 10407 | S63: =S60-S43 -> -3090 | T63: =T60-T43 -> -37861 | V63: =V60-V43 -> 3647 | W63: =W60-W43 -> -12015 | X63: =X60-X43 -> -2097 | Z63: =Z60-Z43 -> -10963 | AA63: =AA60-AA43 -> -4734 | AB63: =AB60-AB43 -> -2502 | AC63: =AC60-AC43 -> 1427 | AD63: =AD60-AD43 -> 50315 | AE63: =AE60-AE43 -> -160 | AF63: =AF60-AF43 -> -8947 | AG63: =AG60-AG43 -> -41167
B64: Összesen | D64: =D61-D44 -> -8359 | E64: =E61-E44 -> 5050 | F64: =F61-F44 -> 18461 | G64: =G61-G44 -> -1265 | H64: =H61-H44 -> -4856 | I64: =I61-I44 -> 361 | J64: =J61-J44 -> 4416 | K64: =K61-K44 -> 2271 | ... AG64: =AG61-AG44 -> -12762

Sheet 2016.év
B1: Költségadatok | N1: Bevételek
B2: Anyagktg. | C2: Igénybevett szolgáltatás | D2: Egyéb szolgáltatás, és eladott (közvetített szolg.) értéke | E2: Bérköltség | F2: Személyi jellegű egyéb kifiz. | G2: Bérjárulékok | H2: ÉCS | I2: Eladott közvetített szolg. értéke | L2: Egyéb ráfordítások | M2: Összes ráfordítás | N2: Értékesítés nettó árbevétele | O2: -ebből OEP finanszírozás (vizitdíjjal együtt) | P2: Saját bevétel | Q2: Egyéb bevételek | R2: -ebből Önkormányzati Támogatás | S2: Pénzügyi műveletek bevételei | T2: Pénzforgalom nélküli bevételek | U2: Összes bevétel | V2: Eredmény
U3: összesen | V3: Bev-Kiad.
B4: 51 | C4: 52 | D4: 53 | E4: 54 | F4: 55 | G4: 56 | H4: 57 | I4: 815 | L4: 86 | N4: 91-94 | O4: 9117 | P4: (91-94)-9117 | Q4: 96 (-9698) | R4: 9635 | S4: 97 | T4: 9698
A5: Felnőtt és gyermekügy.
A6: közvetlen | B6: 10 | C6: 74702 | H6: 187 | I6: 4176 | M6: =SUM(B6:L6) -> 79075 | N6: 76763 | O6: 72052 | P6: =N6-O6 -> 4711 | Q6: =9784-533 -> 9251 | R6: 9190 | S6: 4 | T6: 533 | U6: =SUM(N6,Q6,S6,T6) -> 86551
A7: közvetett | B7: 81 | C7: 1396 | D7: =364-5 -> 359 | E7: 8205 | F7: 208 | G7: 2393 | H7: 84 | I7: 5 | L7: 111 | M7: =SUM(B7:L7) -> 12842
A8: - ebből igazgatás | B8: 63 | C8: 1347 | D8: =350-5 -> 345 | E8: 3647 | F8: 208 | G8: 1273 | H8: 35 | I8: 5 | M8: =SUM(B8:L8) -> 6923
A9: értékadatok e Ft-ban | B9: =SUM(B6:B7) -> 91 | C9: =SUM(C6:C7) -> 76098 | D9: =SUM(D6:D7) -> 359 | E9: =SUM(E6:E7) -> 8205 | F9: =SUM(F6:F7) -> 208 | G9: =SUM(G6:G7) -> 2393 | H9: =SUM(H6:H7) -> 271 | I9: =SUM(I6:I7) -> 4181 | ... L9: =SUM(L6:L7) -> 111 | M9: =SUM(B9:L9) -> 91917 | N9: =SUM(N6) -> 76763 | O9: =SUM(O6) -> 72052 | P9: =SUM(P6) -> 4711 | Q9: =SUM(Q6) -> 9251 | R9: =SUM(R6) -> 9190 | S9: =SUM(S6) -> 4 | T9: =SUM(T6) -> 533 | U9: =SUM(N9,Q9,S9,T9) -> 86551 | V9: =U9-M9 -> -5366
A11: Sportovos
A12: közvetlen | B12: 10 | C12: 572 | H12: 16 | I12: 1 | M12: =SUM(B12:L12) -> 599 | N12: 46 | P12: =N12-O12 -> 46 | Q12: =59-3 -> 56 | R12: 56 | T12: 3 | U12: =SUM(N12,Q12,S12,T12) -> 105
A13: közvetett | B13: 1 | C13: 10 | D13: 3 | E13: 28 | F13: 2 | G13: 10 | L13: 1 | M13: =SUM(B13:L13) -> 55
A14: - ebből igazgatás | B14: 1 | C14: 10 | D14: 3 | E14: 28 | F14: 1 | G14: 10 | M14: =SUM(B14:L14) -> 53
A15: értékadatok e Ft-ban | B15: =SUM(B12:B13) -> 11 | C15: =SUM(C12:C13) -> 582 | D15: =SUM(D12:D13) -> 3 | E15: =SUM(E12:E13) -> 28 | F15: =SUM(F12:F13) -> 2 | G15: =SUM(G12:G13) -> 10 | H15: =SUM(H12:H13) -> 16 | I15: =SUM(I12:I13) -> 1 | L15: =SUM(L12:L13) -> 1 | M15: =SUM(B15:L15) -> 654 | N15: =SUM(N12) -> 46 | O15: =SUM(O12) -> 0 | P15: =SUM(P12) -> 46 | Q15: =SUM(Q12) -> 56 | R15: =SUM(R12) -> 56 | S15: =SUM(S12) -> 0 | T15: =SUM(T12) -> 3 | U15: =SUM(N15,Q15,S15,T15) -> 105 | V15: =U15-M15 -> -549
A17: Házi szakáp.
A18: közvetlen | B18: 70 | C18: 6326 | D18: 12 | E18: 3869 | F18: 216 | G18: 1101 | H18: 84 | I18: 7 | M18: =SUM(B18:L18) -> 11685 | N18: 7114 | O18: 7087 | P18: =N18-O18 -> 27 | Q18: =1055-50 -> 1005 | R18: 996 | T18: 50 | U18: =SUM(N18,Q18,S18,T18) -> 8169
A19: közvetett | B19: 12 | C19: 203 | D19: =54-1 -> 53 | E19: 535 | F19: 30 | G19: 186 | H19: 13 | I19: 1 | L19: 15 | M19: =SUM(B19:L19) -> 1048
A20: - ebből igazgatás | B20: 9 | C20: 196 | D20: =52-1 -> 51 | E20: 535 | F20: 30 | G20: 186 | H20: 5 | I20: 1 | M20: =SUM(B20:L20) -> 1013
A21: értékadatok e Ft-ban | B21: =SUM(B18:B19) -> 82 | C21: =SUM(C18:C19) -> 6529 | D21: =SUM(D18:D19) -> 65 | E21: =SUM(E18:E19) -> 4404 | F21: =SUM(F18:F19) -> 246 | G21: =SUM(G18:G19) -> 1287 | H21: =SUM(H18:H19) -> 97 | I21: =SUM(I18:I19) -> 8 | L21: =SUM(L18:L19) -> 15 | M21: =SUM(B21:L21) -> 12733 | N21: =SUM(N18) -> 7114 | O21: =SUM(O18) -> 7087 | P21: =SUM(P18) -> 27 | Q21: =SUM(Q18) -> 1005 | R21: =SUM(R18) -> 996 | S21: =SUM(S18) -> 0 | T21: =SUM(T18) -> 50 | U21: =SUM(N21,Q21,S21,T21) -> 8169 | V21: =U21-M21 -> -4564
A23: Járóbeteg
A24: közvetlen | B24: 180754 | C24: 143723 | D24: 2374 | E24: 637237 | F24: 32971 | G24: 165406 | H24: 91139 | I24: 20 | M24: =SUM(B24:L24) -> 1253624 | N24: 1212129 | O24: 1188701 | P24: =N24-O24 -> 23428 | Q24: =194309-80373 -> 113936 | R24: 112829 | S24: 69 | T24: 80373 | U24: =SUM(N24,Q24,S24,T24) -> 1406507
A25: közvetett | B25: 5934 | C25: 23719 | D25: =5776-80 -> 5696 | E25: 89012 | F25: 5288 | G25: 27610 | H25: 6591 | I25: 80 | L25: 1715 | M25: =SUM(B25:L25) -> 165645
A26: - ebből igazgatás | B26: 997 | C26: 21283 | D26: =5549-75 -> 5474 | E26: 57720 | F26: 3278 | G26: 20143 | H26: 556 | I26: 75 | M26: =SUM(B26:L26) -> 109526
A27: értékadatok e Ft-ban | B27: =SUM(B24:B25) -> 186688 | C27: =SUM(C24:C25) -> 167442 | D27: =SUM(D24:D25) -> 8070 | E27: =SUM(E24:E25) -> 726249 | F27: =SUM(F24:F25) -> 38259 | G27: =SUM(G24:G25) -> 193016 | H27: =SUM(H24:H25) -> 97730 | I27: =SUM(I24:I25) -> 100 | L27: =SUM(L24:L25) -> 1715 | M27: =SUM(B27:L27) -> 1419269 | N27: =SUM(N24) -> 1212129 | O27: =SUM(O24) -> 1188701 | P27: =SUM(P24) -> 23428 | Q27: =SUM(Q24) -> 113936 | R27: =SUM(R24) -> 112829 | S27: =SUM(S24) -> 69 | T27: =SUM(T24) -> 80373 | U27: =SUM(N27,Q27,S27,T27) -> 1406507 | V27: =U27-M27 -> -12762
A29: Fogászat
A30: közvetlen | B30: 1157 | C30: 14404 | D30: 19 | E30: 9782 | F30: 584 | G30: 2562 | H30: 1012 | M30: =SUM(B30:L30) -> 29520 | N30: 19601 | O30: 19550 | P30: =N30-O30 -> 51 | Q30: =3033-397 -> 2636 | R30: 2614 | S30: 2 | T30: 397 | U30: =SUM(N30,Q30,S30,T30) -> 22636
A31: közvetett | B31: 30 | C31: 519 | D31: =136-2 -> 134 | E31: 1360 | F31: 77 | G31: 475 | H31: 32 | I31: 2 | L31: 39 | M31: =SUM(B31:L31) -> 2668
A32: - ebből igazgatás | B32: 23 | C32: 501 | D32: =131-2 -> 129 | E32: 1360 | F32: 77 | G32: 475 | H32: 13 | I32: 2 | M32: =SUM(B32:L32) -> 2580
A33: értékadatok e Ft-ban | B33: =SUM(B30:B31) -> 1187 | C33: =SUM(C30:C31) -> 14923 | D33: =SUM(D30:D31) -> 153 | E33: =SUM(E30:E31) -> 11142 | F33: =SUM(F30:F31) -> 661 | G33: =SUM(G30:G31) -> 3037 | H33: =SUM(H30:H31) -> 1044 | I33: =SUM(I30:I31) -> 2 | L33: =SUM(L30:L31) -> 39 | M33: =SUM(B33:L33) -> 32188 | N33: =SUM(N30) -> 19601 | O33: =SUM(O30) -> 19550 | P33: =SUM(P30) -> 51 | Q33: =SUM(Q30) -> 2636 | R33: =SUM(R30) -> 2614 | S33: =SUM(S30) -> 2 | T33: =SUM(T30) -> 397 | U33: =SUM(N33,Q33,S33,T33) -> 22636 | V33: =U33-M33 -> -9552
A35: Védőnő
A36: közvetlen | B36: 3347 | C36: 20875 | D36: 265 | E36: 149828 | F36: 6687 | G36: 38812 | H36: 7211 | I36: 358 | M36: =SUM(B36:L36) -> 227383 | N36: 221070 | O36: 220334 | P36: =N36-O36 -> 736 | Q36: =26052-6950 -> 19102 | R36: 18937 | S36: 11 | T36: 6950 | U36: =SUM(N36,Q36,S36,T36) -> 247133
A37: közvetett | B37: 227 | C37: 3888 | D37: =1029-13 -> 1016 | E37: 10239 | F37: 570 | G37: 3568 | H37: 240 | I37: 13 | L37: 299 | M37: =SUM(B37:L37) -> 20060
A38: - ebből igazgatás | B38: 176 | C38: 3749 | D38: =990-13 -> 977 | E38: 10239 | F38: 570 | G38: 3568 | H38: 99 | I38: 13 | M38: =SUM(B38:L38) -> 19391
A39: értékadatok e Ft-ban | B39: =SUM(B36:B37) -> 3574 | C39: =SUM(C36:C37) -> 24763 | D39: =SUM(D36:D37) -> 1281 | E39: =SUM(E36:E37) -> 160067 | F39: =SUM(F36:F37) -> 7257 | G39: =SUM(G36:G37) -> 42380 | H39: =SUM(H36:H37) -> 7451 | I39: =SUM(I36:I37) -> 371 | L39: =SUM(L36:L37) -> 299 | M39: =SUM(B39:L39) -> 247443 | N39: =SUM(N36) -> 221070 | O39: =SUM(O36) -> 220334 | P39: =SUM(P36) -> 736 | Q39: =SUM(Q36) -> 19102 | R39: =SUM(R36) -> 18937 | S39: =SUM(S36) -> 11 | T39: =SUM(T36) -> 6950 | U39: =SUM(N39,Q39,S39,T39) -> 247133 | V39: =U39-M39 -> -310
A41: Iskolaeü.
A42: közvetlen | C42: 9 | D42: 25 | E42: 28240 | F42: 522 | G42: 7104 | L42: 2527 | M42: =SUM(B42:L42) -> 38427 | N42: 38734 | O42: 38671 | P42: =N42-O42 -> 63 | Q42: =3423-165 -> 3258 | R42: 3231 | S42: 2 | T42: 165 | U42: =SUM(N42,Q42,S42,T42) -> 42159
A43: közvetett | B43: 37 | C43: 631 | D43: =166-2 -> 164 | E43: 3883 | F43: 93 | G43: 1124 | H43: 38 | I43: 2 | L43: 51 | M43: =SUM(B43:L43) -> 6023
A44: - ebből igazgatás | B44: 29 | C44: 610 | D44: =159-2 -> 157 | E44: 1653 | F44: 93 | G44: 577 | H44: 16 | I44: 2 | M44: =SUM(B44:L44) -> 3137
A45: értékadatok e Ft-ban | B45: =SUM(B42:B43) -> 37 | C45: =SUM(C42:C43) -> 640 | D45: =SUM(D42:D43) -> 189 | E45: =SUM(E42:E43) -> 32123 | F45: =SUM(F42:F43) -> 615 | G45: =SUM(G42:G43) -> 8228 | H45: =SUM(H42:H43) -> 38 | I45: =SUM(I42:I43) -> 2 | L45: =SUM(L42:L43) -> 2578 | M45: =SUM(B45:L45) -> 44450 | N45: =SUM(N42) -> 38734 | O45: =SUM(O42) -> 38671 | P45: =SUM(P42) -> 63 | Q45: =SUM(Q42) -> 3258 | R45: =SUM(R42) -> 3231 | S45: =SUM(S42) -> 2 | T45: =SUM(T42) -> 165 | U45: =SUM(N45,Q45,S45,T45) -> 42159 | V45: =U45-M45 -> -2291
A47: Munkaeü.
A48: közvetlen | B48: 243 | C48: 11234 | E48: 374 | G48: 91 | H48: 57 | M48: =SUM(B48:L48) -> 11999 | N48: 17755 | P48: =N48-O48 -> 17755 | Q48: =47-39 -> 8 | S48: 1 | T48: 39 | U48: =SUM(N48,Q48,S48,T48) -> 17803
A49: közvetett | B49: 12 | C49: 213 | D49: 55 | E49: 555 | F49: 32 | G49: 194 | H49: 13 | L49: 16 | M49: =SUM(B49:L49) -> 1090
A50: - ebből igazgatás | B50: 10 | C50: 205 | D50: 53 | E50: 555 | F50: 32 | G50: 194 | H50: 6 | M50: =SUM(B50:L50) -> 1055
A51: értékadatok e Ft-ban | B51: =SUM(B48:B49) -> 255 | C51: =SUM(C48:C49) -> 11447 | D51: =SUM(D48:D49) -> 55 | E51: =SUM(E48:E49) -> 929 | F51: =SUM(F48:F49) -> 32 | G51: =SUM(G48:G49) -> 285 | H51: =SUM(H48:H49) -> 70 | I51: =SUM(I48:I49) -> 0 | L51: =SUM(L48:L49) -> 16 | M51: =SUM(B51:L51) -> 13089 | N51: =SUM(N48) -> 17755 | O51: =SUM(O48) -> 0 | P51: =SUM(P48) -> 17755 | Q51: =SUM(Q48) -> 8 | R51: =SUM(R48) -> 0 | S51: =SUM(S48) -> 1 | T51: =SUM(T48) -> 39 | U51: =SUM(N51,Q51,S51,T51) -> 17803 | V51: =U51-M51 -> 4714
A53: Közhasznú tevékenység
A54: közvetlen | B54: =SUM(B6,B12,B18,B24,B30,B36,B42,B48) -> 185591 | C54: =SUM(C6,C12,C18,C24,C30,C36,C42,C48) -> 271845 | D54: =SUM(D6,D12,D18,D24,D30,D36,D42,D48) -> 2695 | E54: =SUM(E6,E12,E18,E24,E30,E36,E42,E48) -> 829330 | F54: =SUM(F6,F12,F18,F24,F30,F36,F42,F48) -> 40980 | G54: =SUM(G6,G12,G18,G24,G30,G36,G42,G48) -> 215076 | H54: =SUM(H6,H12,H18,H24,H30,H36,H42,H48) -> 99706 | I54: =SUM(I6,I12,I18,I24,I30,I36,I42,I48) -> 4562 | ... L54: =SUM(L6,L12,L18,L24,L30,L36,L42,L48) -> 2527 | M54: =SUM(B54:L54) -> 1652312 | N54: =SUM(N48,N42,N36,N30,N24,N18,N12,N6) -> 1593212 | O54: =SUM(O48,O42,O36,O30,O24,O18,O12,O6) -> 1546395 | P54: =SUM(P48,P42,P36,P30,P24,P18,P12,P6) -> 46817 | Q54: =SUM(Q48,Q42,Q36,Q30,Q24,Q18,Q12,Q6) -> 149252 | R54: =SUM(R48,R42,R36,R30,R24,R18,R12,R6) -> 147853 | S54: =SUM(S48,S42,S36,S30,S24,S18,S12,S6) -> 89 | T54: =SUM(T48,T42,T36,T30,T24,T18,T12,T6) -> 88510 | U54: =SUM(N54,Q54,S54,T54) -> 1831063
A55: közvetett | B55: =SUM(B7,B13,B19,B25,B31,B37,B43,B49) -> 6334 | C55: =SUM(C7,C13,C19,C25,C31,C37,C43,C49) -> 30579 | D55: =SUM(D7,D13,D19,D25,D31,D37,D43,D49) -> 7480 | E55: =SUM(E7,E13,E19,E25,E31,E37,E43,E49) -> 113817 | F55: =SUM(F7,F13,F19,F25,F31,F37,F43,F49) -> 6300 | G55: =SUM(G7,G13,G19,G25,G31,G37,G43,G49) -> 35560 | H55: =SUM(H7,H13,H19,H25,H31,H37,H43,H49) -> 7011 | I55: =SUM(I7,I13,I19,I25,I31,I37,I43,I49) -> 103 | ... L55: =SUM(L7,L13,L19,L25,L31,L37,L43,L49) -> 2247 | M55: =SUM(B55:L55) -> 209431
A56: - ebből igazgatás | B56: =SUM(B8,B14,B20,B26,B32,B38,B44,B50) -> 1308 | C56: =SUM(C8,C14,C20,C26,C32,C38,C44,C50) -> 27901 | D56: =SUM(D8,D14,D20,D26,D32,D38,D44,D50) -> 7189 | E56: =SUM(E8,E14,E20,E26,E32,E38,E44,E50) -> 75737 | F56: =SUM(F8,F14,F20,F26,F32,F38,F44,F50) -> 4289 | G56: =SUM(G8,G14,G20,G26,G32,G38,G44,G50) -> 26426 | H56: =SUM(H8,H14,H20,H26,H32,H38,H44,H50) -> 730 | I56: =SUM(I8,I20,I26,I32,I38,I44,I50) -> 98 | L56: =SUM(L8,L20,L26,L32,L38,L44,L50) -> 0 | M56: =SUM(B56:L56) -> 143678
A57: Közhasznú tevékenység összesen: | B57: =SUM(B9,B15,B21,B27,B33,B39,B45,B51) -> 191925 | C57: =SUM(C9,C15,C21,C27,C33,C39,C45,C51) -> 302424 | D57: =SUM(D9,D15,D21,D27,D33,D39,D45,D51) -> 10175 | E57: =SUM(E9,E15,E21,E27,E33,E39,E45,E51) -> 943147 | F57: =SUM(F9,F15,F21,F27,F33,F39,F45,F51) -> 47280 | G57: =SUM(G9,G15,G21,G27,G33,G39,G45,G51) -> 250636 | H57: =SUM(H9,H15,H21,H27,H33,H39,H45,H51) -> 106717 | I57: =SUM(I9,I15,I21,I27,I33,I39,I45,I51) -> 4665 | ... L57: =SUM(L9,L15,L21,L27,L33,L39,L45,L51) -> 4774 | M57: =SUM(B57:L57) -> 1861743 | N57: =SUM(N9,N15,N21,N27,N33,N39,N45,N51) -> 1593212 | O57: =SUM(O9,O15,O21,O27,O33,O39,O45,O51) -> 1546395 | P57: =N57-O57 -> 46817 | Q57: =SUM(Q9,Q15,Q21,Q27,Q33,Q39,Q45,Q51) -> 149252 | R57: =SUM(R9,R15,R21,R27,R33,R39,R45,R51) -> 147853 | S57: =SUM(S9,S15,S21,S27,S33,S39,S45,S51) -> 89 | T57: =SUM(T9,T15,T21,T27,T33,T39,T45,T51) -> 88510 | U57: =SUM(U9,U15,U21,U27,U33,U39,U45,U51) -> 1831063 | V57: =SUM(V9,V15,V21,V27,V33,V39,V45,V51) -> -30680
A59: Háziovos
A60: közvetlen | B60: 257 | C60: 48338 | E60: 100 | G60: 24 | H60: 6997 | I60: 345 | L60: 7214 | M60: =SUM(B60:L60) -> 63275 | N60: 68571 | O60: 7214 | P60: =N60-O60 -> 61357 | Q60: =16352-7192 -> 9160 | R60: 9102 | T60: 7192 | U60: =SUM(N60,Q60,S60,T60) -> 84923
A61: közvetett | B61: 163 | C61: 3220 | D61: =884-12 -> 872 | E61: 12776 | F61: 472 | G61: 4047 | H61: 86 | I61: 12 | M61: =SUM(B61:L61) -> 21648
A62: - ebből igazgatás | B62: 152 | C62: 3213 | D62: =876-12 -> 864 | E62: 8929 | F62: 472 | G62: 3101 | H62: 86 | I62: 12 | M62: =SUM(B62:L62) -> 16829
A63: értékadatok e Ft-ban | B63: =SUM(B60:B61) -> 420 | C63: =SUM(C60:C61) -> 51558 | D63: =SUM(D60:D61) -> 872 | E63: =SUM(E60:E61) -> 12876 | F63: =SUM(F60:F61) -> 472 | G63: =SUM(G60:G61) -> 4071 | H63: =SUM(H60:H61) -> 7083 | I63: =SUM(I60:I61) -> 357 | L63: =SUM(L60:L62) -> 7214 | M63: =SUM(B63:L63) -> 84923 | N63: =SUM(N60) -> 68571 | O63: =SUM(O60) -> 7214 | P63: =SUM(P60) -> 61357 | Q63: =SUM(Q60) -> 9160 | R63: =SUM(R60) -> 9102 | S63: =SUM(S60) -> 0 | T63: =SUM(T60) -> 7192 | U63: =SUM(N63,Q63,S63,T63) -> 84923 | V63: =U63-M63 -> 0
A65: Fogászat
A66: közvetlen | C66: 6176 | H66: 1298 | I66: 19 | L66: =2771+2963 -> 5734 | M66: =SUM(B66:L66) -> 13227 | N66: 21146 | O66: 5734 | P66: =N66-O66 -> 15412 | Q66: =1213-1213 -> 0 | T66: 1213 | U66: =SUM(N66,Q66,S66,T66) -> 22359
A67: közvetett | B67: 71 | C67: 1466 | D67: =388-5 -> 383 | E67: 5246 | F67: 223 | G67: 1700 | H67: 38 | I67: 5 | M67: =SUM(B67:L67) -> 9132
A68: - ebből igazgatás | B68: 69 | C68: 1466 | D68: =386-5 -> 381 | E68: 3997 | F68: 223 | G68: 1393 | H68: 38 | I68: 5 | M68: =SUM(B68:L68) -> 7572
A69: értékadatok e Ft-ban | B69: =SUM(B66:B67) -> 71 | C69: =SUM(C66:C67) -> 7642 | D69: =SUM(D66:D67) -> 383 | E69: =SUM(E66:E67) -> 5246 | F69: =SUM(F66:F67) -> 223 | G69: =SUM(G66:G67) -> 1700 | H69: =SUM(H66:H67) -> 1336 | I69: =SUM(I66:I67) -> 24 | L69: =SUM(L66:L68) -> 5734 | M69: =SUM(B69:L69) -> 22359 | N69: =SUM(N66) -> 21146 | O69: =SUM(O66) -> 5734 | P69: =SUM(P66) -> 15412 | Q69: =SUM(Q66) -> 0 | R69: =SUM(R66) -> 0 | S69: =SUM(S66) -> 0 | T69: =SUM(T66) -> 1213 | U69: =SUM(N69,Q69,S69,T69) -> 22359 | V69: =U69-M69 -> 0
A71: Fizikai közérzetjavító
A72: közvetlen | B72: 10 | C72: 659 | E72: 750 | G72: 182 | H72: 201 | I72: 7 | M72: =SUM(B72:L72) -> 1809 | N72: 6 | P72: =N72-O72 -> 6 | Q72: =1803-202 -> 1601 | R72: 1601 | T72: 202 | U72: =SUM(N72,Q72,S72,T72) -> 1809
A73: közvetett | M73: =SUM(B73:L73) -> 0
A74: - ebből igazgatás | M74: =SUM(B74:L74) -> 0
A75: értékadatok e Ft-ban | B75: =SUM(B72:B73) -> 10 | C75: =SUM(C72:C73) -> 659 | D75: =SUM(D72:D73) -> 0 | E75: =SUM(E72:E73) -> 750 | F75: =SUM(F72:F73) -> 0 | G75: =SUM(G72:G73) -> 182 | H75: =SUM(H72:H73) -> 201 | I75: =SUM(I72:I73) -> 7 | L75: =SUM(L72:L74) -> 0 | M75: =SUM(B75:L75) -> 1809 | N75: =SUM(N72) -> 6 | O75: =SUM(O72) -> 0 | P75: =SUM(P72) -> 6 | Q75: =SUM(Q72) -> 1601 | R75: =SUM(R72) -> 1601 | S75: =SUM(S72) -> 0 | T75: =SUM(T72) -> 202 | U75: =SUM(N75,Q75,S75,T75) -> 1809 | V75: =U75-M75 -> 0
A77: Diabetológia kutatás
A78: közvetlen | C78: 241 | E78: 196 | G78: 53 | M78: =SUM(B78:L78) -> 490 | N78: 490 | P78: =N78-O78 -> 490 | U78: =SUM(N78,Q78,S78,T78) -> 490
A79: közvetett | M79: =SUM(B79:L79) -> 0
A80: - ebből igazgatás | M80: =SUM(B80:L80) -> 0
A81: értékadatok e Ft-ban | B81: =SUM(B78:B79) -> 0 | C81: =SUM(C78:C79) -> 241 | D81: =SUM(D78:D79) -> 0 | E81: =SUM(E78:E79) -> 196 | F81: =SUM(F78:F79) -> 0 | G81: =SUM(G78:G79) -> 53 | H81: =SUM(H78:H79) -> 0 | I81: =SUM(I78:I79) -> 0 | L81: =SUM(L78:L80) -> 0 | M81: =SUM(B81:L81) -> 490 | N81: =SUM(N78) -> 490 | O81: =SUM(O78) -> 0 | P81: =SUM(P78) -> 490 | Q81: =SUM(Q78) -> 0 | R81: =SUM(R78) -> 0 | S81: =SUM(S78) -> 0 | T81: =SUM(T78) -> 0 | U81: =SUM(N81,Q81,S81,T81) -> 490 | V81: =U81-M81 -> 0
A83: Társasház
A84: közvetlen | I84: 31 | M84: =SUM(B84:L84) -> 31 | N84: 31 | P84: =N84-O84 -> 31 | U84: =SUM(N84,Q84,S84,T84) -> 31
A85: közvetett | M85: =SUM(B85:L85) -> 0
A86: - ebből igazgatás | M86: =SUM(B86:L86) -> 0
A87: értékadatok e Ft-ban | B87: =SUM(B84:B85) -> 0 | C87: =SUM(C84:C85) -> 0 | D87: =SUM(D84:D85) -> 0 | E87: =SUM(E84:E85) -> 0 | F87: =SUM(F84:F85) -> 0 | G87: =SUM(G84:G85) -> 0 | H87: =SUM(H84:H85) -> 0 | I87: =SUM(I84:I85) -> 31 | L87: =SUM(L84:L86) -> 0 | M87: =SUM(B87:L87) -> 31 | N87: =SUM(N84) -> 31 | O87: =SUM(O84) -> 0 | P87: =SUM(P84) -> 31 | Q87: =SUM(Q84) -> 0 | R87: =SUM(R84) -> 0 | S87: =SUM(S84) -> 0 | T87: =SUM(T84) -> 0 | U87: =SUM(N87,Q87,S87,T87) -> 31 | V87: =U87-M87 -> 0
A89: Ruhatár
A90: közvetlen | B90: 26 | C90: 78 | E90: 193 | G90: 47 | M90: =SUM(B90:L90) -> 344 | N90: 344 | P90: =N90-O90 -> 344 | U90: =SUM(N90,Q90,S90,T90) -> 344
A91: közvetett | M91: =SUM(B91:L91) -> 0
A92: - ebből igazgatás | M92: =SUM(B92:L92) -> 0
A93: értékadatok e Ft-ban | B93: =SUM(B90:B91) -> 26 | C93: =SUM(C90:C91) -> 78 | D93: =SUM(D90:D91) -> 0 | E93: =SUM(E90:E91) -> 193 | F93: =SUM(F90:F91) -> 0 | G93: =SUM(G90:G91) -> 47 | H93: =SUM(H90:H91) -> 0 | I93: =SUM(I90:I91) -> 0 | L93: =SUM(L90:L92) -> 0 | M93: =SUM(B93:L93) -> 344 | N93: =SUM(N90) -> 344 | O93: =SUM(O90) -> 0 | P93: =SUM(P90) -> 344 | Q93: =SUM(Q90) -> 0 | R93: =SUM(R90) -> 0 | S93: =SUM(S90) -> 0 | T93: =SUM(T90) -> 0 | U93: =SUM(N93,Q93,S93,T93) -> 344 | V93: =U93-M93 -> 0
A95: Vállalkozói egyéb tevékenység (helységbérlet):
A96: közvetlen | C96: 4744 | I96: 3164 | M96: =SUM(B96:L96) -> 7908 | N96: 33689 | P96: =N96-O96 -> 33689 | U96: =SUM(N96,Q96,S96,T96) -> 33689
A97: közvetett | B97: 234 | C97: 4974 | D97: =1320-18 -> 1302 | E97: 13624 | F97: 752 | G97: 4745 | H97: 132 | I97: 18 | M97: =SUM(B97:L97) -> 25781
A98: - ebből igazgatás | B98: 234 | C98: 4974 | D98: 1302 | E98: 13624 | F98: 752 | G98: 4745 | H98: 132 | I98: 18 | M98: =SUM(B98:L98) -> 25781
A99: értékadatok e Ft-ban | B99: =SUM(B96:B97) -> 234 | C99: =SUM(C96:C97) -> 9718 | D99: =SUM(D96:D97) -> 1302 | E99: =SUM(E96:E97) -> 13624 | F99: =SUM(F96:F97) -> 752 | G99: =SUM(G96:G97) -> 4745 | H99: =SUM(H96:H97) -> 132 | I99: =SUM(I96:I97) -> 3182 | ... L99: =SUM(L96:L97) -> 0 | M99: =SUM(B99:L99) -> 33689 | N99: =SUM(N96) -> 33689 | O99: =SUM(O96) -> 0 | P99: =SUM(P96) -> 33689 | Q99: =SUM(Q96) -> 0 | R99: =SUM(R96) -> 0 | S99: =SUM(S96) -> 0 | T99: =SUM(T96) -> 0 | U99: =SUM(N99,Q99,S99,T99) -> 33689 | V99: =U99-M99 -> 0
A101: Összes vállalkozói tevékenység
A102: közvetlen | B102: =SUM(B96,B90,B78,B72,B66,B60,B84) -> 293 | C102: =SUM(C96,C90,C78,C72,C66,C60,C84) -> 60236 | D102: =SUM(D96,D90,D78,D72,D66,D60,D84) -> 0 | E102: =SUM(E96,E90,E78,E72,E66,E60,E84) -> 1239 | F102: =SUM(F96,F90,F78,F72,F66,F60,F84) -> 0 | G102: =SUM(G96,G90,G78,G72,G66,G60,G84) -> 306 | H102: =SUM(H96,H90,H78,H72,H66,H60,H84) -> 8496 | I102: =SUM(I96,I90,I78,I72,I66,I60,I84) -> 3566 | ... L102: =SUM(L96,L90,L78,L72,L66,L60,L84) -> 12948 | M102: =SUM(B102:L102) -> 87084 | N102: =SUM(N96,N90,N78,N72,N66,N60,N84) -> 124277 | O102: =SUM(O96,O90,O78,O72,O66,O60,O84) -> 12948 | P102: =SUM(P96,P90,P78,P72,P66,P60,P84) -> 111329 | Q102: =SUM(Q96,Q90,Q78,Q72,Q66,Q60,Q84) -> 10761 | R102: =SUM(R96,R90,R78,R72,R66,R60,R84) -> 10703 | S102: =SUM(S96,S90,S78,S72,S66,S60,S84) -> 0 | T102: =SUM(T96,T90,T78,T72,T66,T60,T84) -> 8607 | U102: =SUM(N102,Q102,S102,T102) -> 143645
A103: közvetett | B103: =SUM(B97,B91,B79,B73,B67,B61,B85) -> 468 | C103: =SUM(C97,C91,C79,C73,C67,C61,C85) -> 9660 | D103: =SUM(D97,D91,D79,D73,D67,D61,D85) -> 2557 | E103: =SUM(E97,E91,E79,E73,E67,E61,E85) -> 31646 | F103: =SUM(F97,F91,F79,F73,F67,F61,F85) -> 1447 | G103: =SUM(G97,G91,G79,G73,G67,G61,G85) -> 10492 | H103: =SUM(H97,H91,H79,H73,H67,H61,H85) -> 256 | I103: =SUM(I97,I91,I79,I73,I67,I61,I85) -> 35 | ... L103: =SUM(L97,L91,L79,L73,L67,L61,L85) -> 0 | M103: =SUM(B103:L103) -> 56561 | N103: =SUM(N7,N91,N79,N73,N67,N61,N85) -> 0 | O103: =SUM(O97,O91,O79,O73,O67,O61,O85) -> 0 | P103: =SUM(P97,P91,P79,P73,P67,P61,P85) -> 0 | Q103: =SUM(Q97,Q91,Q79,Q73,Q67,Q61,Q85) -> 0 | R103: =SUM(R97,R91,R79,R73,R67,R61,R85) -> 0 | S103: =SUM(S97,S91,S79,S73,S67,S61,S85) -> 0 | T103: =SUM(T97,T91,T79,T73,T67,T61,T85) -> 0
A104: - ebből igazgatás | B104: =SUM(B98,B92,B80,B74,B68,B62,B86) -> 455 | C104: =SUM(C98,C92,C80,C74,C68,C62,C86) -> 9653 | D104: =SUM(D98,D92,D80,D74,D68,D62,D86) -> 2547 | E104: =SUM(E98,E92,E80,E74,E68,E62,E86) -> 26550 | F104: =SUM(F98,F92,F80,F74,F68,F62,F86) -> 1447 | G104: =SUM(G98,G92,G80,G74,G68,G62,G86) -> 9239 | H104: =SUM(H98,H92,H80,H74,H68,H62,H86) -> 256 | I104: =SUM(I98,I92,I80,I74,I68,I62,I86) -> 35 | ... L104: =SUM(L98,L92,L80,L74,L68,L62,L86) -> 0 | M104: =SUM(B104:L104) -> 50182 | N104: =SUM(N98,N92,N80,N74,N68,N62,N86) -> 0 | O104: =SUM(O98,O92,O80,O74,O68,O62,O86) -> 0 | P104: =SUM(P98,P92,P80,P74,P68,P62,P86) -> 0 | Q104: =SUM(Q98,Q92,Q80,Q74,Q68,Q62,Q86) -> 0 | R104: =SUM(R98,R92,R80,R74,R68,R62,R86) -> 0 | S104: =SUM(S98,S92,S80,S74,S68,S62,S86) -> 0 | T104: =SUM(T98,T92,T80,T74,T68,T62,T86) -> 0
A105: értékadatok e Ft-ban | B105: =SUM(B102:B103) -> 761 | C105: =SUM(C102:C103) -> 69896 | D105: =SUM(D102:D103) -> 2557 | E105: =SUM(E102:E103) -> 32885 | F105: =SUM(F102:F103) -> 1447 | G105: =SUM(G102:G103) -> 10798 | H105: =SUM(H102:H103) -> 8752 | I105: =SUM(I102:I103) -> 3601 | ... L105: =SUM(L102:L103) -> 12948 | M105: =SUM(B105:L105) -> 143645 | N105: =SUM(N102) -> 124277 | O105: =SUM(O102) -> 12948 | P105: =SUM(P102) -> 111329 | Q105: =SUM(Q102) -> 10761 | R105: =SUM(R102) -> 10703 | S105: =SUM(S102) -> 0 | T105: =SUM(T102) -> 8607 | U105: =SUM(N105,Q105,S105,T105) -> 143645 | V105: =U105-M105 -> 0
A107: Intézményi adatok összesen: | B107: =SUM(B57,B105) -> 192686 | C107: =SUM(C57,C105) -> 372320 | D107: =SUM(D57,D105) -> 12732 | E107: =SUM(E57,E105) -> 976032 | F107: =SUM(F57,F105) -> 48727 | G107: =SUM(G57,G105) -> 261434 | H107: =SUM(H57,H105) -> 115469 | I107: =SUM(I57,I105) -> 8266 | J107: =SUM(J57,J99,J63,J69,J81,J75,J93) -> 0 | K107: =SUM(K57,K99,K63,K69,K81,K75,K93) -> 0 | L107: =SUM(L57,L99,L63,L69,L81,L75,L93) -> 17722 | M107: =SUM(M57,M99,M63,M69,M81,M75,M93) -> 2005357 | N107: =SUM(N57,N105) -> 1717489 | O107: =SUM(O57,O105) -> 1559343 | P107: =SUM(P57,P105) -> 158146 | Q107: =SUM(Q57,Q105) -> 160013 | R107: =SUM(R57,R105) -> 158556 | S107: =SUM(S57,S105) -> 89 | T107: =SUM(T57,T105) -> 97117 | U107: =SUM(U57,U105) -> 1974708 | V107: =SUM(V57,V99,V63,V69,V81,V75,V93) -> -30680
A108: 2016.évi terv | B108: 189000 | C108: 353240 | D108: 10000 | E108: 923454 | F108: 45770 | G108: 253636 | H108: 125000 | I108: 6000 | L108: 11900 | M108: =SUM(B108:L108) -> 1918000 | N108: 1652000 | O108: 1486500 | P108: =N108-O108 -> 165500 | Q108: 140700 | R108: 140000 | S108: 300 | T108: 90000 | U108: =SUM(N108,Q108,S108,T108) -> 1883000 | V108: =U108-M108 -> -35000
A109: index% | C109: =C107/C108*100 -> 105.40143 | D109: =D107/D108*100 -> 127.32 | E109: =E107/E108*100 -> 105.69362 | F109: =F107/F108*100 -> 106.46056 | G109: =G107/G108*100 -> 103.07448 | H109: =H107/H108*100 -> 92.3752 | I109: =I107/I108*100 -> 137.76667 | L109: =L107/L108*100 -> 148.92437 | M109: =M107/M108*100 -> 104.55459 | N109: =N107/N108*100 -> 103.96423 | O109: =O107/O108*100 -> 104.9003 | P109: =P107/P108*100 -> 95.556495 | Q109: =Q107/Q108*100 -> 113.72637 | R109: =R107/R108*100 -> 113.25429 | S109: =S107/S108*100 -> 29.666667 | ... U109: =U107/U108*100 -> 104.87031
